BEGIN:VCALENDAR
VERSION:2.0
PRODID:-//Houston Herald - ECPv6.15.20//NONSGML v1.0//EN
CALSCALE:GREGORIAN
METHOD:PUBLISH
X-WR-CALNAME:Houston Herald
X-ORIGINAL-URL:https://houstonherald.com
X-WR-CALDESC:Events for Houston Herald
REFRESH-INTERVAL;VALUE=DURATION:PT1H
X-Robots-Tag:noindex
X-PUBLISHED-TTL:PT1H
BEGIN:VTIMEZONE
TZID:America/Chicago
BEGIN:DAYLIGHT
TZOFFSETFROM:-0600
TZOFFSETTO:-0500
TZNAME:CDT
DTSTART:20210314T080000
END:DAYLIGHT
BEGIN:STANDARD
TZOFFSETFROM:-0500
TZOFFSETTO:-0600
TZNAME:CST
DTSTART:20211107T070000
END:STANDARD
BEGIN:DAYLIGHT
TZOFFSETFROM:-0600
TZOFFSETTO:-0500
TZNAME:CDT
DTSTART:20220313T080000
END:DAYLIGHT
BEGIN:STANDARD
TZOFFSETFROM:-0500
TZOFFSETTO:-0600
TZNAME:CST
DTSTART:20221106T070000
END:STANDARD
BEGIN:DAYLIGHT
TZOFFSETFROM:-0600
TZOFFSETTO:-0500
TZNAME:CDT
DTSTART:20230312T080000
END:DAYLIGHT
BEGIN:STANDARD
TZOFFSETFROM:-0500
TZOFFSETTO:-0600
TZNAME:CST
DTSTART:20231105T070000
END:STANDARD
END:VTIMEZONE
BEGIN:VTIMEZONE
TZID:UTC
BEGIN:STANDARD
TZOFFSETFROM:+0000
TZOFFSETTO:+0000
TZNAME:UTC
DTSTART:20210101T000000
END:STANDARD
END:VTIMEZONE
BEGIN:VTIMEZONE
TZID:America/Chicago
BEGIN:DAYLIGHT
TZOFFSETFROM:-0600
TZOFFSETTO:-0500
TZNAME:CDT
DTSTART:20210314T080000
END:DAYLIGHT
BEGIN:STANDARD
TZOFFSETFROM:-0500
TZOFFSETTO:-0600
TZNAME:CST
DTSTART:20211107T070000
END:STANDARD
BEGIN:DAYLIGHT
TZOFFSETFROM:-0600
TZOFFSETTO:-0500
TZNAME:CDT
DTSTART:20220313T080000
END:DAYLIGHT
BEGIN:STANDARD
TZOFFSETFROM:-0500
TZOFFSETTO:-0600
TZNAME:CST
DTSTART:20221106T070000
END:STANDARD
BEGIN:DAYLIGHT
TZOFFSETFROM:-0600
TZOFFSETTO:-0500
TZNAME:CDT
DTSTART:20230312T080000
END:DAYLIGHT
BEGIN:STANDARD
TZOFFSETFROM:-0500
TZOFFSETTO:-0600
TZNAME:CST
DTSTART:20231105T070000
END:STANDARD
END:VTIMEZONE
BEGIN:VEVENT
DTSTART;TZID=America/Chicago:20220818T130000
DTEND;TZID=America/Chicago:20220818T130000
DTSTAMP:20260421T144651
CREATED:20200713T192312Z
LAST-MODIFIED:20200713T192312Z
UID:10009115-1660827600-1660827600@houstonherald.com
SUMMARY:Piney River Quilt Guild
DESCRIPTION:Piney River Quilt Guild meets at 1:00pm in the basement at the United Methodist Church in Houston\, MO
URL:https://houstonherald.com/event/piney-river-quilt-guild/2022-08-18/
LOCATION:Houston Methodist Church\, 422 Hawthorn St\, Houston\, MO\, 65483
END:VEVENT
BEGIN:VEVENT
DTSTART;TZID=UTC:20220818T173000
DTEND;TZID=UTC:20220818T190000
DTSTAMP:20260421T144651
CREATED:20200720T173153Z
LAST-MODIFIED:20220603T130252Z
UID:10013218-1660843800-1660849200@houstonherald.com
SUMMARY:Texas County Democratic monthly meeting
DESCRIPTION:The Texas County Democratic Central Committee meeting is Thursday\, June 16\, in the meeting room on the lower level of the Texas County Administrative Center starting at 5:30 p.m. All are welcome.  \n\n\n\n\n\n\n\n\n\n\n\n\n\n\n\n 
URL:https://houstonherald.com/event/texas-county-democratic-monthly-meeting/2022-08-18/
LOCATION:Texas County Administrative Center\, 519 N. Grand Ave.\, Houston\, MO\, 65483\, United States
END:VEVENT
BEGIN:VEVENT
DTSTART;TZID=UTC:20220818T180000
DTEND;TZID=UTC:20220818T210000
DTSTAMP:20260421T144651
CREATED:20200720T165246Z
LAST-MODIFIED:20200720T172818Z
UID:10012384-1660845600-1660856400@houstonherald.com
SUMMARY:Texas County Republican monthly meeting
DESCRIPTION:Texas County Republicans monthly meeting is the third Thursday of each month at the Houston Lions Club.  Potluck at 6:00 p.m.; Meeting at 7:00 p.m.   \n\n\n\nContact:   \n\n\n\nDiane Krantz 417-967-4699bkdk417@centurytel.net
URL:https://houstonherald.com/event/texas-county-republican-monthly-meeting/2022-08-18/
LOCATION:Houston Lion’s Club\, 1565 Highway 63\, Houston\, 65483
END:VEVENT
BEGIN:VEVENT
DTSTART;TZID=America/Chicago:20220818T190000
DTEND;TZID=America/Chicago:20220818T190000
DTSTAMP:20260421T144651
CREATED:20200713T201521Z
LAST-MODIFIED:20200713T201521Z
UID:10010247-1660849200-1660849200@houstonherald.com
SUMMARY:AA meeting
DESCRIPTION:AA meeting is 7:00pm every Thursday at 511 S. First Street\, Houston\, MO.
URL:https://houstonherald.com/event/aa-meeting/2022-08-18/
LOCATION:AA/NA meeting location\, 511 S. First Street\, Houston\, MO\, 65483
END:VEVENT
BEGIN:VEVENT
DTSTART;TZID=America/Chicago:20220818T190000
DTEND;TZID=America/Chicago:20220818T210000
DTSTAMP:20260421T144651
CREATED:20220726T201008Z
LAST-MODIFIED:20220726T201008Z
UID:10012554-1660849200-1660856400@houstonherald.com
SUMMARY:HHS Band Ice Cream Social
DESCRIPTION:The Houston High School band is hosting its third annual Ice Cream Social beginning at 7 p.m. Friday\, Aug. 18\, on the lawn in front of the New Gym on campus. \nTreats will be available to purchase from Custard by C-Sue and Keep it Classic Ice\nCream from band member Max Bittle. Tickets will also be available to purchase that\nnight for the Houston Community Night in September at the Springfield Cardinals. \nThe band\, under the direction of Sam Van Dielen\, will perform beginning around 7:45 p.m. The performance will be the debut of the 2022 show “A Place I Know.” \nThose attending should bring cash for any purchases and a lawn chair.
URL:https://houstonherald.com/event/hhs-band-ice-cream-social/
LOCATION:Houston New Gym\, 423 W. Pine St.\, Houston\, MO\, 65483\, United States
END:VEVENT
END:VCALENDAR