BEGIN:VCALENDAR
VERSION:2.0
PRODID:-//Houston Herald - ECPv6.15.20//NONSGML v1.0//EN
CALSCALE:GREGORIAN
METHOD:PUBLISH
X-WR-CALNAME:Houston Herald
X-ORIGINAL-URL:https://houstonherald.com
X-WR-CALDESC:Events for Houston Herald
REFRESH-INTERVAL;VALUE=DURATION:PT1H
X-Robots-Tag:noindex
X-PUBLISHED-TTL:PT1H
BEGIN:VTIMEZONE
TZID:America/Chicago
BEGIN:DAYLIGHT
TZOFFSETFROM:-0600
TZOFFSETTO:-0500
TZNAME:CDT
DTSTART:20250309T080000
END:DAYLIGHT
BEGIN:STANDARD
TZOFFSETFROM:-0500
TZOFFSETTO:-0600
TZNAME:CST
DTSTART:20251102T070000
END:STANDARD
BEGIN:DAYLIGHT
TZOFFSETFROM:-0600
TZOFFSETTO:-0500
TZNAME:CDT
DTSTART:20260308T080000
END:DAYLIGHT
BEGIN:STANDARD
TZOFFSETFROM:-0500
TZOFFSETTO:-0600
TZNAME:CST
DTSTART:20261101T070000
END:STANDARD
BEGIN:DAYLIGHT
TZOFFSETFROM:-0600
TZOFFSETTO:-0500
TZNAME:CDT
DTSTART:20270314T080000
END:DAYLIGHT
BEGIN:STANDARD
TZOFFSETFROM:-0500
TZOFFSETTO:-0600
TZNAME:CST
DTSTART:20271107T070000
END:STANDARD
END:VTIMEZONE
BEGIN:VTIMEZONE
TZID:America/Chicago
BEGIN:DAYLIGHT
TZOFFSETFROM:-0600
TZOFFSETTO:-0500
TZNAME:CDT
DTSTART:20250309T080000
END:DAYLIGHT
BEGIN:STANDARD
TZOFFSETFROM:-0500
TZOFFSETTO:-0600
TZNAME:CST
DTSTART:20251102T070000
END:STANDARD
BEGIN:DAYLIGHT
TZOFFSETFROM:-0600
TZOFFSETTO:-0500
TZNAME:CDT
DTSTART:20260308T080000
END:DAYLIGHT
BEGIN:STANDARD
TZOFFSETFROM:-0500
TZOFFSETTO:-0600
TZNAME:CST
DTSTART:20261101T070000
END:STANDARD
BEGIN:DAYLIGHT
TZOFFSETFROM:-0600
TZOFFSETTO:-0500
TZNAME:CDT
DTSTART:20270314T080000
END:DAYLIGHT
BEGIN:STANDARD
TZOFFSETFROM:-0500
TZOFFSETTO:-0600
TZNAME:CST
DTSTART:20271107T070000
END:STANDARD
END:VTIMEZONE
BEGIN:VEVENT
DTSTART;TZID=America/Chicago:20260425T080000
DTEND;TZID=America/Chicago:20260425T090000
DTSTAMP:20260425T183219
CREATED:20251007T150742Z
LAST-MODIFIED:20251007T150742Z
UID:10015036-1777104000-1777107600@houstonherald.com
SUMMARY:Alcoholics Anonymous meeting
DESCRIPTION:Alcoholics Anonymous Meeting 8 a.m. Saturdays at the New Life Ministries Church\, Hwy. 17\, Evening Shade.
URL:https://houstonherald.com/event/alcoholics-anonymous-meeting/2026-04-25/
LOCATION:New Life Ministries\, 13894 Highway 17\, Plato\, MO\, 65557\, United States
END:VEVENT
BEGIN:VEVENT
DTSTART;TZID=America/Chicago:20260425T090000
DTEND;TZID=America/Chicago:20260425T160000
DTSTAMP:20260425T183219
CREATED:20260128T135738Z
LAST-MODIFIED:20260128T135738Z
UID:10015295-1777107600-1777132800@houstonherald.com
SUMMARY:Emmett Kelly Day
DESCRIPTION:First year celebration of Emmett Kelly Day for State of Missouri. Dignataries from the State will kick the morning off recognizing our famous Missouri clown. Parade\, Shriner Clowns\, 5K\, Windjammers\, State Chili Cook Off\, and much more to come.
URL:https://houstonherald.com/event/emmett-kelly-day/
END:VEVENT
BEGIN:VEVENT
DTSTART;TZID=America/Chicago:20260425T143000
DTEND;TZID=America/Chicago:20260425T143000
DTSTAMP:20260425T183219
CREATED:20200713T200514Z
LAST-MODIFIED:20200713T200514Z
UID:10009524-1777127400-1777127400@houstonherald.com
SUMMARY:Fleet Reserve Association Branch 364 & Unit meeting
DESCRIPTION:Fleet Reserve Association Branch 364 & Unit meeting is 2:30pm at the American Legion Hall.
URL:https://houstonherald.com/event/fleet-reserve-association-branch-364-unit-meeting/2026-04-25/
END:VEVENT
BEGIN:VEVENT
DTSTART;TZID=America/Chicago:20260425T183000
DTEND;TZID=America/Chicago:20260425T200000
DTSTAMP:20260425T183219
CREATED:20250926T150911Z
LAST-MODIFIED:20250926T152052Z
UID:10014831-1777141800-1777147200@houstonherald.com
SUMMARY:Bible Prophecy Seminar
DESCRIPTION:Houston Seventh-day Adventist Church in Houston is hosting the Bible Prophecy Seminar “Liberty On The Line” at 6:30 p.m. Oct. 3-12. It’s a 10-part Bible prophecy series presented by Tim Rumsey.
URL:https://houstonherald.com/event/bible-prophecy-seminar/2026-04-25/
LOCATION:Houston Seventh-day Adventist Church\, 756 S Airport Rd\, Houston\, MO\, 65483\, United States
END:VEVENT
END:VCALENDAR