BEGIN:VCALENDAR
VERSION:2.0
PRODID:-//Houston Herald - ECPv6.15.20//NONSGML v1.0//EN
CALSCALE:GREGORIAN
METHOD:PUBLISH
X-WR-CALNAME:Houston Herald
X-ORIGINAL-URL:https://houstonherald.com
X-WR-CALDESC:Events for Houston Herald
REFRESH-INTERVAL;VALUE=DURATION:PT1H
X-Robots-Tag:noindex
X-PUBLISHED-TTL:PT1H
BEGIN:VTIMEZONE
TZID:America/Chicago
BEGIN:DAYLIGHT
TZOFFSETFROM:-0600
TZOFFSETTO:-0500
TZNAME:CDT
DTSTART:20190310T080000
END:DAYLIGHT
BEGIN:STANDARD
TZOFFSETFROM:-0500
TZOFFSETTO:-0600
TZNAME:CST
DTSTART:20191103T070000
END:STANDARD
BEGIN:DAYLIGHT
TZOFFSETFROM:-0600
TZOFFSETTO:-0500
TZNAME:CDT
DTSTART:20200308T080000
END:DAYLIGHT
BEGIN:STANDARD
TZOFFSETFROM:-0500
TZOFFSETTO:-0600
TZNAME:CST
DTSTART:20201101T070000
END:STANDARD
BEGIN:DAYLIGHT
TZOFFSETFROM:-0600
TZOFFSETTO:-0500
TZNAME:CDT
DTSTART:20210314T080000
END:DAYLIGHT
BEGIN:STANDARD
TZOFFSETFROM:-0500
TZOFFSETTO:-0600
TZNAME:CST
DTSTART:20211107T070000
END:STANDARD
END:VTIMEZONE
BEGIN:VEVENT
DTSTART;TZID=America/Chicago:20200702T190000
DTEND;TZID=America/Chicago:20200702T190000
DTSTAMP:20260420T012041
CREATED:20200713T201521Z
LAST-MODIFIED:20200713T201521Z
UID:10010136-1593716400-1593716400@houstonherald.com
SUMMARY:AA meeting
DESCRIPTION:AA meeting is 7:00pm every Thursday at 511 S. First Street\, Houston\, MO.
URL:https://houstonherald.com/event/aa-meeting/2020-07-02/
LOCATION:AA/NA meeting location\, 511 S. First Street\, Houston\, MO\, 65483
END:VEVENT
BEGIN:VEVENT
DTSTART;TZID=America/Chicago:20200702T190000
DTEND;TZID=America/Chicago:20200702T190000
DTSTAMP:20260420T012041
CREATED:20200713T191119Z
LAST-MODIFIED:20200713T191119Z
UID:10008798-1593716400-1593716400@houstonherald.com
SUMMARY:Tyrone Fire Department meeting
DESCRIPTION:Tyrone Fire Department meeting is 7:00pm at the Tyrone Community building.
URL:https://houstonherald.com/event/tyrone-fire-department-meeting/2020-07-02/
LOCATION:MO
END:VEVENT
BEGIN:VEVENT
DTSTART;TZID=America/Chicago:20200702T180000
DTEND;TZID=America/Chicago:20200702T180000
DTSTAMP:20260420T012041
CREATED:20200713T201232Z
LAST-MODIFIED:20200713T201232Z
UID:10009989-1593712800-1593712800@houstonherald.com
SUMMARY:Eagles Club women's meeting
DESCRIPTION:Eagles Club women’s meeting is 6:00pm the first and third Tuesdays.
URL:https://houstonherald.com/event/eagles-club-womens-meeting/2020-07-02/
LOCATION:MO
END:VEVENT
BEGIN:VEVENT
DTSTART;TZID=America/Chicago:20200702T180000
DTEND;TZID=America/Chicago:20200702T180000
DTSTAMP:20260420T012041
CREATED:20200713T190848Z
LAST-MODIFIED:20200713T190848Z
UID:10008725-1593712800-1593712800@houstonherald.com
SUMMARY:Public Water Supply District #2 meeting
DESCRIPTION:Public Water Supply District #2 meeting will be held at 6:00pm at the well house on Morton Road.
URL:https://houstonherald.com/event/public-water-supply-district-2-meeting/2020-07-02/
LOCATION:MO
END:VEVENT
BEGIN:VEVENT
DTSTART;TZID=America/Chicago:20200702T180000
DTEND;TZID=America/Chicago:20200702T180000
DTSTAMP:20260420T012041
CREATED:20200713T190650Z
LAST-MODIFIED:20200713T190650Z
UID:10008652-1593712800-1593712800@houstonherald.com
SUMMARY:Lynch Township meeting
DESCRIPTION:Lynch Township meeting is 6:00pm at the township shed.
URL:https://houstonherald.com/event/lynch-township-meeting/2020-07-02/
LOCATION:Lynch Township\, 14472 Boiling Springs Rd\, Licking\, MO\, 65542
END:VEVENT
BEGIN:VEVENT
DTSTART;TZID=America/Chicago:20200701T173000
DTEND;TZID=America/Chicago:20200701T173000
DTSTAMP:20260420T012041
CREATED:20200713T185017Z
LAST-MODIFIED:20200713T185131Z
UID:10008379-1593624600-1593624600@houstonherald.com
SUMMARY:Piney Township meeting
DESCRIPTION:Piney Township meeting at 5:30pm at the township maintenance building.
URL:https://houstonherald.com/event/piney-township-meeting/2020-07-01/
LOCATION:Piney Township\, 16627 Forrest Dr.\, Houston\, MO\, 65483
END:VEVENT
END:VCALENDAR