BEGIN:VCALENDAR
VERSION:2.0
PRODID:-//Houston Herald - ECPv6.15.20//NONSGML v1.0//EN
CALSCALE:GREGORIAN
METHOD:PUBLISH
X-WR-CALNAME:Houston Herald
X-ORIGINAL-URL:https://houstonherald.com
X-WR-CALDESC:Events for Houston Herald
REFRESH-INTERVAL;VALUE=DURATION:PT1H
X-Robots-Tag:noindex
X-PUBLISHED-TTL:PT1H
BEGIN:VTIMEZONE
TZID:America/Chicago
BEGIN:DAYLIGHT
TZOFFSETFROM:-0600
TZOFFSETTO:-0500
TZNAME:CDT
DTSTART:20250309T080000
END:DAYLIGHT
BEGIN:STANDARD
TZOFFSETFROM:-0500
TZOFFSETTO:-0600
TZNAME:CST
DTSTART:20251102T070000
END:STANDARD
BEGIN:DAYLIGHT
TZOFFSETFROM:-0600
TZOFFSETTO:-0500
TZNAME:CDT
DTSTART:20260308T080000
END:DAYLIGHT
BEGIN:STANDARD
TZOFFSETFROM:-0500
TZOFFSETTO:-0600
TZNAME:CST
DTSTART:20261101T070000
END:STANDARD
BEGIN:DAYLIGHT
TZOFFSETFROM:-0600
TZOFFSETTO:-0500
TZNAME:CDT
DTSTART:20270314T080000
END:DAYLIGHT
BEGIN:STANDARD
TZOFFSETFROM:-0500
TZOFFSETTO:-0600
TZNAME:CST
DTSTART:20271107T070000
END:STANDARD
END:VTIMEZONE
BEGIN:VEVENT
DTSTART;TZID=America/Chicago:20260427T153000
DTEND;TZID=America/Chicago:20260427T153000
DTSTAMP:20260422T202835
CREATED:20200713T202023Z
LAST-MODIFIED:20200713T202023Z
UID:10011395-1777303800-1777303800@houstonherald.com
SUMMARY:TOPS Club of Licking
DESCRIPTION:TOPS Club of Licking meets at 3:30pm every Monday at the United Methodist Church in Licking\, MO
URL:https://houstonherald.com/event/tops-club-of-licking/2026-04-27/
END:VEVENT
BEGIN:VEVENT
DTSTART;TZID=America/Chicago:20260504T153000
DTEND;TZID=America/Chicago:20260504T153000
DTSTAMP:20260422T202835
CREATED:20200713T202023Z
LAST-MODIFIED:20200713T202023Z
UID:10011396-1777908600-1777908600@houstonherald.com
SUMMARY:TOPS Club of Licking
DESCRIPTION:TOPS Club of Licking meets at 3:30pm every Monday at the United Methodist Church in Licking\, MO
URL:https://houstonherald.com/event/tops-club-of-licking/2026-05-04/
END:VEVENT
BEGIN:VEVENT
DTSTART;TZID=America/Chicago:20260511T153000
DTEND;TZID=America/Chicago:20260511T153000
DTSTAMP:20260422T202835
CREATED:20200713T202023Z
LAST-MODIFIED:20200713T202023Z
UID:10011397-1778513400-1778513400@houstonherald.com
SUMMARY:TOPS Club of Licking
DESCRIPTION:TOPS Club of Licking meets at 3:30pm every Monday at the United Methodist Church in Licking\, MO
URL:https://houstonherald.com/event/tops-club-of-licking/2026-05-11/
END:VEVENT
BEGIN:VEVENT
DTSTART;TZID=America/Chicago:20260518T153000
DTEND;TZID=America/Chicago:20260518T153000
DTSTAMP:20260422T202835
CREATED:20200713T202023Z
LAST-MODIFIED:20200713T202023Z
UID:10011398-1779118200-1779118200@houstonherald.com
SUMMARY:TOPS Club of Licking
DESCRIPTION:TOPS Club of Licking meets at 3:30pm every Monday at the United Methodist Church in Licking\, MO
URL:https://houstonherald.com/event/tops-club-of-licking/2026-05-18/
END:VEVENT
BEGIN:VEVENT
DTSTART;TZID=America/Chicago:20260525T153000
DTEND;TZID=America/Chicago:20260525T153000
DTSTAMP:20260422T202835
CREATED:20200713T202023Z
LAST-MODIFIED:20200713T202023Z
UID:10011399-1779723000-1779723000@houstonherald.com
SUMMARY:TOPS Club of Licking
DESCRIPTION:TOPS Club of Licking meets at 3:30pm every Monday at the United Methodist Church in Licking\, MO
URL:https://houstonherald.com/event/tops-club-of-licking/2026-05-25/
END:VEVENT
BEGIN:VEVENT
DTSTART;TZID=America/Chicago:20260601T153000
DTEND;TZID=America/Chicago:20260601T153000
DTSTAMP:20260422T202835
CREATED:20200713T202023Z
LAST-MODIFIED:20200713T202023Z
UID:10011400-1780327800-1780327800@houstonherald.com
SUMMARY:TOPS Club of Licking
DESCRIPTION:TOPS Club of Licking meets at 3:30pm every Monday at the United Methodist Church in Licking\, MO
URL:https://houstonherald.com/event/tops-club-of-licking/2026-06-01/
END:VEVENT
BEGIN:VEVENT
DTSTART;TZID=America/Chicago:20260608T153000
DTEND;TZID=America/Chicago:20260608T153000
DTSTAMP:20260422T202835
CREATED:20200713T202023Z
LAST-MODIFIED:20200713T202023Z
UID:10011401-1780932600-1780932600@houstonherald.com
SUMMARY:TOPS Club of Licking
DESCRIPTION:TOPS Club of Licking meets at 3:30pm every Monday at the United Methodist Church in Licking\, MO
URL:https://houstonherald.com/event/tops-club-of-licking/2026-06-08/
END:VEVENT
BEGIN:VEVENT
DTSTART;TZID=America/Chicago:20260615T153000
DTEND;TZID=America/Chicago:20260615T153000
DTSTAMP:20260422T202835
CREATED:20200713T202023Z
LAST-MODIFIED:20200713T202023Z
UID:10011402-1781537400-1781537400@houstonherald.com
SUMMARY:TOPS Club of Licking
DESCRIPTION:TOPS Club of Licking meets at 3:30pm every Monday at the United Methodist Church in Licking\, MO
URL:https://houstonherald.com/event/tops-club-of-licking/2026-06-15/
END:VEVENT
BEGIN:VEVENT
DTSTART;TZID=America/Chicago:20260622T153000
DTEND;TZID=America/Chicago:20260622T153000
DTSTAMP:20260422T202835
CREATED:20200713T202023Z
LAST-MODIFIED:20200713T202023Z
UID:10011403-1782142200-1782142200@houstonherald.com
SUMMARY:TOPS Club of Licking
DESCRIPTION:TOPS Club of Licking meets at 3:30pm every Monday at the United Methodist Church in Licking\, MO
URL:https://houstonherald.com/event/tops-club-of-licking/2026-06-22/
END:VEVENT
BEGIN:VEVENT
DTSTART;TZID=America/Chicago:20260629T153000
DTEND;TZID=America/Chicago:20260629T153000
DTSTAMP:20260422T202835
CREATED:20200713T202023Z
LAST-MODIFIED:20200713T202023Z
UID:10011404-1782747000-1782747000@houstonherald.com
SUMMARY:TOPS Club of Licking
DESCRIPTION:TOPS Club of Licking meets at 3:30pm every Monday at the United Methodist Church in Licking\, MO
URL:https://houstonherald.com/event/tops-club-of-licking/2026-06-29/
END:VEVENT
BEGIN:VEVENT
DTSTART;TZID=America/Chicago:20260706T153000
DTEND;TZID=America/Chicago:20260706T153000
DTSTAMP:20260422T202835
CREATED:20200713T202023Z
LAST-MODIFIED:20200713T202023Z
UID:10011405-1783351800-1783351800@houstonherald.com
SUMMARY:TOPS Club of Licking
DESCRIPTION:TOPS Club of Licking meets at 3:30pm every Monday at the United Methodist Church in Licking\, MO
URL:https://houstonherald.com/event/tops-club-of-licking/2026-07-06/
END:VEVENT
BEGIN:VEVENT
DTSTART;TZID=America/Chicago:20260713T153000
DTEND;TZID=America/Chicago:20260713T153000
DTSTAMP:20260422T202835
CREATED:20200713T202023Z
LAST-MODIFIED:20200713T202023Z
UID:10011406-1783956600-1783956600@houstonherald.com
SUMMARY:TOPS Club of Licking
DESCRIPTION:TOPS Club of Licking meets at 3:30pm every Monday at the United Methodist Church in Licking\, MO
URL:https://houstonherald.com/event/tops-club-of-licking/2026-07-13/
END:VEVENT
BEGIN:VEVENT
DTSTART;TZID=America/Chicago:20260720T153000
DTEND;TZID=America/Chicago:20260720T153000
DTSTAMP:20260422T202835
CREATED:20200713T202023Z
LAST-MODIFIED:20200713T202023Z
UID:10011407-1784561400-1784561400@houstonherald.com
SUMMARY:TOPS Club of Licking
DESCRIPTION:TOPS Club of Licking meets at 3:30pm every Monday at the United Methodist Church in Licking\, MO
URL:https://houstonherald.com/event/tops-club-of-licking/2026-07-20/
END:VEVENT
END:VCALENDAR