BEGIN:VCALENDAR
VERSION:2.0
PRODID:-//Houston Herald - ECPv6.15.20//NONSGML v1.0//EN
CALSCALE:GREGORIAN
METHOD:PUBLISH
X-ORIGINAL-URL:https://houstonherald.com
X-WR-CALDESC:Events for Houston Herald
REFRESH-INTERVAL;VALUE=DURATION:PT1H
X-Robots-Tag:noindex
X-PUBLISHED-TTL:PT1H
BEGIN:VTIMEZONE
TZID:America/Chicago
BEGIN:DAYLIGHT
TZOFFSETFROM:-0600
TZOFFSETTO:-0500
TZNAME:CDT
DTSTART:20250309T080000
END:DAYLIGHT
BEGIN:STANDARD
TZOFFSETFROM:-0500
TZOFFSETTO:-0600
TZNAME:CST
DTSTART:20251102T070000
END:STANDARD
BEGIN:DAYLIGHT
TZOFFSETFROM:-0600
TZOFFSETTO:-0500
TZNAME:CDT
DTSTART:20260308T080000
END:DAYLIGHT
BEGIN:STANDARD
TZOFFSETFROM:-0500
TZOFFSETTO:-0600
TZNAME:CST
DTSTART:20261101T070000
END:STANDARD
BEGIN:DAYLIGHT
TZOFFSETFROM:-0600
TZOFFSETTO:-0500
TZNAME:CDT
DTSTART:20270314T080000
END:DAYLIGHT
BEGIN:STANDARD
TZOFFSETFROM:-0500
TZOFFSETTO:-0600
TZNAME:CST
DTSTART:20271107T070000
END:STANDARD
BEGIN:DAYLIGHT
TZOFFSETFROM:-0600
TZOFFSETTO:-0500
TZNAME:CDT
DTSTART:20280312T080000
END:DAYLIGHT
BEGIN:STANDARD
TZOFFSETFROM:-0500
TZOFFSETTO:-0600
TZNAME:CST
DTSTART:20281105T070000
END:STANDARD
BEGIN:DAYLIGHT
TZOFFSETFROM:-0600
TZOFFSETTO:-0500
TZNAME:CDT
DTSTART:20290311T080000
END:DAYLIGHT
BEGIN:STANDARD
TZOFFSETFROM:-0500
TZOFFSETTO:-0600
TZNAME:CST
DTSTART:20291104T070000
END:STANDARD
END:VTIMEZONE
BEGIN:VEVENT
DTSTART;TZID=America/Chicago:20260512T173000
DTEND;TZID=America/Chicago:20260512T203000
DTSTAMP:20260421T232916
CREATED:20250716T140930Z
LAST-MODIFIED:20250716T140930Z
UID:10013636-1778607000-1778617800@houstonherald.com
SUMMARY:Houston Board of Education monthly meeting
DESCRIPTION:The Houston R-1 Board of Education meets the second Tuesday of each month beginning at 5:30 p.m. in the middle/high school library.
URL:https://houstonherald.com/event/houston-board-of-education-monthly-meeting/2026-05-12/
LOCATION:Houston Schools\, 423 W. Pine St.\, Houston\, MO\, 65483\, United States
ORGANIZER;CN="Houston Schools":MAILTO:communications@houston.k12.mo.us
END:VEVENT
BEGIN:VEVENT
DTSTART;TZID=America/Chicago:20260609T173000
DTEND;TZID=America/Chicago:20260609T203000
DTSTAMP:20260421T232916
CREATED:20250716T140930Z
LAST-MODIFIED:20250716T140930Z
UID:10013637-1781026200-1781037000@houstonherald.com
SUMMARY:Houston Board of Education monthly meeting
DESCRIPTION:The Houston R-1 Board of Education meets the second Tuesday of each month beginning at 5:30 p.m. in the middle/high school library.
URL:https://houstonherald.com/event/houston-board-of-education-monthly-meeting/2026-06-09/
LOCATION:Houston Schools\, 423 W. Pine St.\, Houston\, MO\, 65483\, United States
ORGANIZER;CN="Houston Schools":MAILTO:communications@houston.k12.mo.us
END:VEVENT
BEGIN:VEVENT
DTSTART;TZID=America/Chicago:20260714T173000
DTEND;TZID=America/Chicago:20260714T203000
DTSTAMP:20260421T232916
CREATED:20250716T140930Z
LAST-MODIFIED:20250716T140930Z
UID:10013638-1784050200-1784061000@houstonherald.com
SUMMARY:Houston Board of Education monthly meeting
DESCRIPTION:The Houston R-1 Board of Education meets the second Tuesday of each month beginning at 5:30 p.m. in the middle/high school library.
URL:https://houstonherald.com/event/houston-board-of-education-monthly-meeting/2026-07-14/
LOCATION:Houston Schools\, 423 W. Pine St.\, Houston\, MO\, 65483\, United States
ORGANIZER;CN="Houston Schools":MAILTO:communications@houston.k12.mo.us
END:VEVENT
BEGIN:VEVENT
DTSTART;TZID=America/Chicago:20260811T173000
DTEND;TZID=America/Chicago:20260811T203000
DTSTAMP:20260421T232916
CREATED:20250716T140930Z
LAST-MODIFIED:20250716T140930Z
UID:10013639-1786469400-1786480200@houstonherald.com
SUMMARY:Houston Board of Education monthly meeting
DESCRIPTION:The Houston R-1 Board of Education meets the second Tuesday of each month beginning at 5:30 p.m. in the middle/high school library.
URL:https://houstonherald.com/event/houston-board-of-education-monthly-meeting/2026-08-11/
LOCATION:Houston Schools\, 423 W. Pine St.\, Houston\, MO\, 65483\, United States
ORGANIZER;CN="Houston Schools":MAILTO:communications@houston.k12.mo.us
END:VEVENT
BEGIN:VEVENT
DTSTART;TZID=America/Chicago:20260908T173000
DTEND;TZID=America/Chicago:20260908T203000
DTSTAMP:20260421T232916
CREATED:20250716T140930Z
LAST-MODIFIED:20250716T140930Z
UID:10013640-1788888600-1788899400@houstonherald.com
SUMMARY:Houston Board of Education monthly meeting
DESCRIPTION:The Houston R-1 Board of Education meets the second Tuesday of each month beginning at 5:30 p.m. in the middle/high school library.
URL:https://houstonherald.com/event/houston-board-of-education-monthly-meeting/2026-09-08/
LOCATION:Houston Schools\, 423 W. Pine St.\, Houston\, MO\, 65483\, United States
ORGANIZER;CN="Houston Schools":MAILTO:communications@houston.k12.mo.us
END:VEVENT
BEGIN:VEVENT
DTSTART;TZID=America/Chicago:20261013T173000
DTEND;TZID=America/Chicago:20261013T203000
DTSTAMP:20260421T232916
CREATED:20250716T140930Z
LAST-MODIFIED:20250716T140930Z
UID:10013641-1791912600-1791923400@houstonherald.com
SUMMARY:Houston Board of Education monthly meeting
DESCRIPTION:The Houston R-1 Board of Education meets the second Tuesday of each month beginning at 5:30 p.m. in the middle/high school library.
URL:https://houstonherald.com/event/houston-board-of-education-monthly-meeting/2026-10-13/
LOCATION:Houston Schools\, 423 W. Pine St.\, Houston\, MO\, 65483\, United States
ORGANIZER;CN="Houston Schools":MAILTO:communications@houston.k12.mo.us
END:VEVENT
BEGIN:VEVENT
DTSTART;TZID=America/Chicago:20261110T173000
DTEND;TZID=America/Chicago:20261110T203000
DTSTAMP:20260421T232916
CREATED:20250716T140930Z
LAST-MODIFIED:20250716T140930Z
UID:10013642-1794331800-1794342600@houstonherald.com
SUMMARY:Houston Board of Education monthly meeting
DESCRIPTION:The Houston R-1 Board of Education meets the second Tuesday of each month beginning at 5:30 p.m. in the middle/high school library.
URL:https://houstonherald.com/event/houston-board-of-education-monthly-meeting/2026-11-10/
LOCATION:Houston Schools\, 423 W. Pine St.\, Houston\, MO\, 65483\, United States
ORGANIZER;CN="Houston Schools":MAILTO:communications@houston.k12.mo.us
END:VEVENT
BEGIN:VEVENT
DTSTART;TZID=America/Chicago:20261208T173000
DTEND;TZID=America/Chicago:20261208T203000
DTSTAMP:20260421T232916
CREATED:20250716T140930Z
LAST-MODIFIED:20250716T140930Z
UID:10013643-1796751000-1796761800@houstonherald.com
SUMMARY:Houston Board of Education monthly meeting
DESCRIPTION:The Houston R-1 Board of Education meets the second Tuesday of each month beginning at 5:30 p.m. in the middle/high school library.
URL:https://houstonherald.com/event/houston-board-of-education-monthly-meeting/2026-12-08/
LOCATION:Houston Schools\, 423 W. Pine St.\, Houston\, MO\, 65483\, United States
ORGANIZER;CN="Houston Schools":MAILTO:communications@houston.k12.mo.us
END:VEVENT
BEGIN:VEVENT
DTSTART;TZID=America/Chicago:20270112T173000
DTEND;TZID=America/Chicago:20270112T203000
DTSTAMP:20260421T232916
CREATED:20250716T140930Z
LAST-MODIFIED:20250716T140930Z
UID:10013644-1799775000-1799785800@houstonherald.com
SUMMARY:Houston Board of Education monthly meeting
DESCRIPTION:The Houston R-1 Board of Education meets the second Tuesday of each month beginning at 5:30 p.m. in the middle/high school library.
URL:https://houstonherald.com/event/houston-board-of-education-monthly-meeting/2027-01-12/
LOCATION:Houston Schools\, 423 W. Pine St.\, Houston\, MO\, 65483\, United States
ORGANIZER;CN="Houston Schools":MAILTO:communications@houston.k12.mo.us
END:VEVENT
BEGIN:VEVENT
DTSTART;TZID=America/Chicago:20270209T173000
DTEND;TZID=America/Chicago:20270209T203000
DTSTAMP:20260421T232916
CREATED:20250716T140930Z
LAST-MODIFIED:20250716T140930Z
UID:10013645-1802194200-1802205000@houstonherald.com
SUMMARY:Houston Board of Education monthly meeting
DESCRIPTION:The Houston R-1 Board of Education meets the second Tuesday of each month beginning at 5:30 p.m. in the middle/high school library.
URL:https://houstonherald.com/event/houston-board-of-education-monthly-meeting/2027-02-09/
LOCATION:Houston Schools\, 423 W. Pine St.\, Houston\, MO\, 65483\, United States
ORGANIZER;CN="Houston Schools":MAILTO:communications@houston.k12.mo.us
END:VEVENT
BEGIN:VEVENT
DTSTART;TZID=America/Chicago:20270309T173000
DTEND;TZID=America/Chicago:20270309T203000
DTSTAMP:20260421T232916
CREATED:20250716T140930Z
LAST-MODIFIED:20250716T140930Z
UID:10013646-1804613400-1804624200@houstonherald.com
SUMMARY:Houston Board of Education monthly meeting
DESCRIPTION:The Houston R-1 Board of Education meets the second Tuesday of each month beginning at 5:30 p.m. in the middle/high school library.
URL:https://houstonherald.com/event/houston-board-of-education-monthly-meeting/2027-03-09/
LOCATION:Houston Schools\, 423 W. Pine St.\, Houston\, MO\, 65483\, United States
ORGANIZER;CN="Houston Schools":MAILTO:communications@houston.k12.mo.us
END:VEVENT
BEGIN:VEVENT
DTSTART;TZID=America/Chicago:20270413T173000
DTEND;TZID=America/Chicago:20270413T203000
DTSTAMP:20260421T232916
CREATED:20250716T140930Z
LAST-MODIFIED:20250716T140930Z
UID:10013647-1807637400-1807648200@houstonherald.com
SUMMARY:Houston Board of Education monthly meeting
DESCRIPTION:The Houston R-1 Board of Education meets the second Tuesday of each month beginning at 5:30 p.m. in the middle/high school library.
URL:https://houstonherald.com/event/houston-board-of-education-monthly-meeting/2027-04-13/
LOCATION:Houston Schools\, 423 W. Pine St.\, Houston\, MO\, 65483\, United States
ORGANIZER;CN="Houston Schools":MAILTO:communications@houston.k12.mo.us
END:VEVENT
BEGIN:VEVENT
DTSTART;TZID=America/Chicago:20270511T173000
DTEND;TZID=America/Chicago:20270511T203000
DTSTAMP:20260421T232916
CREATED:20250716T140930Z
LAST-MODIFIED:20250716T140930Z
UID:10013648-1810056600-1810067400@houstonherald.com
SUMMARY:Houston Board of Education monthly meeting
DESCRIPTION:The Houston R-1 Board of Education meets the second Tuesday of each month beginning at 5:30 p.m. in the middle/high school library.
URL:https://houstonherald.com/event/houston-board-of-education-monthly-meeting/2027-05-11/
LOCATION:Houston Schools\, 423 W. Pine St.\, Houston\, MO\, 65483\, United States
ORGANIZER;CN="Houston Schools":MAILTO:communications@houston.k12.mo.us
END:VEVENT
BEGIN:VEVENT
DTSTART;TZID=America/Chicago:20270608T173000
DTEND;TZID=America/Chicago:20270608T203000
DTSTAMP:20260421T232916
CREATED:20250716T140930Z
LAST-MODIFIED:20250716T140930Z
UID:10013649-1812475800-1812486600@houstonherald.com
SUMMARY:Houston Board of Education monthly meeting
DESCRIPTION:The Houston R-1 Board of Education meets the second Tuesday of each month beginning at 5:30 p.m. in the middle/high school library.
URL:https://houstonherald.com/event/houston-board-of-education-monthly-meeting/2027-06-08/
LOCATION:Houston Schools\, 423 W. Pine St.\, Houston\, MO\, 65483\, United States
ORGANIZER;CN="Houston Schools":MAILTO:communications@houston.k12.mo.us
END:VEVENT
BEGIN:VEVENT
DTSTART;TZID=America/Chicago:20270713T173000
DTEND;TZID=America/Chicago:20270713T203000
DTSTAMP:20260421T232916
CREATED:20250716T140930Z
LAST-MODIFIED:20250716T140930Z
UID:10013650-1815499800-1815510600@houstonherald.com
SUMMARY:Houston Board of Education monthly meeting
DESCRIPTION:The Houston R-1 Board of Education meets the second Tuesday of each month beginning at 5:30 p.m. in the middle/high school library.
URL:https://houstonherald.com/event/houston-board-of-education-monthly-meeting/2027-07-13/
LOCATION:Houston Schools\, 423 W. Pine St.\, Houston\, MO\, 65483\, United States
ORGANIZER;CN="Houston Schools":MAILTO:communications@houston.k12.mo.us
END:VEVENT
BEGIN:VEVENT
DTSTART;TZID=America/Chicago:20270810T173000
DTEND;TZID=America/Chicago:20270810T203000
DTSTAMP:20260421T232916
CREATED:20250716T140930Z
LAST-MODIFIED:20250716T140930Z
UID:10013651-1817919000-1817929800@houstonherald.com
SUMMARY:Houston Board of Education monthly meeting
DESCRIPTION:The Houston R-1 Board of Education meets the second Tuesday of each month beginning at 5:30 p.m. in the middle/high school library.
URL:https://houstonherald.com/event/houston-board-of-education-monthly-meeting/2027-08-10/
LOCATION:Houston Schools\, 423 W. Pine St.\, Houston\, MO\, 65483\, United States
ORGANIZER;CN="Houston Schools":MAILTO:communications@houston.k12.mo.us
END:VEVENT
BEGIN:VEVENT
DTSTART;TZID=America/Chicago:20270914T173000
DTEND;TZID=America/Chicago:20270914T203000
DTSTAMP:20260421T232917
CREATED:20250716T140930Z
LAST-MODIFIED:20250716T140930Z
UID:10013652-1820943000-1820953800@houstonherald.com
SUMMARY:Houston Board of Education monthly meeting
DESCRIPTION:The Houston R-1 Board of Education meets the second Tuesday of each month beginning at 5:30 p.m. in the middle/high school library.
URL:https://houstonherald.com/event/houston-board-of-education-monthly-meeting/2027-09-14/
LOCATION:Houston Schools\, 423 W. Pine St.\, Houston\, MO\, 65483\, United States
ORGANIZER;CN="Houston Schools":MAILTO:communications@houston.k12.mo.us
END:VEVENT
BEGIN:VEVENT
DTSTART;TZID=America/Chicago:20271012T173000
DTEND;TZID=America/Chicago:20271012T203000
DTSTAMP:20260421T232917
CREATED:20250716T140930Z
LAST-MODIFIED:20250716T140930Z
UID:10013653-1823362200-1823373000@houstonherald.com
SUMMARY:Houston Board of Education monthly meeting
DESCRIPTION:The Houston R-1 Board of Education meets the second Tuesday of each month beginning at 5:30 p.m. in the middle/high school library.
URL:https://houstonherald.com/event/houston-board-of-education-monthly-meeting/2027-10-12/
LOCATION:Houston Schools\, 423 W. Pine St.\, Houston\, MO\, 65483\, United States
ORGANIZER;CN="Houston Schools":MAILTO:communications@houston.k12.mo.us
END:VEVENT
BEGIN:VEVENT
DTSTART;TZID=America/Chicago:20271109T173000
DTEND;TZID=America/Chicago:20271109T203000
DTSTAMP:20260421T232917
CREATED:20250716T140930Z
LAST-MODIFIED:20250716T140930Z
UID:10013654-1825781400-1825792200@houstonherald.com
SUMMARY:Houston Board of Education monthly meeting
DESCRIPTION:The Houston R-1 Board of Education meets the second Tuesday of each month beginning at 5:30 p.m. in the middle/high school library.
URL:https://houstonherald.com/event/houston-board-of-education-monthly-meeting/2027-11-09/
LOCATION:Houston Schools\, 423 W. Pine St.\, Houston\, MO\, 65483\, United States
ORGANIZER;CN="Houston Schools":MAILTO:communications@houston.k12.mo.us
END:VEVENT
BEGIN:VEVENT
DTSTART;TZID=America/Chicago:20271214T173000
DTEND;TZID=America/Chicago:20271214T203000
DTSTAMP:20260421T232917
CREATED:20250716T140930Z
LAST-MODIFIED:20250716T140930Z
UID:10013655-1828805400-1828816200@houstonherald.com
SUMMARY:Houston Board of Education monthly meeting
DESCRIPTION:The Houston R-1 Board of Education meets the second Tuesday of each month beginning at 5:30 p.m. in the middle/high school library.
URL:https://houstonherald.com/event/houston-board-of-education-monthly-meeting/2027-12-14/
LOCATION:Houston Schools\, 423 W. Pine St.\, Houston\, MO\, 65483\, United States
ORGANIZER;CN="Houston Schools":MAILTO:communications@houston.k12.mo.us
END:VEVENT
BEGIN:VEVENT
DTSTART;TZID=America/Chicago:20280111T173000
DTEND;TZID=America/Chicago:20280111T203000
DTSTAMP:20260421T232917
CREATED:20250716T140930Z
LAST-MODIFIED:20250716T140930Z
UID:10013656-1831224600-1831235400@houstonherald.com
SUMMARY:Houston Board of Education monthly meeting
DESCRIPTION:The Houston R-1 Board of Education meets the second Tuesday of each month beginning at 5:30 p.m. in the middle/high school library.
URL:https://houstonherald.com/event/houston-board-of-education-monthly-meeting/2028-01-11/
LOCATION:Houston Schools\, 423 W. Pine St.\, Houston\, MO\, 65483\, United States
ORGANIZER;CN="Houston Schools":MAILTO:communications@houston.k12.mo.us
END:VEVENT
BEGIN:VEVENT
DTSTART;TZID=America/Chicago:20280208T173000
DTEND;TZID=America/Chicago:20280208T203000
DTSTAMP:20260421T232917
CREATED:20250716T140930Z
LAST-MODIFIED:20250716T140930Z
UID:10013657-1833643800-1833654600@houstonherald.com
SUMMARY:Houston Board of Education monthly meeting
DESCRIPTION:The Houston R-1 Board of Education meets the second Tuesday of each month beginning at 5:30 p.m. in the middle/high school library.
URL:https://houstonherald.com/event/houston-board-of-education-monthly-meeting/2028-02-08/
LOCATION:Houston Schools\, 423 W. Pine St.\, Houston\, MO\, 65483\, United States
ORGANIZER;CN="Houston Schools":MAILTO:communications@houston.k12.mo.us
END:VEVENT
BEGIN:VEVENT
DTSTART;TZID=America/Chicago:20280314T173000
DTEND;TZID=America/Chicago:20280314T203000
DTSTAMP:20260421T232917
CREATED:20250716T140930Z
LAST-MODIFIED:20250716T140930Z
UID:10013658-1836667800-1836678600@houstonherald.com
SUMMARY:Houston Board of Education monthly meeting
DESCRIPTION:The Houston R-1 Board of Education meets the second Tuesday of each month beginning at 5:30 p.m. in the middle/high school library.
URL:https://houstonherald.com/event/houston-board-of-education-monthly-meeting/2028-03-14/
LOCATION:Houston Schools\, 423 W. Pine St.\, Houston\, MO\, 65483\, United States
ORGANIZER;CN="Houston Schools":MAILTO:communications@houston.k12.mo.us
END:VEVENT
BEGIN:VEVENT
DTSTART;TZID=America/Chicago:20280411T173000
DTEND;TZID=America/Chicago:20280411T203000
DTSTAMP:20260421T232917
CREATED:20250716T140930Z
LAST-MODIFIED:20250716T140930Z
UID:10013659-1839087000-1839097800@houstonherald.com
SUMMARY:Houston Board of Education monthly meeting
DESCRIPTION:The Houston R-1 Board of Education meets the second Tuesday of each month beginning at 5:30 p.m. in the middle/high school library.
URL:https://houstonherald.com/event/houston-board-of-education-monthly-meeting/2028-04-11/
LOCATION:Houston Schools\, 423 W. Pine St.\, Houston\, MO\, 65483\, United States
ORGANIZER;CN="Houston Schools":MAILTO:communications@houston.k12.mo.us
END:VEVENT
BEGIN:VEVENT
DTSTART;TZID=America/Chicago:20280509T173000
DTEND;TZID=America/Chicago:20280509T203000
DTSTAMP:20260421T232917
CREATED:20250716T140930Z
LAST-MODIFIED:20250716T140930Z
UID:10013660-1841506200-1841517000@houstonherald.com
SUMMARY:Houston Board of Education monthly meeting
DESCRIPTION:The Houston R-1 Board of Education meets the second Tuesday of each month beginning at 5:30 p.m. in the middle/high school library.
URL:https://houstonherald.com/event/houston-board-of-education-monthly-meeting/2028-05-09/
LOCATION:Houston Schools\, 423 W. Pine St.\, Houston\, MO\, 65483\, United States
ORGANIZER;CN="Houston Schools":MAILTO:communications@houston.k12.mo.us
END:VEVENT
BEGIN:VEVENT
DTSTART;TZID=America/Chicago:20280613T173000
DTEND;TZID=America/Chicago:20280613T203000
DTSTAMP:20260421T232917
CREATED:20250716T140930Z
LAST-MODIFIED:20250716T140930Z
UID:10013661-1844530200-1844541000@houstonherald.com
SUMMARY:Houston Board of Education monthly meeting
DESCRIPTION:The Houston R-1 Board of Education meets the second Tuesday of each month beginning at 5:30 p.m. in the middle/high school library.
URL:https://houstonherald.com/event/houston-board-of-education-monthly-meeting/2028-06-13/
LOCATION:Houston Schools\, 423 W. Pine St.\, Houston\, MO\, 65483\, United States
ORGANIZER;CN="Houston Schools":MAILTO:communications@houston.k12.mo.us
END:VEVENT
BEGIN:VEVENT
DTSTART;TZID=America/Chicago:20280711T173000
DTEND;TZID=America/Chicago:20280711T203000
DTSTAMP:20260421T232917
CREATED:20250716T140930Z
LAST-MODIFIED:20250716T140930Z
UID:10013662-1846949400-1846960200@houstonherald.com
SUMMARY:Houston Board of Education monthly meeting
DESCRIPTION:The Houston R-1 Board of Education meets the second Tuesday of each month beginning at 5:30 p.m. in the middle/high school library.
URL:https://houstonherald.com/event/houston-board-of-education-monthly-meeting/2028-07-11/
LOCATION:Houston Schools\, 423 W. Pine St.\, Houston\, MO\, 65483\, United States
ORGANIZER;CN="Houston Schools":MAILTO:communications@houston.k12.mo.us
END:VEVENT
BEGIN:VEVENT
DTSTART;TZID=America/Chicago:20280808T173000
DTEND;TZID=America/Chicago:20280808T203000
DTSTAMP:20260421T232917
CREATED:20250716T140930Z
LAST-MODIFIED:20250716T140930Z
UID:10013663-1849368600-1849379400@houstonherald.com
SUMMARY:Houston Board of Education monthly meeting
DESCRIPTION:The Houston R-1 Board of Education meets the second Tuesday of each month beginning at 5:30 p.m. in the middle/high school library.
URL:https://houstonherald.com/event/houston-board-of-education-monthly-meeting/2028-08-08/
LOCATION:Houston Schools\, 423 W. Pine St.\, Houston\, MO\, 65483\, United States
ORGANIZER;CN="Houston Schools":MAILTO:communications@houston.k12.mo.us
END:VEVENT
BEGIN:VEVENT
DTSTART;TZID=America/Chicago:20280912T173000
DTEND;TZID=America/Chicago:20280912T203000
DTSTAMP:20260421T232917
CREATED:20250716T140930Z
LAST-MODIFIED:20250716T140930Z
UID:10013664-1852392600-1852403400@houstonherald.com
SUMMARY:Houston Board of Education monthly meeting
DESCRIPTION:The Houston R-1 Board of Education meets the second Tuesday of each month beginning at 5:30 p.m. in the middle/high school library.
URL:https://houstonherald.com/event/houston-board-of-education-monthly-meeting/2028-09-12/
LOCATION:Houston Schools\, 423 W. Pine St.\, Houston\, MO\, 65483\, United States
ORGANIZER;CN="Houston Schools":MAILTO:communications@houston.k12.mo.us
END:VEVENT
BEGIN:VEVENT
DTSTART;TZID=America/Chicago:20281010T173000
DTEND;TZID=America/Chicago:20281010T203000
DTSTAMP:20260421T232917
CREATED:20250716T140930Z
LAST-MODIFIED:20250716T140930Z
UID:10013665-1854811800-1854822600@houstonherald.com
SUMMARY:Houston Board of Education monthly meeting
DESCRIPTION:The Houston R-1 Board of Education meets the second Tuesday of each month beginning at 5:30 p.m. in the middle/high school library.
URL:https://houstonherald.com/event/houston-board-of-education-monthly-meeting/2028-10-10/
LOCATION:Houston Schools\, 423 W. Pine St.\, Houston\, MO\, 65483\, United States
ORGANIZER;CN="Houston Schools":MAILTO:communications@houston.k12.mo.us
END:VEVENT
END:VCALENDAR