BEGIN:VCALENDAR
VERSION:2.0
PRODID:-//Houston Herald - ECPv6.15.20//NONSGML v1.0//EN
CALSCALE:GREGORIAN
METHOD:PUBLISH
X-WR-CALNAME:Houston Herald
X-ORIGINAL-URL:https://houstonherald.com
X-WR-CALDESC:Events for Houston Herald
REFRESH-INTERVAL;VALUE=DURATION:PT1H
X-Robots-Tag:noindex
X-PUBLISHED-TTL:PT1H
BEGIN:VTIMEZONE
TZID:America/Chicago
BEGIN:DAYLIGHT
TZOFFSETFROM:-0600
TZOFFSETTO:-0500
TZNAME:CDT
DTSTART:20210314T080000
END:DAYLIGHT
BEGIN:STANDARD
TZOFFSETFROM:-0500
TZOFFSETTO:-0600
TZNAME:CST
DTSTART:20211107T070000
END:STANDARD
BEGIN:DAYLIGHT
TZOFFSETFROM:-0600
TZOFFSETTO:-0500
TZNAME:CDT
DTSTART:20220313T080000
END:DAYLIGHT
BEGIN:STANDARD
TZOFFSETFROM:-0500
TZOFFSETTO:-0600
TZNAME:CST
DTSTART:20221106T070000
END:STANDARD
BEGIN:DAYLIGHT
TZOFFSETFROM:-0600
TZOFFSETTO:-0500
TZNAME:CDT
DTSTART:20230312T080000
END:DAYLIGHT
BEGIN:STANDARD
TZOFFSETFROM:-0500
TZOFFSETTO:-0600
TZNAME:CST
DTSTART:20231105T070000
END:STANDARD
BEGIN:DAYLIGHT
TZOFFSETFROM:-0600
TZOFFSETTO:-0500
TZNAME:CDT
DTSTART:20240310T080000
END:DAYLIGHT
BEGIN:STANDARD
TZOFFSETFROM:-0500
TZOFFSETTO:-0600
TZNAME:CST
DTSTART:20241103T070000
END:STANDARD
BEGIN:DAYLIGHT
TZOFFSETFROM:-0600
TZOFFSETTO:-0500
TZNAME:CDT
DTSTART:20250309T080000
END:DAYLIGHT
BEGIN:STANDARD
TZOFFSETFROM:-0500
TZOFFSETTO:-0600
TZNAME:CST
DTSTART:20251102T070000
END:STANDARD
BEGIN:DAYLIGHT
TZOFFSETFROM:-0600
TZOFFSETTO:-0500
TZNAME:CDT
DTSTART:20260308T080000
END:DAYLIGHT
BEGIN:STANDARD
TZOFFSETFROM:-0500
TZOFFSETTO:-0600
TZNAME:CST
DTSTART:20261101T070000
END:STANDARD
END:VTIMEZONE
BEGIN:VEVENT
DTSTART;TZID=America/Chicago:20250318T180000
DTEND;TZID=America/Chicago:20250318T180000
DTSTAMP:20260419T110344
CREATED:20200709T184029Z
LAST-MODIFIED:20200709T190101Z
UID:10007019-1742320800-1742320800@houstonherald.com
SUMMARY:Houston Chamber of Commerce meeting
DESCRIPTION:Houston Chamber of Commerce meeting beginning at 6:00pm at the Visitor’s Center.
URL:https://houstonherald.com/event/houston-chamber-of-commerce-meeting/2025-03-18/
LOCATION:Chamber of Commerce Visitor’s Center\, 501 E. Walnut St.\, Houston\, MO\, 65483\, United States
ATTACH;FMTTYPE=image/png:https://houstonherald.com/wp-content/uploads/2020/07/Chamber-of-Commerce.png
END:VEVENT
BEGIN:VEVENT
DTSTART;TZID=America/Chicago:20250218T180000
DTEND;TZID=America/Chicago:20250218T180000
DTSTAMP:20260419T110344
CREATED:20200709T184029Z
LAST-MODIFIED:20200709T190101Z
UID:10007018-1739901600-1739901600@houstonherald.com
SUMMARY:Houston Chamber of Commerce meeting
DESCRIPTION:Houston Chamber of Commerce meeting beginning at 6:00pm at the Visitor’s Center.
URL:https://houstonherald.com/event/houston-chamber-of-commerce-meeting/2025-02-18/
LOCATION:Chamber of Commerce Visitor’s Center\, 501 E. Walnut St.\, Houston\, MO\, 65483\, United States
ATTACH;FMTTYPE=image/png:https://houstonherald.com/wp-content/uploads/2020/07/Chamber-of-Commerce.png
END:VEVENT
BEGIN:VEVENT
DTSTART;TZID=America/Chicago:20250121T180000
DTEND;TZID=America/Chicago:20250121T180000
DTSTAMP:20260419T110344
CREATED:20200709T184029Z
LAST-MODIFIED:20200709T190101Z
UID:10007017-1737482400-1737482400@houstonherald.com
SUMMARY:Houston Chamber of Commerce meeting
DESCRIPTION:Houston Chamber of Commerce meeting beginning at 6:00pm at the Visitor’s Center.
URL:https://houstonherald.com/event/houston-chamber-of-commerce-meeting/2025-01-21/
LOCATION:Chamber of Commerce Visitor’s Center\, 501 E. Walnut St.\, Houston\, MO\, 65483\, United States
ATTACH;FMTTYPE=image/png:https://houstonherald.com/wp-content/uploads/2020/07/Chamber-of-Commerce.png
END:VEVENT
BEGIN:VEVENT
DTSTART;TZID=America/Chicago:20241217T180000
DTEND;TZID=America/Chicago:20241217T180000
DTSTAMP:20260419T110344
CREATED:20200709T184029Z
LAST-MODIFIED:20200709T190101Z
UID:10007016-1734458400-1734458400@houstonherald.com
SUMMARY:Houston Chamber of Commerce meeting
DESCRIPTION:Houston Chamber of Commerce meeting beginning at 6:00pm at the Visitor’s Center.
URL:https://houstonherald.com/event/houston-chamber-of-commerce-meeting/2024-12-17/
LOCATION:Chamber of Commerce Visitor’s Center\, 501 E. Walnut St.\, Houston\, MO\, 65483\, United States
ATTACH;FMTTYPE=image/png:https://houstonherald.com/wp-content/uploads/2020/07/Chamber-of-Commerce.png
END:VEVENT
BEGIN:VEVENT
DTSTART;TZID=America/Chicago:20241119T180000
DTEND;TZID=America/Chicago:20241119T180000
DTSTAMP:20260419T110344
CREATED:20200709T184029Z
LAST-MODIFIED:20200709T190101Z
UID:10007015-1732039200-1732039200@houstonherald.com
SUMMARY:Houston Chamber of Commerce meeting
DESCRIPTION:Houston Chamber of Commerce meeting beginning at 6:00pm at the Visitor’s Center.
URL:https://houstonherald.com/event/houston-chamber-of-commerce-meeting/2024-11-19/
LOCATION:Chamber of Commerce Visitor’s Center\, 501 E. Walnut St.\, Houston\, MO\, 65483\, United States
ATTACH;FMTTYPE=image/png:https://houstonherald.com/wp-content/uploads/2020/07/Chamber-of-Commerce.png
END:VEVENT
BEGIN:VEVENT
DTSTART;TZID=America/Chicago:20241015T180000
DTEND;TZID=America/Chicago:20241015T180000
DTSTAMP:20260419T110344
CREATED:20200709T184029Z
LAST-MODIFIED:20200709T190101Z
UID:10007014-1729015200-1729015200@houstonherald.com
SUMMARY:Houston Chamber of Commerce meeting
DESCRIPTION:Houston Chamber of Commerce meeting beginning at 6:00pm at the Visitor’s Center.
URL:https://houstonherald.com/event/houston-chamber-of-commerce-meeting/2024-10-15/
LOCATION:Chamber of Commerce Visitor’s Center\, 501 E. Walnut St.\, Houston\, MO\, 65483\, United States
ATTACH;FMTTYPE=image/png:https://houstonherald.com/wp-content/uploads/2020/07/Chamber-of-Commerce.png
END:VEVENT
BEGIN:VEVENT
DTSTART;TZID=America/Chicago:20240917T180000
DTEND;TZID=America/Chicago:20240917T180000
DTSTAMP:20260419T110344
CREATED:20200709T184029Z
LAST-MODIFIED:20200709T190101Z
UID:10007013-1726596000-1726596000@houstonherald.com
SUMMARY:Houston Chamber of Commerce meeting
DESCRIPTION:Houston Chamber of Commerce meeting beginning at 6:00pm at the Visitor’s Center.
URL:https://houstonherald.com/event/houston-chamber-of-commerce-meeting/2024-09-17/
LOCATION:Chamber of Commerce Visitor’s Center\, 501 E. Walnut St.\, Houston\, MO\, 65483\, United States
ATTACH;FMTTYPE=image/png:https://houstonherald.com/wp-content/uploads/2020/07/Chamber-of-Commerce.png
END:VEVENT
BEGIN:VEVENT
DTSTART;TZID=America/Chicago:20240820T180000
DTEND;TZID=America/Chicago:20240820T180000
DTSTAMP:20260419T110344
CREATED:20200709T184029Z
LAST-MODIFIED:20200709T190101Z
UID:10007012-1724176800-1724176800@houstonherald.com
SUMMARY:Houston Chamber of Commerce meeting
DESCRIPTION:Houston Chamber of Commerce meeting beginning at 6:00pm at the Visitor’s Center.
URL:https://houstonherald.com/event/houston-chamber-of-commerce-meeting/2024-08-20/
LOCATION:Chamber of Commerce Visitor’s Center\, 501 E. Walnut St.\, Houston\, MO\, 65483\, United States
ATTACH;FMTTYPE=image/png:https://houstonherald.com/wp-content/uploads/2020/07/Chamber-of-Commerce.png
END:VEVENT
BEGIN:VEVENT
DTSTART;TZID=America/Chicago:20240716T180000
DTEND;TZID=America/Chicago:20240716T180000
DTSTAMP:20260419T110344
CREATED:20200709T184029Z
LAST-MODIFIED:20200709T190101Z
UID:10007011-1721152800-1721152800@houstonherald.com
SUMMARY:Houston Chamber of Commerce meeting
DESCRIPTION:Houston Chamber of Commerce meeting beginning at 6:00pm at the Visitor’s Center.
URL:https://houstonherald.com/event/houston-chamber-of-commerce-meeting/2024-07-16/
LOCATION:Chamber of Commerce Visitor’s Center\, 501 E. Walnut St.\, Houston\, MO\, 65483\, United States
ATTACH;FMTTYPE=image/png:https://houstonherald.com/wp-content/uploads/2020/07/Chamber-of-Commerce.png
END:VEVENT
BEGIN:VEVENT
DTSTART;TZID=America/Chicago:20240618T180000
DTEND;TZID=America/Chicago:20240618T180000
DTSTAMP:20260419T110344
CREATED:20200709T184029Z
LAST-MODIFIED:20200709T190101Z
UID:10007010-1718733600-1718733600@houstonherald.com
SUMMARY:Houston Chamber of Commerce meeting
DESCRIPTION:Houston Chamber of Commerce meeting beginning at 6:00pm at the Visitor’s Center.
URL:https://houstonherald.com/event/houston-chamber-of-commerce-meeting/2024-06-18/
LOCATION:Chamber of Commerce Visitor’s Center\, 501 E. Walnut St.\, Houston\, MO\, 65483\, United States
ATTACH;FMTTYPE=image/png:https://houstonherald.com/wp-content/uploads/2020/07/Chamber-of-Commerce.png
END:VEVENT
BEGIN:VEVENT
DTSTART;TZID=America/Chicago:20240521T180000
DTEND;TZID=America/Chicago:20240521T180000
DTSTAMP:20260419T110344
CREATED:20200709T184029Z
LAST-MODIFIED:20200709T190101Z
UID:10007009-1716314400-1716314400@houstonherald.com
SUMMARY:Houston Chamber of Commerce meeting
DESCRIPTION:Houston Chamber of Commerce meeting beginning at 6:00pm at the Visitor’s Center.
URL:https://houstonherald.com/event/houston-chamber-of-commerce-meeting/2024-05-21/
LOCATION:Chamber of Commerce Visitor’s Center\, 501 E. Walnut St.\, Houston\, MO\, 65483\, United States
ATTACH;FMTTYPE=image/png:https://houstonherald.com/wp-content/uploads/2020/07/Chamber-of-Commerce.png
END:VEVENT
BEGIN:VEVENT
DTSTART;TZID=America/Chicago:20240416T180000
DTEND;TZID=America/Chicago:20240416T180000
DTSTAMP:20260419T110344
CREATED:20200709T184029Z
LAST-MODIFIED:20200709T190101Z
UID:10007008-1713290400-1713290400@houstonherald.com
SUMMARY:Houston Chamber of Commerce meeting
DESCRIPTION:Houston Chamber of Commerce meeting beginning at 6:00pm at the Visitor’s Center.
URL:https://houstonherald.com/event/houston-chamber-of-commerce-meeting/2024-04-16/
LOCATION:Chamber of Commerce Visitor’s Center\, 501 E. Walnut St.\, Houston\, MO\, 65483\, United States
ATTACH;FMTTYPE=image/png:https://houstonherald.com/wp-content/uploads/2020/07/Chamber-of-Commerce.png
END:VEVENT
BEGIN:VEVENT
DTSTART;TZID=America/Chicago:20240319T180000
DTEND;TZID=America/Chicago:20240319T180000
DTSTAMP:20260419T110344
CREATED:20200709T184029Z
LAST-MODIFIED:20200709T190101Z
UID:10007007-1710871200-1710871200@houstonherald.com
SUMMARY:Houston Chamber of Commerce meeting
DESCRIPTION:Houston Chamber of Commerce meeting beginning at 6:00pm at the Visitor’s Center.
URL:https://houstonherald.com/event/houston-chamber-of-commerce-meeting/2024-03-19/
LOCATION:Chamber of Commerce Visitor’s Center\, 501 E. Walnut St.\, Houston\, MO\, 65483\, United States
ATTACH;FMTTYPE=image/png:https://houstonherald.com/wp-content/uploads/2020/07/Chamber-of-Commerce.png
END:VEVENT
BEGIN:VEVENT
DTSTART;TZID=America/Chicago:20240220T180000
DTEND;TZID=America/Chicago:20240220T180000
DTSTAMP:20260419T110344
CREATED:20200709T184029Z
LAST-MODIFIED:20200709T190101Z
UID:10007006-1708452000-1708452000@houstonherald.com
SUMMARY:Houston Chamber of Commerce meeting
DESCRIPTION:Houston Chamber of Commerce meeting beginning at 6:00pm at the Visitor’s Center.
URL:https://houstonherald.com/event/houston-chamber-of-commerce-meeting/2024-02-20/
LOCATION:Chamber of Commerce Visitor’s Center\, 501 E. Walnut St.\, Houston\, MO\, 65483\, United States
ATTACH;FMTTYPE=image/png:https://houstonherald.com/wp-content/uploads/2020/07/Chamber-of-Commerce.png
END:VEVENT
BEGIN:VEVENT
DTSTART;TZID=America/Chicago:20240116T180000
DTEND;TZID=America/Chicago:20240116T180000
DTSTAMP:20260419T110344
CREATED:20200709T184029Z
LAST-MODIFIED:20200709T190101Z
UID:10007005-1705428000-1705428000@houstonherald.com
SUMMARY:Houston Chamber of Commerce meeting
DESCRIPTION:Houston Chamber of Commerce meeting beginning at 6:00pm at the Visitor’s Center.
URL:https://houstonherald.com/event/houston-chamber-of-commerce-meeting/2024-01-16/
LOCATION:Chamber of Commerce Visitor’s Center\, 501 E. Walnut St.\, Houston\, MO\, 65483\, United States
ATTACH;FMTTYPE=image/png:https://houstonherald.com/wp-content/uploads/2020/07/Chamber-of-Commerce.png
END:VEVENT
BEGIN:VEVENT
DTSTART;TZID=America/Chicago:20231219T180000
DTEND;TZID=America/Chicago:20231219T180000
DTSTAMP:20260419T110344
CREATED:20200709T184029Z
LAST-MODIFIED:20200709T190101Z
UID:10007004-1703008800-1703008800@houstonherald.com
SUMMARY:Houston Chamber of Commerce meeting
DESCRIPTION:Houston Chamber of Commerce meeting beginning at 6:00pm at the Visitor’s Center.
URL:https://houstonherald.com/event/houston-chamber-of-commerce-meeting/2023-12-19/
LOCATION:Chamber of Commerce Visitor’s Center\, 501 E. Walnut St.\, Houston\, MO\, 65483\, United States
ATTACH;FMTTYPE=image/png:https://houstonherald.com/wp-content/uploads/2020/07/Chamber-of-Commerce.png
END:VEVENT
BEGIN:VEVENT
DTSTART;TZID=America/Chicago:20231121T180000
DTEND;TZID=America/Chicago:20231121T180000
DTSTAMP:20260419T110344
CREATED:20200709T184029Z
LAST-MODIFIED:20200709T190101Z
UID:10007003-1700589600-1700589600@houstonherald.com
SUMMARY:Houston Chamber of Commerce meeting
DESCRIPTION:Houston Chamber of Commerce meeting beginning at 6:00pm at the Visitor’s Center.
URL:https://houstonherald.com/event/houston-chamber-of-commerce-meeting/2023-11-21/
LOCATION:Chamber of Commerce Visitor’s Center\, 501 E. Walnut St.\, Houston\, MO\, 65483\, United States
ATTACH;FMTTYPE=image/png:https://houstonherald.com/wp-content/uploads/2020/07/Chamber-of-Commerce.png
END:VEVENT
BEGIN:VEVENT
DTSTART;TZID=America/Chicago:20231017T180000
DTEND;TZID=America/Chicago:20231017T180000
DTSTAMP:20260419T110344
CREATED:20200709T184029Z
LAST-MODIFIED:20200709T190101Z
UID:10007002-1697565600-1697565600@houstonherald.com
SUMMARY:Houston Chamber of Commerce meeting
DESCRIPTION:Houston Chamber of Commerce meeting beginning at 6:00pm at the Visitor’s Center.
URL:https://houstonherald.com/event/houston-chamber-of-commerce-meeting/2023-10-17/
LOCATION:Chamber of Commerce Visitor’s Center\, 501 E. Walnut St.\, Houston\, MO\, 65483\, United States
ATTACH;FMTTYPE=image/png:https://houstonherald.com/wp-content/uploads/2020/07/Chamber-of-Commerce.png
END:VEVENT
BEGIN:VEVENT
DTSTART;TZID=America/Chicago:20230919T180000
DTEND;TZID=America/Chicago:20230919T180000
DTSTAMP:20260419T110344
CREATED:20200709T184029Z
LAST-MODIFIED:20200709T190101Z
UID:10007001-1695146400-1695146400@houstonherald.com
SUMMARY:Houston Chamber of Commerce meeting
DESCRIPTION:Houston Chamber of Commerce meeting beginning at 6:00pm at the Visitor’s Center.
URL:https://houstonherald.com/event/houston-chamber-of-commerce-meeting/2023-09-19/
LOCATION:Chamber of Commerce Visitor’s Center\, 501 E. Walnut St.\, Houston\, MO\, 65483\, United States
ATTACH;FMTTYPE=image/png:https://houstonherald.com/wp-content/uploads/2020/07/Chamber-of-Commerce.png
END:VEVENT
BEGIN:VEVENT
DTSTART;TZID=America/Chicago:20230815T180000
DTEND;TZID=America/Chicago:20230815T180000
DTSTAMP:20260419T110344
CREATED:20200709T184029Z
LAST-MODIFIED:20200709T190101Z
UID:10007000-1692122400-1692122400@houstonherald.com
SUMMARY:Houston Chamber of Commerce meeting
DESCRIPTION:Houston Chamber of Commerce meeting beginning at 6:00pm at the Visitor’s Center.
URL:https://houstonherald.com/event/houston-chamber-of-commerce-meeting/2023-08-15/
LOCATION:Chamber of Commerce Visitor’s Center\, 501 E. Walnut St.\, Houston\, MO\, 65483\, United States
ATTACH;FMTTYPE=image/png:https://houstonherald.com/wp-content/uploads/2020/07/Chamber-of-Commerce.png
END:VEVENT
BEGIN:VEVENT
DTSTART;TZID=America/Chicago:20230718T180000
DTEND;TZID=America/Chicago:20230718T180000
DTSTAMP:20260419T110344
CREATED:20200709T184029Z
LAST-MODIFIED:20200709T190101Z
UID:10006999-1689703200-1689703200@houstonherald.com
SUMMARY:Houston Chamber of Commerce meeting
DESCRIPTION:Houston Chamber of Commerce meeting beginning at 6:00pm at the Visitor’s Center.
URL:https://houstonherald.com/event/houston-chamber-of-commerce-meeting/2023-07-18/
LOCATION:Chamber of Commerce Visitor’s Center\, 501 E. Walnut St.\, Houston\, MO\, 65483\, United States
ATTACH;FMTTYPE=image/png:https://houstonherald.com/wp-content/uploads/2020/07/Chamber-of-Commerce.png
END:VEVENT
BEGIN:VEVENT
DTSTART;TZID=America/Chicago:20230620T180000
DTEND;TZID=America/Chicago:20230620T180000
DTSTAMP:20260419T110344
CREATED:20200709T184029Z
LAST-MODIFIED:20200709T190101Z
UID:10006998-1687284000-1687284000@houstonherald.com
SUMMARY:Houston Chamber of Commerce meeting
DESCRIPTION:Houston Chamber of Commerce meeting beginning at 6:00pm at the Visitor’s Center.
URL:https://houstonherald.com/event/houston-chamber-of-commerce-meeting/2023-06-20/
LOCATION:Chamber of Commerce Visitor’s Center\, 501 E. Walnut St.\, Houston\, MO\, 65483\, United States
ATTACH;FMTTYPE=image/png:https://houstonherald.com/wp-content/uploads/2020/07/Chamber-of-Commerce.png
END:VEVENT
BEGIN:VEVENT
DTSTART;TZID=America/Chicago:20230516T180000
DTEND;TZID=America/Chicago:20230516T180000
DTSTAMP:20260419T110344
CREATED:20200709T184029Z
LAST-MODIFIED:20200709T190101Z
UID:10006997-1684260000-1684260000@houstonherald.com
SUMMARY:Houston Chamber of Commerce meeting
DESCRIPTION:Houston Chamber of Commerce meeting beginning at 6:00pm at the Visitor’s Center.
URL:https://houstonherald.com/event/houston-chamber-of-commerce-meeting/2023-05-16/
LOCATION:Chamber of Commerce Visitor’s Center\, 501 E. Walnut St.\, Houston\, MO\, 65483\, United States
ATTACH;FMTTYPE=image/png:https://houstonherald.com/wp-content/uploads/2020/07/Chamber-of-Commerce.png
END:VEVENT
BEGIN:VEVENT
DTSTART;TZID=America/Chicago:20230418T180000
DTEND;TZID=America/Chicago:20230418T180000
DTSTAMP:20260419T110344
CREATED:20200709T184029Z
LAST-MODIFIED:20200709T190101Z
UID:10006996-1681840800-1681840800@houstonherald.com
SUMMARY:Houston Chamber of Commerce meeting
DESCRIPTION:Houston Chamber of Commerce meeting beginning at 6:00pm at the Visitor’s Center.
URL:https://houstonherald.com/event/houston-chamber-of-commerce-meeting/2023-04-18/
LOCATION:Chamber of Commerce Visitor’s Center\, 501 E. Walnut St.\, Houston\, MO\, 65483\, United States
ATTACH;FMTTYPE=image/png:https://houstonherald.com/wp-content/uploads/2020/07/Chamber-of-Commerce.png
END:VEVENT
BEGIN:VEVENT
DTSTART;TZID=America/Chicago:20230321T180000
DTEND;TZID=America/Chicago:20230321T180000
DTSTAMP:20260419T110344
CREATED:20200709T184029Z
LAST-MODIFIED:20200709T190101Z
UID:10006995-1679421600-1679421600@houstonherald.com
SUMMARY:Houston Chamber of Commerce meeting
DESCRIPTION:Houston Chamber of Commerce meeting beginning at 6:00pm at the Visitor’s Center.
URL:https://houstonherald.com/event/houston-chamber-of-commerce-meeting/2023-03-21/
LOCATION:Chamber of Commerce Visitor’s Center\, 501 E. Walnut St.\, Houston\, MO\, 65483\, United States
ATTACH;FMTTYPE=image/png:https://houstonherald.com/wp-content/uploads/2020/07/Chamber-of-Commerce.png
END:VEVENT
BEGIN:VEVENT
DTSTART;TZID=America/Chicago:20230221T180000
DTEND;TZID=America/Chicago:20230221T180000
DTSTAMP:20260419T110344
CREATED:20200709T184029Z
LAST-MODIFIED:20200709T190101Z
UID:10006994-1677002400-1677002400@houstonherald.com
SUMMARY:Houston Chamber of Commerce meeting
DESCRIPTION:Houston Chamber of Commerce meeting beginning at 6:00pm at the Visitor’s Center.
URL:https://houstonherald.com/event/houston-chamber-of-commerce-meeting/2023-02-21/
LOCATION:Chamber of Commerce Visitor’s Center\, 501 E. Walnut St.\, Houston\, MO\, 65483\, United States
ATTACH;FMTTYPE=image/png:https://houstonherald.com/wp-content/uploads/2020/07/Chamber-of-Commerce.png
END:VEVENT
BEGIN:VEVENT
DTSTART;TZID=America/Chicago:20230117T180000
DTEND;TZID=America/Chicago:20230117T180000
DTSTAMP:20260419T110344
CREATED:20200709T184029Z
LAST-MODIFIED:20200709T190101Z
UID:10006993-1673978400-1673978400@houstonherald.com
SUMMARY:Houston Chamber of Commerce meeting
DESCRIPTION:Houston Chamber of Commerce meeting beginning at 6:00pm at the Visitor’s Center.
URL:https://houstonherald.com/event/houston-chamber-of-commerce-meeting/2023-01-17/
LOCATION:Chamber of Commerce Visitor’s Center\, 501 E. Walnut St.\, Houston\, MO\, 65483\, United States
ATTACH;FMTTYPE=image/png:https://houstonherald.com/wp-content/uploads/2020/07/Chamber-of-Commerce.png
END:VEVENT
BEGIN:VEVENT
DTSTART;TZID=America/Chicago:20221220T180000
DTEND;TZID=America/Chicago:20221220T180000
DTSTAMP:20260419T110344
CREATED:20200709T184029Z
LAST-MODIFIED:20200709T190101Z
UID:10006992-1671559200-1671559200@houstonherald.com
SUMMARY:Houston Chamber of Commerce meeting
DESCRIPTION:Houston Chamber of Commerce meeting beginning at 6:00pm at the Visitor’s Center.
URL:https://houstonherald.com/event/houston-chamber-of-commerce-meeting/2022-12-20/
LOCATION:Chamber of Commerce Visitor’s Center\, 501 E. Walnut St.\, Houston\, MO\, 65483\, United States
ATTACH;FMTTYPE=image/png:https://houstonherald.com/wp-content/uploads/2020/07/Chamber-of-Commerce.png
END:VEVENT
BEGIN:VEVENT
DTSTART;TZID=America/Chicago:20221115T180000
DTEND;TZID=America/Chicago:20221115T180000
DTSTAMP:20260419T110344
CREATED:20200709T184029Z
LAST-MODIFIED:20200709T190101Z
UID:10006991-1668535200-1668535200@houstonherald.com
SUMMARY:Houston Chamber of Commerce meeting
DESCRIPTION:Houston Chamber of Commerce meeting beginning at 6:00pm at the Visitor’s Center.
URL:https://houstonherald.com/event/houston-chamber-of-commerce-meeting/2022-11-15/
LOCATION:Chamber of Commerce Visitor’s Center\, 501 E. Walnut St.\, Houston\, MO\, 65483\, United States
ATTACH;FMTTYPE=image/png:https://houstonherald.com/wp-content/uploads/2020/07/Chamber-of-Commerce.png
END:VEVENT
BEGIN:VEVENT
DTSTART;TZID=America/Chicago:20221018T180000
DTEND;TZID=America/Chicago:20221018T180000
DTSTAMP:20260419T110344
CREATED:20200709T184029Z
LAST-MODIFIED:20200709T190101Z
UID:10006990-1666116000-1666116000@houstonherald.com
SUMMARY:Houston Chamber of Commerce meeting
DESCRIPTION:Houston Chamber of Commerce meeting beginning at 6:00pm at the Visitor’s Center.
URL:https://houstonherald.com/event/houston-chamber-of-commerce-meeting/2022-10-18/
LOCATION:Chamber of Commerce Visitor’s Center\, 501 E. Walnut St.\, Houston\, MO\, 65483\, United States
ATTACH;FMTTYPE=image/png:https://houstonherald.com/wp-content/uploads/2020/07/Chamber-of-Commerce.png
END:VEVENT
END:VCALENDAR