BEGIN:VCALENDAR
VERSION:2.0
PRODID:-//Houston Herald - ECPv6.15.20//NONSGML v1.0//EN
CALSCALE:GREGORIAN
METHOD:PUBLISH
X-WR-CALNAME:Houston Herald
X-ORIGINAL-URL:https://houstonherald.com
X-WR-CALDESC:Events for Houston Herald
REFRESH-INTERVAL;VALUE=DURATION:PT1H
X-Robots-Tag:noindex
X-PUBLISHED-TTL:PT1H
BEGIN:VTIMEZONE
TZID:America/Chicago
BEGIN:DAYLIGHT
TZOFFSETFROM:-0600
TZOFFSETTO:-0500
TZNAME:CDT
DTSTART:20200308T080000
END:DAYLIGHT
BEGIN:STANDARD
TZOFFSETFROM:-0500
TZOFFSETTO:-0600
TZNAME:CST
DTSTART:20201101T070000
END:STANDARD
BEGIN:DAYLIGHT
TZOFFSETFROM:-0600
TZOFFSETTO:-0500
TZNAME:CDT
DTSTART:20210314T080000
END:DAYLIGHT
BEGIN:STANDARD
TZOFFSETFROM:-0500
TZOFFSETTO:-0600
TZNAME:CST
DTSTART:20211107T070000
END:STANDARD
BEGIN:DAYLIGHT
TZOFFSETFROM:-0600
TZOFFSETTO:-0500
TZNAME:CDT
DTSTART:20220313T080000
END:DAYLIGHT
BEGIN:STANDARD
TZOFFSETFROM:-0500
TZOFFSETTO:-0600
TZNAME:CST
DTSTART:20221106T070000
END:STANDARD
BEGIN:DAYLIGHT
TZOFFSETFROM:-0600
TZOFFSETTO:-0500
TZNAME:CDT
DTSTART:20230312T080000
END:DAYLIGHT
BEGIN:STANDARD
TZOFFSETFROM:-0500
TZOFFSETTO:-0600
TZNAME:CST
DTSTART:20231105T070000
END:STANDARD
END:VTIMEZONE
BEGIN:VEVENT
DTSTART;TZID=America/Chicago:20220508T180000
DTEND;TZID=America/Chicago:20220508T180000
DTSTAMP:20260424T111813
CREATED:20200713T200808Z
LAST-MODIFIED:20200713T200808Z
UID:10009624-1652032800-1652032800@houstonherald.com
SUMMARY:Celebrate Recovery
DESCRIPTION:Celebrate Recovery meeting is 6:00pm at Faith Fellowship Church in Houston\, MO.  Meetings are free and open to the public.
URL:https://houstonherald.com/event/celebrate-recovery/2022-05-08/
LOCATION:Faith Fellowship\, 7804 MO-17\, Houston\, MO\, 65483\, United States
END:VEVENT
BEGIN:VEVENT
DTSTART;TZID=America/Chicago:20220501T180000
DTEND;TZID=America/Chicago:20220501T180000
DTSTAMP:20260424T111813
CREATED:20200713T200808Z
LAST-MODIFIED:20200713T200808Z
UID:10009623-1651428000-1651428000@houstonherald.com
SUMMARY:Celebrate Recovery
DESCRIPTION:Celebrate Recovery meeting is 6:00pm at Faith Fellowship Church in Houston\, MO.  Meetings are free and open to the public.
URL:https://houstonherald.com/event/celebrate-recovery/2022-05-01/
LOCATION:Faith Fellowship\, 7804 MO-17\, Houston\, MO\, 65483\, United States
END:VEVENT
BEGIN:VEVENT
DTSTART;TZID=America/Chicago:20220424T180000
DTEND;TZID=America/Chicago:20220424T180000
DTSTAMP:20260424T111813
CREATED:20200713T200808Z
LAST-MODIFIED:20200713T200808Z
UID:10009622-1650823200-1650823200@houstonherald.com
SUMMARY:Celebrate Recovery
DESCRIPTION:Celebrate Recovery meeting is 6:00pm at Faith Fellowship Church in Houston\, MO.  Meetings are free and open to the public.
URL:https://houstonherald.com/event/celebrate-recovery/2022-04-24/
LOCATION:Faith Fellowship\, 7804 MO-17\, Houston\, MO\, 65483\, United States
END:VEVENT
BEGIN:VEVENT
DTSTART;TZID=America/Chicago:20220417T180000
DTEND;TZID=America/Chicago:20220417T180000
DTSTAMP:20260424T111813
CREATED:20200713T200808Z
LAST-MODIFIED:20200713T200808Z
UID:10009621-1650218400-1650218400@houstonherald.com
SUMMARY:Celebrate Recovery
DESCRIPTION:Celebrate Recovery meeting is 6:00pm at Faith Fellowship Church in Houston\, MO.  Meetings are free and open to the public.
URL:https://houstonherald.com/event/celebrate-recovery/2022-04-17/
LOCATION:Faith Fellowship\, 7804 MO-17\, Houston\, MO\, 65483\, United States
END:VEVENT
BEGIN:VEVENT
DTSTART;TZID=America/Chicago:20220410T180000
DTEND;TZID=America/Chicago:20220410T180000
DTSTAMP:20260424T111813
CREATED:20200713T200808Z
LAST-MODIFIED:20200713T200808Z
UID:10009620-1649613600-1649613600@houstonherald.com
SUMMARY:Celebrate Recovery
DESCRIPTION:Celebrate Recovery meeting is 6:00pm at Faith Fellowship Church in Houston\, MO.  Meetings are free and open to the public.
URL:https://houstonherald.com/event/celebrate-recovery/2022-04-10/
LOCATION:Faith Fellowship\, 7804 MO-17\, Houston\, MO\, 65483\, United States
END:VEVENT
BEGIN:VEVENT
DTSTART;TZID=America/Chicago:20220403T180000
DTEND;TZID=America/Chicago:20220403T180000
DTSTAMP:20260424T111813
CREATED:20200713T200808Z
LAST-MODIFIED:20200713T200808Z
UID:10009619-1649008800-1649008800@houstonherald.com
SUMMARY:Celebrate Recovery
DESCRIPTION:Celebrate Recovery meeting is 6:00pm at Faith Fellowship Church in Houston\, MO.  Meetings are free and open to the public.
URL:https://houstonherald.com/event/celebrate-recovery/2022-04-03/
LOCATION:Faith Fellowship\, 7804 MO-17\, Houston\, MO\, 65483\, United States
END:VEVENT
BEGIN:VEVENT
DTSTART;TZID=America/Chicago:20220327T180000
DTEND;TZID=America/Chicago:20220327T180000
DTSTAMP:20260424T111813
CREATED:20200713T200808Z
LAST-MODIFIED:20200713T200808Z
UID:10009618-1648404000-1648404000@houstonherald.com
SUMMARY:Celebrate Recovery
DESCRIPTION:Celebrate Recovery meeting is 6:00pm at Faith Fellowship Church in Houston\, MO.  Meetings are free and open to the public.
URL:https://houstonherald.com/event/celebrate-recovery/2022-03-27/
LOCATION:Faith Fellowship\, 7804 MO-17\, Houston\, MO\, 65483\, United States
END:VEVENT
BEGIN:VEVENT
DTSTART;TZID=America/Chicago:20220320T180000
DTEND;TZID=America/Chicago:20220320T180000
DTSTAMP:20260424T111813
CREATED:20200713T200808Z
LAST-MODIFIED:20200713T200808Z
UID:10009617-1647799200-1647799200@houstonherald.com
SUMMARY:Celebrate Recovery
DESCRIPTION:Celebrate Recovery meeting is 6:00pm at Faith Fellowship Church in Houston\, MO.  Meetings are free and open to the public.
URL:https://houstonherald.com/event/celebrate-recovery/2022-03-20/
LOCATION:Faith Fellowship\, 7804 MO-17\, Houston\, MO\, 65483\, United States
END:VEVENT
BEGIN:VEVENT
DTSTART;TZID=America/Chicago:20220313T180000
DTEND;TZID=America/Chicago:20220313T180000
DTSTAMP:20260424T111813
CREATED:20200713T200808Z
LAST-MODIFIED:20200713T200808Z
UID:10009616-1647194400-1647194400@houstonherald.com
SUMMARY:Celebrate Recovery
DESCRIPTION:Celebrate Recovery meeting is 6:00pm at Faith Fellowship Church in Houston\, MO.  Meetings are free and open to the public.
URL:https://houstonherald.com/event/celebrate-recovery/2022-03-13/
LOCATION:Faith Fellowship\, 7804 MO-17\, Houston\, MO\, 65483\, United States
END:VEVENT
BEGIN:VEVENT
DTSTART;TZID=America/Chicago:20220306T180000
DTEND;TZID=America/Chicago:20220306T180000
DTSTAMP:20260424T111813
CREATED:20200713T200808Z
LAST-MODIFIED:20200713T200808Z
UID:10009615-1646589600-1646589600@houstonherald.com
SUMMARY:Celebrate Recovery
DESCRIPTION:Celebrate Recovery meeting is 6:00pm at Faith Fellowship Church in Houston\, MO.  Meetings are free and open to the public.
URL:https://houstonherald.com/event/celebrate-recovery/2022-03-06/
LOCATION:Faith Fellowship\, 7804 MO-17\, Houston\, MO\, 65483\, United States
END:VEVENT
BEGIN:VEVENT
DTSTART;TZID=America/Chicago:20220227T180000
DTEND;TZID=America/Chicago:20220227T180000
DTSTAMP:20260424T111813
CREATED:20200713T200808Z
LAST-MODIFIED:20200713T200808Z
UID:10009614-1645984800-1645984800@houstonherald.com
SUMMARY:Celebrate Recovery
DESCRIPTION:Celebrate Recovery meeting is 6:00pm at Faith Fellowship Church in Houston\, MO.  Meetings are free and open to the public.
URL:https://houstonherald.com/event/celebrate-recovery/2022-02-27/
LOCATION:Faith Fellowship\, 7804 MO-17\, Houston\, MO\, 65483\, United States
END:VEVENT
BEGIN:VEVENT
DTSTART;TZID=America/Chicago:20220220T180000
DTEND;TZID=America/Chicago:20220220T180000
DTSTAMP:20260424T111813
CREATED:20200713T200808Z
LAST-MODIFIED:20200713T200808Z
UID:10009613-1645380000-1645380000@houstonherald.com
SUMMARY:Celebrate Recovery
DESCRIPTION:Celebrate Recovery meeting is 6:00pm at Faith Fellowship Church in Houston\, MO.  Meetings are free and open to the public.
URL:https://houstonherald.com/event/celebrate-recovery/2022-02-20/
LOCATION:Faith Fellowship\, 7804 MO-17\, Houston\, MO\, 65483\, United States
END:VEVENT
BEGIN:VEVENT
DTSTART;TZID=America/Chicago:20220213T180000
DTEND;TZID=America/Chicago:20220213T180000
DTSTAMP:20260424T111813
CREATED:20200713T200808Z
LAST-MODIFIED:20200713T200808Z
UID:10009612-1644775200-1644775200@houstonherald.com
SUMMARY:Celebrate Recovery
DESCRIPTION:Celebrate Recovery meeting is 6:00pm at Faith Fellowship Church in Houston\, MO.  Meetings are free and open to the public.
URL:https://houstonherald.com/event/celebrate-recovery/2022-02-13/
LOCATION:Faith Fellowship\, 7804 MO-17\, Houston\, MO\, 65483\, United States
END:VEVENT
BEGIN:VEVENT
DTSTART;TZID=America/Chicago:20220206T180000
DTEND;TZID=America/Chicago:20220206T180000
DTSTAMP:20260424T111813
CREATED:20200713T200808Z
LAST-MODIFIED:20200713T200808Z
UID:10009611-1644170400-1644170400@houstonherald.com
SUMMARY:Celebrate Recovery
DESCRIPTION:Celebrate Recovery meeting is 6:00pm at Faith Fellowship Church in Houston\, MO.  Meetings are free and open to the public.
URL:https://houstonherald.com/event/celebrate-recovery/2022-02-06/
LOCATION:Faith Fellowship\, 7804 MO-17\, Houston\, MO\, 65483\, United States
END:VEVENT
BEGIN:VEVENT
DTSTART;TZID=America/Chicago:20220130T180000
DTEND;TZID=America/Chicago:20220130T180000
DTSTAMP:20260424T111813
CREATED:20200713T200808Z
LAST-MODIFIED:20200713T200808Z
UID:10009610-1643565600-1643565600@houstonherald.com
SUMMARY:Celebrate Recovery
DESCRIPTION:Celebrate Recovery meeting is 6:00pm at Faith Fellowship Church in Houston\, MO.  Meetings are free and open to the public.
URL:https://houstonherald.com/event/celebrate-recovery/2022-01-30/
LOCATION:Faith Fellowship\, 7804 MO-17\, Houston\, MO\, 65483\, United States
END:VEVENT
BEGIN:VEVENT
DTSTART;TZID=America/Chicago:20220123T180000
DTEND;TZID=America/Chicago:20220123T180000
DTSTAMP:20260424T111813
CREATED:20200713T200808Z
LAST-MODIFIED:20200713T200808Z
UID:10009609-1642960800-1642960800@houstonherald.com
SUMMARY:Celebrate Recovery
DESCRIPTION:Celebrate Recovery meeting is 6:00pm at Faith Fellowship Church in Houston\, MO.  Meetings are free and open to the public.
URL:https://houstonherald.com/event/celebrate-recovery/2022-01-23/
LOCATION:Faith Fellowship\, 7804 MO-17\, Houston\, MO\, 65483\, United States
END:VEVENT
BEGIN:VEVENT
DTSTART;TZID=America/Chicago:20220116T180000
DTEND;TZID=America/Chicago:20220116T180000
DTSTAMP:20260424T111813
CREATED:20200713T200808Z
LAST-MODIFIED:20200713T200808Z
UID:10009608-1642356000-1642356000@houstonherald.com
SUMMARY:Celebrate Recovery
DESCRIPTION:Celebrate Recovery meeting is 6:00pm at Faith Fellowship Church in Houston\, MO.  Meetings are free and open to the public.
URL:https://houstonherald.com/event/celebrate-recovery/2022-01-16/
LOCATION:Faith Fellowship\, 7804 MO-17\, Houston\, MO\, 65483\, United States
END:VEVENT
BEGIN:VEVENT
DTSTART;TZID=America/Chicago:20220109T180000
DTEND;TZID=America/Chicago:20220109T180000
DTSTAMP:20260424T111813
CREATED:20200713T200808Z
LAST-MODIFIED:20200713T200808Z
UID:10009607-1641751200-1641751200@houstonherald.com
SUMMARY:Celebrate Recovery
DESCRIPTION:Celebrate Recovery meeting is 6:00pm at Faith Fellowship Church in Houston\, MO.  Meetings are free and open to the public.
URL:https://houstonherald.com/event/celebrate-recovery/2022-01-09/
LOCATION:Faith Fellowship\, 7804 MO-17\, Houston\, MO\, 65483\, United States
END:VEVENT
BEGIN:VEVENT
DTSTART;TZID=America/Chicago:20220102T180000
DTEND;TZID=America/Chicago:20220102T180000
DTSTAMP:20260424T111813
CREATED:20200713T200808Z
LAST-MODIFIED:20200713T200808Z
UID:10009606-1641146400-1641146400@houstonherald.com
SUMMARY:Celebrate Recovery
DESCRIPTION:Celebrate Recovery meeting is 6:00pm at Faith Fellowship Church in Houston\, MO.  Meetings are free and open to the public.
URL:https://houstonherald.com/event/celebrate-recovery/2022-01-02/
LOCATION:Faith Fellowship\, 7804 MO-17\, Houston\, MO\, 65483\, United States
END:VEVENT
BEGIN:VEVENT
DTSTART;TZID=America/Chicago:20211226T180000
DTEND;TZID=America/Chicago:20211226T180000
DTSTAMP:20260424T111813
CREATED:20200713T200808Z
LAST-MODIFIED:20200713T200808Z
UID:10009605-1640541600-1640541600@houstonherald.com
SUMMARY:Celebrate Recovery
DESCRIPTION:Celebrate Recovery meeting is 6:00pm at Faith Fellowship Church in Houston\, MO.  Meetings are free and open to the public.
URL:https://houstonherald.com/event/celebrate-recovery/2021-12-26/
LOCATION:Faith Fellowship\, 7804 MO-17\, Houston\, MO\, 65483\, United States
END:VEVENT
BEGIN:VEVENT
DTSTART;TZID=America/Chicago:20211219T180000
DTEND;TZID=America/Chicago:20211219T180000
DTSTAMP:20260424T111813
CREATED:20200713T200808Z
LAST-MODIFIED:20200713T200808Z
UID:10009604-1639936800-1639936800@houstonherald.com
SUMMARY:Celebrate Recovery
DESCRIPTION:Celebrate Recovery meeting is 6:00pm at Faith Fellowship Church in Houston\, MO.  Meetings are free and open to the public.
URL:https://houstonherald.com/event/celebrate-recovery/2021-12-19/
LOCATION:Faith Fellowship\, 7804 MO-17\, Houston\, MO\, 65483\, United States
END:VEVENT
BEGIN:VEVENT
DTSTART;TZID=America/Chicago:20211212T180000
DTEND;TZID=America/Chicago:20211212T180000
DTSTAMP:20260424T111813
CREATED:20200713T200808Z
LAST-MODIFIED:20200713T200808Z
UID:10009603-1639332000-1639332000@houstonherald.com
SUMMARY:Celebrate Recovery
DESCRIPTION:Celebrate Recovery meeting is 6:00pm at Faith Fellowship Church in Houston\, MO.  Meetings are free and open to the public.
URL:https://houstonherald.com/event/celebrate-recovery/2021-12-12/
LOCATION:Faith Fellowship\, 7804 MO-17\, Houston\, MO\, 65483\, United States
END:VEVENT
BEGIN:VEVENT
DTSTART;TZID=America/Chicago:20211205T180000
DTEND;TZID=America/Chicago:20211205T180000
DTSTAMP:20260424T111813
CREATED:20200713T200808Z
LAST-MODIFIED:20200713T200808Z
UID:10009602-1638727200-1638727200@houstonherald.com
SUMMARY:Celebrate Recovery
DESCRIPTION:Celebrate Recovery meeting is 6:00pm at Faith Fellowship Church in Houston\, MO.  Meetings are free and open to the public.
URL:https://houstonherald.com/event/celebrate-recovery/2021-12-05/
LOCATION:Faith Fellowship\, 7804 MO-17\, Houston\, MO\, 65483\, United States
END:VEVENT
BEGIN:VEVENT
DTSTART;TZID=America/Chicago:20211128T180000
DTEND;TZID=America/Chicago:20211128T180000
DTSTAMP:20260424T111813
CREATED:20200713T200808Z
LAST-MODIFIED:20200713T200808Z
UID:10009601-1638122400-1638122400@houstonherald.com
SUMMARY:Celebrate Recovery
DESCRIPTION:Celebrate Recovery meeting is 6:00pm at Faith Fellowship Church in Houston\, MO.  Meetings are free and open to the public.
URL:https://houstonherald.com/event/celebrate-recovery/2021-11-28/
LOCATION:Faith Fellowship\, 7804 MO-17\, Houston\, MO\, 65483\, United States
END:VEVENT
BEGIN:VEVENT
DTSTART;TZID=America/Chicago:20211121T180000
DTEND;TZID=America/Chicago:20211121T180000
DTSTAMP:20260424T111813
CREATED:20200713T200808Z
LAST-MODIFIED:20200713T200808Z
UID:10009600-1637517600-1637517600@houstonherald.com
SUMMARY:Celebrate Recovery
DESCRIPTION:Celebrate Recovery meeting is 6:00pm at Faith Fellowship Church in Houston\, MO.  Meetings are free and open to the public.
URL:https://houstonherald.com/event/celebrate-recovery/2021-11-21/
LOCATION:Faith Fellowship\, 7804 MO-17\, Houston\, MO\, 65483\, United States
END:VEVENT
BEGIN:VEVENT
DTSTART;TZID=America/Chicago:20211114T180000
DTEND;TZID=America/Chicago:20211114T180000
DTSTAMP:20260424T111813
CREATED:20200713T200808Z
LAST-MODIFIED:20200713T200808Z
UID:10009599-1636912800-1636912800@houstonherald.com
SUMMARY:Celebrate Recovery
DESCRIPTION:Celebrate Recovery meeting is 6:00pm at Faith Fellowship Church in Houston\, MO.  Meetings are free and open to the public.
URL:https://houstonherald.com/event/celebrate-recovery/2021-11-14/
LOCATION:Faith Fellowship\, 7804 MO-17\, Houston\, MO\, 65483\, United States
END:VEVENT
BEGIN:VEVENT
DTSTART;TZID=America/Chicago:20211107T180000
DTEND;TZID=America/Chicago:20211107T180000
DTSTAMP:20260424T111813
CREATED:20200713T200808Z
LAST-MODIFIED:20200713T200808Z
UID:10009598-1636308000-1636308000@houstonherald.com
SUMMARY:Celebrate Recovery
DESCRIPTION:Celebrate Recovery meeting is 6:00pm at Faith Fellowship Church in Houston\, MO.  Meetings are free and open to the public.
URL:https://houstonherald.com/event/celebrate-recovery/2021-11-07/
LOCATION:Faith Fellowship\, 7804 MO-17\, Houston\, MO\, 65483\, United States
END:VEVENT
BEGIN:VEVENT
DTSTART;TZID=America/Chicago:20211031T180000
DTEND;TZID=America/Chicago:20211031T180000
DTSTAMP:20260424T111813
CREATED:20200713T200808Z
LAST-MODIFIED:20200713T200808Z
UID:10009597-1635703200-1635703200@houstonherald.com
SUMMARY:Celebrate Recovery
DESCRIPTION:Celebrate Recovery meeting is 6:00pm at Faith Fellowship Church in Houston\, MO.  Meetings are free and open to the public.
URL:https://houstonherald.com/event/celebrate-recovery/2021-10-31/
LOCATION:Faith Fellowship\, 7804 MO-17\, Houston\, MO\, 65483\, United States
END:VEVENT
BEGIN:VEVENT
DTSTART;TZID=America/Chicago:20211024T180000
DTEND;TZID=America/Chicago:20211024T180000
DTSTAMP:20260424T111813
CREATED:20200713T200808Z
LAST-MODIFIED:20200713T200808Z
UID:10009596-1635098400-1635098400@houstonherald.com
SUMMARY:Celebrate Recovery
DESCRIPTION:Celebrate Recovery meeting is 6:00pm at Faith Fellowship Church in Houston\, MO.  Meetings are free and open to the public.
URL:https://houstonherald.com/event/celebrate-recovery/2021-10-24/
LOCATION:Faith Fellowship\, 7804 MO-17\, Houston\, MO\, 65483\, United States
END:VEVENT
BEGIN:VEVENT
DTSTART;TZID=America/Chicago:20211017T180000
DTEND;TZID=America/Chicago:20211017T180000
DTSTAMP:20260424T111813
CREATED:20200713T200808Z
LAST-MODIFIED:20200713T200808Z
UID:10009595-1634493600-1634493600@houstonherald.com
SUMMARY:Celebrate Recovery
DESCRIPTION:Celebrate Recovery meeting is 6:00pm at Faith Fellowship Church in Houston\, MO.  Meetings are free and open to the public.
URL:https://houstonherald.com/event/celebrate-recovery/2021-10-17/
LOCATION:Faith Fellowship\, 7804 MO-17\, Houston\, MO\, 65483\, United States
END:VEVENT
END:VCALENDAR