BEGIN:VCALENDAR
VERSION:2.0
PRODID:-//Houston Herald - ECPv6.15.20//NONSGML v1.0//EN
CALSCALE:GREGORIAN
METHOD:PUBLISH
X-WR-CALNAME:Houston Herald
X-ORIGINAL-URL:https://houstonherald.com
X-WR-CALDESC:Events for Houston Herald
REFRESH-INTERVAL;VALUE=DURATION:PT1H
X-Robots-Tag:noindex
X-PUBLISHED-TTL:PT1H
BEGIN:VTIMEZONE
TZID:America/Chicago
BEGIN:DAYLIGHT
TZOFFSETFROM:-0600
TZOFFSETTO:-0500
TZNAME:CDT
DTSTART:20240310T080000
END:DAYLIGHT
BEGIN:STANDARD
TZOFFSETFROM:-0500
TZOFFSETTO:-0600
TZNAME:CST
DTSTART:20241103T070000
END:STANDARD
BEGIN:DAYLIGHT
TZOFFSETFROM:-0600
TZOFFSETTO:-0500
TZNAME:CDT
DTSTART:20250309T080000
END:DAYLIGHT
BEGIN:STANDARD
TZOFFSETFROM:-0500
TZOFFSETTO:-0600
TZNAME:CST
DTSTART:20251102T070000
END:STANDARD
BEGIN:DAYLIGHT
TZOFFSETFROM:-0600
TZOFFSETTO:-0500
TZNAME:CDT
DTSTART:20260308T080000
END:DAYLIGHT
BEGIN:STANDARD
TZOFFSETFROM:-0500
TZOFFSETTO:-0600
TZNAME:CST
DTSTART:20261101T070000
END:STANDARD
BEGIN:DAYLIGHT
TZOFFSETFROM:-0600
TZOFFSETTO:-0500
TZNAME:CDT
DTSTART:20270314T080000
END:DAYLIGHT
BEGIN:STANDARD
TZOFFSETFROM:-0500
TZOFFSETTO:-0600
TZNAME:CST
DTSTART:20271107T070000
END:STANDARD
END:VTIMEZONE
BEGIN:VTIMEZONE
TZID:America/Chicago
BEGIN:DAYLIGHT
TZOFFSETFROM:-0600
TZOFFSETTO:-0500
TZNAME:CDT
DTSTART:20240310T080000
END:DAYLIGHT
BEGIN:STANDARD
TZOFFSETFROM:-0500
TZOFFSETTO:-0600
TZNAME:CST
DTSTART:20241103T070000
END:STANDARD
BEGIN:DAYLIGHT
TZOFFSETFROM:-0600
TZOFFSETTO:-0500
TZNAME:CDT
DTSTART:20250309T080000
END:DAYLIGHT
BEGIN:STANDARD
TZOFFSETFROM:-0500
TZOFFSETTO:-0600
TZNAME:CST
DTSTART:20251102T070000
END:STANDARD
BEGIN:DAYLIGHT
TZOFFSETFROM:-0600
TZOFFSETTO:-0500
TZNAME:CDT
DTSTART:20260308T080000
END:DAYLIGHT
BEGIN:STANDARD
TZOFFSETFROM:-0500
TZOFFSETTO:-0600
TZNAME:CST
DTSTART:20261101T070000
END:STANDARD
BEGIN:DAYLIGHT
TZOFFSETFROM:-0600
TZOFFSETTO:-0500
TZNAME:CDT
DTSTART:20270314T080000
END:DAYLIGHT
BEGIN:STANDARD
TZOFFSETFROM:-0500
TZOFFSETTO:-0600
TZNAME:CST
DTSTART:20271107T070000
END:STANDARD
END:VTIMEZONE
BEGIN:VEVENT
DTSTART;TZID=America/Chicago:20260128T190000
DTEND;TZID=America/Chicago:20260128T201500
DTSTAMP:20260425T141403
CREATED:20260128T140833Z
LAST-MODIFIED:20260128T140834Z
UID:10012333-1769626800-1769631300@houstonherald.com
SUMMARY:Faith YTH
DESCRIPTION:Faith YTH is the youth group at Faith Fellowship for grades 7-12. The group meets at 7 p.m. each Wednesday inside the Youth Center. Doors open at 6:30 p.m. \nStudents come early to hang out\, play games and enjoy something from the snack bar. Thirty minutes later\, service begins with a high-energy countdown\, motion lights\, contemporary worship and a message from our student pastor\, David Shaver\, that will encourage\, challenge and build the faith of our teenagers.
URL:https://houstonherald.com/event/launch-student-ministries-2-2/2026-01-28/
LOCATION:Faith Fellowship\, 7804 MO-17\, Houston\, MO\, 65483\, United States
ORGANIZER;CN="Faith Fellowship":MAILTO:office@faithfellowshiphouston.org
END:VEVENT
BEGIN:VEVENT
DTSTART;TZID=America/Chicago:20260125T180000
DTEND;TZID=America/Chicago:20260125T180000
DTSTAMP:20260425T141403
CREATED:20200713T200808Z
LAST-MODIFIED:20200713T200808Z
UID:10009818-1769364000-1769364000@houstonherald.com
SUMMARY:Celebrate Recovery
DESCRIPTION:Celebrate Recovery meeting is 6:00pm at Faith Fellowship Church in Houston\, MO.  Meetings are free and open to the public.
URL:https://houstonherald.com/event/celebrate-recovery/2026-01-25/
LOCATION:Faith Fellowship\, 7804 MO-17\, Houston\, MO\, 65483\, United States
END:VEVENT
BEGIN:VEVENT
DTSTART;TZID=America/Chicago:20260121T190000
DTEND;TZID=America/Chicago:20260121T201500
DTSTAMP:20260425T141403
CREATED:20250715T143432Z
LAST-MODIFIED:20250715T143433Z
UID:10012332-1769022000-1769026500@houstonherald.com
SUMMARY:Launch Student Ministries
DESCRIPTION:Launch Student Ministries is the youth group at Faith Fellowship for grades 7-12. The group meets at 7 p.m. each Wednesday inside the Launch Student Center. Doors open at 6:30 p.m. \nStudents come early to hang out\, play games and enjoy something from the snack bar. Thirty minutes later\, service begins with a high-energy countdown\, motion lights\, contemporary worship and a message from our student pastor\, David Shaver\, that will encourage\, challenge and build the faith of our teenagers.
URL:https://houstonherald.com/event/launch-student-ministries-2/2026-01-21/
LOCATION:Faith Fellowship\, 7804 MO-17\, Houston\, MO\, 65483\, United States
ORGANIZER;CN="Faith Fellowship":MAILTO:office@faithfellowshiphouston.org
END:VEVENT
BEGIN:VEVENT
DTSTART;TZID=America/Chicago:20260118T180000
DTEND;TZID=America/Chicago:20260118T180000
DTSTAMP:20260425T141403
CREATED:20200713T200808Z
LAST-MODIFIED:20200713T200808Z
UID:10009817-1768759200-1768759200@houstonherald.com
SUMMARY:Celebrate Recovery
DESCRIPTION:Celebrate Recovery meeting is 6:00pm at Faith Fellowship Church in Houston\, MO.  Meetings are free and open to the public.
URL:https://houstonherald.com/event/celebrate-recovery/2026-01-18/
LOCATION:Faith Fellowship\, 7804 MO-17\, Houston\, MO\, 65483\, United States
END:VEVENT
BEGIN:VEVENT
DTSTART;TZID=America/Chicago:20260114T190000
DTEND;TZID=America/Chicago:20260114T201500
DTSTAMP:20260425T141403
CREATED:20250715T143432Z
LAST-MODIFIED:20250715T143433Z
UID:10012331-1768417200-1768421700@houstonherald.com
SUMMARY:Launch Student Ministries
DESCRIPTION:Launch Student Ministries is the youth group at Faith Fellowship for grades 7-12. The group meets at 7 p.m. each Wednesday inside the Launch Student Center. Doors open at 6:30 p.m. \nStudents come early to hang out\, play games and enjoy something from the snack bar. Thirty minutes later\, service begins with a high-energy countdown\, motion lights\, contemporary worship and a message from our student pastor\, David Shaver\, that will encourage\, challenge and build the faith of our teenagers.
URL:https://houstonherald.com/event/launch-student-ministries-2/2026-01-14/
LOCATION:Faith Fellowship\, 7804 MO-17\, Houston\, MO\, 65483\, United States
ORGANIZER;CN="Faith Fellowship":MAILTO:office@faithfellowshiphouston.org
END:VEVENT
BEGIN:VEVENT
DTSTART;TZID=America/Chicago:20260111T180000
DTEND;TZID=America/Chicago:20260111T180000
DTSTAMP:20260425T141403
CREATED:20200713T200808Z
LAST-MODIFIED:20200713T200808Z
UID:10009816-1768154400-1768154400@houstonherald.com
SUMMARY:Celebrate Recovery
DESCRIPTION:Celebrate Recovery meeting is 6:00pm at Faith Fellowship Church in Houston\, MO.  Meetings are free and open to the public.
URL:https://houstonherald.com/event/celebrate-recovery/2026-01-11/
LOCATION:Faith Fellowship\, 7804 MO-17\, Houston\, MO\, 65483\, United States
END:VEVENT
BEGIN:VEVENT
DTSTART;TZID=America/Chicago:20260107T190000
DTEND;TZID=America/Chicago:20260107T201500
DTSTAMP:20260425T141403
CREATED:20250715T143432Z
LAST-MODIFIED:20250715T143433Z
UID:10012330-1767812400-1767816900@houstonherald.com
SUMMARY:Launch Student Ministries
DESCRIPTION:Launch Student Ministries is the youth group at Faith Fellowship for grades 7-12. The group meets at 7 p.m. each Wednesday inside the Launch Student Center. Doors open at 6:30 p.m. \nStudents come early to hang out\, play games and enjoy something from the snack bar. Thirty minutes later\, service begins with a high-energy countdown\, motion lights\, contemporary worship and a message from our student pastor\, David Shaver\, that will encourage\, challenge and build the faith of our teenagers.
URL:https://houstonherald.com/event/launch-student-ministries-2/2026-01-07/
LOCATION:Faith Fellowship\, 7804 MO-17\, Houston\, MO\, 65483\, United States
ORGANIZER;CN="Faith Fellowship":MAILTO:office@faithfellowshiphouston.org
END:VEVENT
BEGIN:VEVENT
DTSTART;TZID=America/Chicago:20260104T180000
DTEND;TZID=America/Chicago:20260104T180000
DTSTAMP:20260425T141403
CREATED:20200713T200808Z
LAST-MODIFIED:20200713T200808Z
UID:10009815-1767549600-1767549600@houstonherald.com
SUMMARY:Celebrate Recovery
DESCRIPTION:Celebrate Recovery meeting is 6:00pm at Faith Fellowship Church in Houston\, MO.  Meetings are free and open to the public.
URL:https://houstonherald.com/event/celebrate-recovery/2026-01-04/
LOCATION:Faith Fellowship\, 7804 MO-17\, Houston\, MO\, 65483\, United States
END:VEVENT
BEGIN:VEVENT
DTSTART;TZID=America/Chicago:20251231T190000
DTEND;TZID=America/Chicago:20251231T201500
DTSTAMP:20260425T141403
CREATED:20250715T143432Z
LAST-MODIFIED:20250715T143433Z
UID:10012329-1767207600-1767212100@houstonherald.com
SUMMARY:Launch Student Ministries
DESCRIPTION:Launch Student Ministries is the youth group at Faith Fellowship for grades 7-12. The group meets at 7 p.m. each Wednesday inside the Launch Student Center. Doors open at 6:30 p.m. \nStudents come early to hang out\, play games and enjoy something from the snack bar. Thirty minutes later\, service begins with a high-energy countdown\, motion lights\, contemporary worship and a message from our student pastor\, David Shaver\, that will encourage\, challenge and build the faith of our teenagers.
URL:https://houstonherald.com/event/launch-student-ministries-2/2025-12-31/
LOCATION:Faith Fellowship\, 7804 MO-17\, Houston\, MO\, 65483\, United States
ORGANIZER;CN="Faith Fellowship":MAILTO:office@faithfellowshiphouston.org
END:VEVENT
BEGIN:VEVENT
DTSTART;TZID=America/Chicago:20251228T180000
DTEND;TZID=America/Chicago:20251228T180000
DTSTAMP:20260425T141403
CREATED:20200713T200808Z
LAST-MODIFIED:20200713T200808Z
UID:10009814-1766944800-1766944800@houstonherald.com
SUMMARY:Celebrate Recovery
DESCRIPTION:Celebrate Recovery meeting is 6:00pm at Faith Fellowship Church in Houston\, MO.  Meetings are free and open to the public.
URL:https://houstonherald.com/event/celebrate-recovery/2025-12-28/
LOCATION:Faith Fellowship\, 7804 MO-17\, Houston\, MO\, 65483\, United States
END:VEVENT
BEGIN:VEVENT
DTSTART;TZID=America/Chicago:20251224T190000
DTEND;TZID=America/Chicago:20251224T201500
DTSTAMP:20260425T141403
CREATED:20250715T143432Z
LAST-MODIFIED:20250715T143433Z
UID:10012328-1766602800-1766607300@houstonherald.com
SUMMARY:Launch Student Ministries
DESCRIPTION:Launch Student Ministries is the youth group at Faith Fellowship for grades 7-12. The group meets at 7 p.m. each Wednesday inside the Launch Student Center. Doors open at 6:30 p.m. \nStudents come early to hang out\, play games and enjoy something from the snack bar. Thirty minutes later\, service begins with a high-energy countdown\, motion lights\, contemporary worship and a message from our student pastor\, David Shaver\, that will encourage\, challenge and build the faith of our teenagers.
URL:https://houstonherald.com/event/launch-student-ministries-2/2025-12-24/
LOCATION:Faith Fellowship\, 7804 MO-17\, Houston\, MO\, 65483\, United States
ORGANIZER;CN="Faith Fellowship":MAILTO:office@faithfellowshiphouston.org
END:VEVENT
BEGIN:VEVENT
DTSTART;TZID=America/Chicago:20251221T180000
DTEND;TZID=America/Chicago:20251221T180000
DTSTAMP:20260425T141403
CREATED:20200713T200808Z
LAST-MODIFIED:20200713T200808Z
UID:10009813-1766340000-1766340000@houstonherald.com
SUMMARY:Celebrate Recovery
DESCRIPTION:Celebrate Recovery meeting is 6:00pm at Faith Fellowship Church in Houston\, MO.  Meetings are free and open to the public.
URL:https://houstonherald.com/event/celebrate-recovery/2025-12-21/
LOCATION:Faith Fellowship\, 7804 MO-17\, Houston\, MO\, 65483\, United States
END:VEVENT
BEGIN:VEVENT
DTSTART;TZID=America/Chicago:20251217T190000
DTEND;TZID=America/Chicago:20251217T201500
DTSTAMP:20260425T141403
CREATED:20250715T143432Z
LAST-MODIFIED:20250715T143433Z
UID:10012327-1765998000-1766002500@houstonherald.com
SUMMARY:Launch Student Ministries
DESCRIPTION:Launch Student Ministries is the youth group at Faith Fellowship for grades 7-12. The group meets at 7 p.m. each Wednesday inside the Launch Student Center. Doors open at 6:30 p.m. \nStudents come early to hang out\, play games and enjoy something from the snack bar. Thirty minutes later\, service begins with a high-energy countdown\, motion lights\, contemporary worship and a message from our student pastor\, David Shaver\, that will encourage\, challenge and build the faith of our teenagers.
URL:https://houstonherald.com/event/launch-student-ministries-2/2025-12-17/
LOCATION:Faith Fellowship\, 7804 MO-17\, Houston\, MO\, 65483\, United States
ORGANIZER;CN="Faith Fellowship":MAILTO:office@faithfellowshiphouston.org
END:VEVENT
BEGIN:VEVENT
DTSTART;TZID=America/Chicago:20251214T180000
DTEND;TZID=America/Chicago:20251214T180000
DTSTAMP:20260425T141403
CREATED:20200713T200808Z
LAST-MODIFIED:20200713T200808Z
UID:10009812-1765735200-1765735200@houstonherald.com
SUMMARY:Celebrate Recovery
DESCRIPTION:Celebrate Recovery meeting is 6:00pm at Faith Fellowship Church in Houston\, MO.  Meetings are free and open to the public.
URL:https://houstonherald.com/event/celebrate-recovery/2025-12-14/
LOCATION:Faith Fellowship\, 7804 MO-17\, Houston\, MO\, 65483\, United States
END:VEVENT
BEGIN:VEVENT
DTSTART;TZID=America/Chicago:20251210T190000
DTEND;TZID=America/Chicago:20251210T201500
DTSTAMP:20260425T141403
CREATED:20250715T143432Z
LAST-MODIFIED:20250715T143433Z
UID:10012326-1765393200-1765397700@houstonherald.com
SUMMARY:Launch Student Ministries
DESCRIPTION:Launch Student Ministries is the youth group at Faith Fellowship for grades 7-12. The group meets at 7 p.m. each Wednesday inside the Launch Student Center. Doors open at 6:30 p.m. \nStudents come early to hang out\, play games and enjoy something from the snack bar. Thirty minutes later\, service begins with a high-energy countdown\, motion lights\, contemporary worship and a message from our student pastor\, David Shaver\, that will encourage\, challenge and build the faith of our teenagers.
URL:https://houstonherald.com/event/launch-student-ministries-2/2025-12-10/
LOCATION:Faith Fellowship\, 7804 MO-17\, Houston\, MO\, 65483\, United States
ORGANIZER;CN="Faith Fellowship":MAILTO:office@faithfellowshiphouston.org
END:VEVENT
BEGIN:VEVENT
DTSTART;TZID=America/Chicago:20251207T180000
DTEND;TZID=America/Chicago:20251207T180000
DTSTAMP:20260425T141403
CREATED:20200713T200808Z
LAST-MODIFIED:20200713T200808Z
UID:10009811-1765130400-1765130400@houstonherald.com
SUMMARY:Celebrate Recovery
DESCRIPTION:Celebrate Recovery meeting is 6:00pm at Faith Fellowship Church in Houston\, MO.  Meetings are free and open to the public.
URL:https://houstonherald.com/event/celebrate-recovery/2025-12-07/
LOCATION:Faith Fellowship\, 7804 MO-17\, Houston\, MO\, 65483\, United States
END:VEVENT
BEGIN:VEVENT
DTSTART;TZID=America/Chicago:20251203T190000
DTEND;TZID=America/Chicago:20251203T201500
DTSTAMP:20260425T141403
CREATED:20250715T143432Z
LAST-MODIFIED:20250715T143433Z
UID:10012325-1764788400-1764792900@houstonherald.com
SUMMARY:Launch Student Ministries
DESCRIPTION:Launch Student Ministries is the youth group at Faith Fellowship for grades 7-12. The group meets at 7 p.m. each Wednesday inside the Launch Student Center. Doors open at 6:30 p.m. \nStudents come early to hang out\, play games and enjoy something from the snack bar. Thirty minutes later\, service begins with a high-energy countdown\, motion lights\, contemporary worship and a message from our student pastor\, David Shaver\, that will encourage\, challenge and build the faith of our teenagers.
URL:https://houstonherald.com/event/launch-student-ministries-2/2025-12-03/
LOCATION:Faith Fellowship\, 7804 MO-17\, Houston\, MO\, 65483\, United States
ORGANIZER;CN="Faith Fellowship":MAILTO:office@faithfellowshiphouston.org
END:VEVENT
BEGIN:VEVENT
DTSTART;TZID=America/Chicago:20251130T180000
DTEND;TZID=America/Chicago:20251130T180000
DTSTAMP:20260425T141403
CREATED:20200713T200808Z
LAST-MODIFIED:20200713T200808Z
UID:10009810-1764525600-1764525600@houstonherald.com
SUMMARY:Celebrate Recovery
DESCRIPTION:Celebrate Recovery meeting is 6:00pm at Faith Fellowship Church in Houston\, MO.  Meetings are free and open to the public.
URL:https://houstonherald.com/event/celebrate-recovery/2025-11-30/
LOCATION:Faith Fellowship\, 7804 MO-17\, Houston\, MO\, 65483\, United States
END:VEVENT
BEGIN:VEVENT
DTSTART;TZID=America/Chicago:20251126T190000
DTEND;TZID=America/Chicago:20251126T201500
DTSTAMP:20260425T141403
CREATED:20250715T143432Z
LAST-MODIFIED:20250715T143433Z
UID:10012324-1764183600-1764188100@houstonherald.com
SUMMARY:Launch Student Ministries
DESCRIPTION:Launch Student Ministries is the youth group at Faith Fellowship for grades 7-12. The group meets at 7 p.m. each Wednesday inside the Launch Student Center. Doors open at 6:30 p.m. \nStudents come early to hang out\, play games and enjoy something from the snack bar. Thirty minutes later\, service begins with a high-energy countdown\, motion lights\, contemporary worship and a message from our student pastor\, David Shaver\, that will encourage\, challenge and build the faith of our teenagers.
URL:https://houstonherald.com/event/launch-student-ministries-2/2025-11-26/
LOCATION:Faith Fellowship\, 7804 MO-17\, Houston\, MO\, 65483\, United States
ORGANIZER;CN="Faith Fellowship":MAILTO:office@faithfellowshiphouston.org
END:VEVENT
BEGIN:VEVENT
DTSTART;TZID=America/Chicago:20251123T180000
DTEND;TZID=America/Chicago:20251123T180000
DTSTAMP:20260425T141403
CREATED:20200713T200808Z
LAST-MODIFIED:20200713T200808Z
UID:10009809-1763920800-1763920800@houstonherald.com
SUMMARY:Celebrate Recovery
DESCRIPTION:Celebrate Recovery meeting is 6:00pm at Faith Fellowship Church in Houston\, MO.  Meetings are free and open to the public.
URL:https://houstonherald.com/event/celebrate-recovery/2025-11-23/
LOCATION:Faith Fellowship\, 7804 MO-17\, Houston\, MO\, 65483\, United States
END:VEVENT
BEGIN:VEVENT
DTSTART;TZID=America/Chicago:20251119T190000
DTEND;TZID=America/Chicago:20251119T201500
DTSTAMP:20260425T141403
CREATED:20250715T143432Z
LAST-MODIFIED:20250715T143433Z
UID:10012323-1763578800-1763583300@houstonherald.com
SUMMARY:Launch Student Ministries
DESCRIPTION:Launch Student Ministries is the youth group at Faith Fellowship for grades 7-12. The group meets at 7 p.m. each Wednesday inside the Launch Student Center. Doors open at 6:30 p.m. \nStudents come early to hang out\, play games and enjoy something from the snack bar. Thirty minutes later\, service begins with a high-energy countdown\, motion lights\, contemporary worship and a message from our student pastor\, David Shaver\, that will encourage\, challenge and build the faith of our teenagers.
URL:https://houstonherald.com/event/launch-student-ministries-2/2025-11-19/
LOCATION:Faith Fellowship\, 7804 MO-17\, Houston\, MO\, 65483\, United States
ORGANIZER;CN="Faith Fellowship":MAILTO:office@faithfellowshiphouston.org
END:VEVENT
BEGIN:VEVENT
DTSTART;TZID=America/Chicago:20251116T180000
DTEND;TZID=America/Chicago:20251116T180000
DTSTAMP:20260425T141403
CREATED:20200713T200808Z
LAST-MODIFIED:20200713T200808Z
UID:10009808-1763316000-1763316000@houstonherald.com
SUMMARY:Celebrate Recovery
DESCRIPTION:Celebrate Recovery meeting is 6:00pm at Faith Fellowship Church in Houston\, MO.  Meetings are free and open to the public.
URL:https://houstonherald.com/event/celebrate-recovery/2025-11-16/
LOCATION:Faith Fellowship\, 7804 MO-17\, Houston\, MO\, 65483\, United States
END:VEVENT
BEGIN:VEVENT
DTSTART;TZID=America/Chicago:20251112T190000
DTEND;TZID=America/Chicago:20251112T201500
DTSTAMP:20260425T141403
CREATED:20250715T143432Z
LAST-MODIFIED:20250715T143433Z
UID:10012322-1762974000-1762978500@houstonherald.com
SUMMARY:Launch Student Ministries
DESCRIPTION:Launch Student Ministries is the youth group at Faith Fellowship for grades 7-12. The group meets at 7 p.m. each Wednesday inside the Launch Student Center. Doors open at 6:30 p.m. \nStudents come early to hang out\, play games and enjoy something from the snack bar. Thirty minutes later\, service begins with a high-energy countdown\, motion lights\, contemporary worship and a message from our student pastor\, David Shaver\, that will encourage\, challenge and build the faith of our teenagers.
URL:https://houstonherald.com/event/launch-student-ministries-2/2025-11-12/
LOCATION:Faith Fellowship\, 7804 MO-17\, Houston\, MO\, 65483\, United States
ORGANIZER;CN="Faith Fellowship":MAILTO:office@faithfellowshiphouston.org
END:VEVENT
BEGIN:VEVENT
DTSTART;TZID=America/Chicago:20251109T180000
DTEND;TZID=America/Chicago:20251109T180000
DTSTAMP:20260425T141403
CREATED:20200713T200808Z
LAST-MODIFIED:20200713T200808Z
UID:10009807-1762711200-1762711200@houstonherald.com
SUMMARY:Celebrate Recovery
DESCRIPTION:Celebrate Recovery meeting is 6:00pm at Faith Fellowship Church in Houston\, MO.  Meetings are free and open to the public.
URL:https://houstonherald.com/event/celebrate-recovery/2025-11-09/
LOCATION:Faith Fellowship\, 7804 MO-17\, Houston\, MO\, 65483\, United States
END:VEVENT
BEGIN:VEVENT
DTSTART;TZID=America/Chicago:20251105T190000
DTEND;TZID=America/Chicago:20251105T201500
DTSTAMP:20260425T141403
CREATED:20250715T143432Z
LAST-MODIFIED:20250715T143433Z
UID:10012321-1762369200-1762373700@houstonherald.com
SUMMARY:Launch Student Ministries
DESCRIPTION:Launch Student Ministries is the youth group at Faith Fellowship for grades 7-12. The group meets at 7 p.m. each Wednesday inside the Launch Student Center. Doors open at 6:30 p.m. \nStudents come early to hang out\, play games and enjoy something from the snack bar. Thirty minutes later\, service begins with a high-energy countdown\, motion lights\, contemporary worship and a message from our student pastor\, David Shaver\, that will encourage\, challenge and build the faith of our teenagers.
URL:https://houstonherald.com/event/launch-student-ministries-2/2025-11-05/
LOCATION:Faith Fellowship\, 7804 MO-17\, Houston\, MO\, 65483\, United States
ORGANIZER;CN="Faith Fellowship":MAILTO:office@faithfellowshiphouston.org
END:VEVENT
BEGIN:VEVENT
DTSTART;TZID=America/Chicago:20251102T180000
DTEND;TZID=America/Chicago:20251102T180000
DTSTAMP:20260425T141403
CREATED:20200713T200808Z
LAST-MODIFIED:20200713T200808Z
UID:10009806-1762106400-1762106400@houstonherald.com
SUMMARY:Celebrate Recovery
DESCRIPTION:Celebrate Recovery meeting is 6:00pm at Faith Fellowship Church in Houston\, MO.  Meetings are free and open to the public.
URL:https://houstonherald.com/event/celebrate-recovery/2025-11-02/
LOCATION:Faith Fellowship\, 7804 MO-17\, Houston\, MO\, 65483\, United States
END:VEVENT
BEGIN:VEVENT
DTSTART;TZID=America/Chicago:20251029T190000
DTEND;TZID=America/Chicago:20251029T201500
DTSTAMP:20260425T141403
CREATED:20250715T143432Z
LAST-MODIFIED:20250715T143433Z
UID:10012320-1761764400-1761768900@houstonherald.com
SUMMARY:Launch Student Ministries
DESCRIPTION:Launch Student Ministries is the youth group at Faith Fellowship for grades 7-12. The group meets at 7 p.m. each Wednesday inside the Launch Student Center. Doors open at 6:30 p.m. \nStudents come early to hang out\, play games and enjoy something from the snack bar. Thirty minutes later\, service begins with a high-energy countdown\, motion lights\, contemporary worship and a message from our student pastor\, David Shaver\, that will encourage\, challenge and build the faith of our teenagers.
URL:https://houstonherald.com/event/launch-student-ministries-2/2025-10-29/
LOCATION:Faith Fellowship\, 7804 MO-17\, Houston\, MO\, 65483\, United States
ORGANIZER;CN="Faith Fellowship":MAILTO:office@faithfellowshiphouston.org
END:VEVENT
BEGIN:VEVENT
DTSTART;TZID=America/Chicago:20251026T180000
DTEND;TZID=America/Chicago:20251026T180000
DTSTAMP:20260425T141403
CREATED:20200713T200808Z
LAST-MODIFIED:20200713T200808Z
UID:10009805-1761501600-1761501600@houstonherald.com
SUMMARY:Celebrate Recovery
DESCRIPTION:Celebrate Recovery meeting is 6:00pm at Faith Fellowship Church in Houston\, MO.  Meetings are free and open to the public.
URL:https://houstonherald.com/event/celebrate-recovery/2025-10-26/
LOCATION:Faith Fellowship\, 7804 MO-17\, Houston\, MO\, 65483\, United States
END:VEVENT
BEGIN:VEVENT
DTSTART;TZID=America/Chicago:20251022T190000
DTEND;TZID=America/Chicago:20251022T201500
DTSTAMP:20260425T141403
CREATED:20250715T143432Z
LAST-MODIFIED:20250715T143433Z
UID:10012319-1761159600-1761164100@houstonherald.com
SUMMARY:Launch Student Ministries
DESCRIPTION:Launch Student Ministries is the youth group at Faith Fellowship for grades 7-12. The group meets at 7 p.m. each Wednesday inside the Launch Student Center. Doors open at 6:30 p.m. \nStudents come early to hang out\, play games and enjoy something from the snack bar. Thirty minutes later\, service begins with a high-energy countdown\, motion lights\, contemporary worship and a message from our student pastor\, David Shaver\, that will encourage\, challenge and build the faith of our teenagers.
URL:https://houstonherald.com/event/launch-student-ministries-2/2025-10-22/
LOCATION:Faith Fellowship\, 7804 MO-17\, Houston\, MO\, 65483\, United States
ORGANIZER;CN="Faith Fellowship":MAILTO:office@faithfellowshiphouston.org
END:VEVENT
BEGIN:VEVENT
DTSTART;TZID=America/Chicago:20251019T180000
DTEND;TZID=America/Chicago:20251019T180000
DTSTAMP:20260425T141403
CREATED:20200713T200808Z
LAST-MODIFIED:20200713T200808Z
UID:10009804-1760896800-1760896800@houstonherald.com
SUMMARY:Celebrate Recovery
DESCRIPTION:Celebrate Recovery meeting is 6:00pm at Faith Fellowship Church in Houston\, MO.  Meetings are free and open to the public.
URL:https://houstonherald.com/event/celebrate-recovery/2025-10-19/
LOCATION:Faith Fellowship\, 7804 MO-17\, Houston\, MO\, 65483\, United States
END:VEVENT
END:VCALENDAR