BEGIN:VCALENDAR
VERSION:2.0
PRODID:-//Houston Herald - ECPv6.15.20//NONSGML v1.0//EN
CALSCALE:GREGORIAN
METHOD:PUBLISH
X-WR-CALNAME:Houston Herald
X-ORIGINAL-URL:https://houstonherald.com
X-WR-CALDESC:Events for Houston Herald
REFRESH-INTERVAL;VALUE=DURATION:PT1H
X-Robots-Tag:noindex
X-PUBLISHED-TTL:PT1H
BEGIN:VTIMEZONE
TZID:America/Chicago
BEGIN:DAYLIGHT
TZOFFSETFROM:-0600
TZOFFSETTO:-0500
TZNAME:CDT
DTSTART:20190310T080000
END:DAYLIGHT
BEGIN:STANDARD
TZOFFSETFROM:-0500
TZOFFSETTO:-0600
TZNAME:CST
DTSTART:20191103T070000
END:STANDARD
BEGIN:DAYLIGHT
TZOFFSETFROM:-0600
TZOFFSETTO:-0500
TZNAME:CDT
DTSTART:20200308T080000
END:DAYLIGHT
BEGIN:STANDARD
TZOFFSETFROM:-0500
TZOFFSETTO:-0600
TZNAME:CST
DTSTART:20201101T070000
END:STANDARD
BEGIN:DAYLIGHT
TZOFFSETFROM:-0600
TZOFFSETTO:-0500
TZNAME:CDT
DTSTART:20210314T080000
END:DAYLIGHT
BEGIN:STANDARD
TZOFFSETFROM:-0500
TZOFFSETTO:-0600
TZNAME:CST
DTSTART:20211107T070000
END:STANDARD
BEGIN:DAYLIGHT
TZOFFSETFROM:-0600
TZOFFSETTO:-0500
TZNAME:CDT
DTSTART:20220313T080000
END:DAYLIGHT
BEGIN:STANDARD
TZOFFSETFROM:-0500
TZOFFSETTO:-0600
TZNAME:CST
DTSTART:20221106T070000
END:STANDARD
BEGIN:DAYLIGHT
TZOFFSETFROM:-0600
TZOFFSETTO:-0500
TZNAME:CDT
DTSTART:20230312T080000
END:DAYLIGHT
BEGIN:STANDARD
TZOFFSETFROM:-0500
TZOFFSETTO:-0600
TZNAME:CST
DTSTART:20231105T070000
END:STANDARD
END:VTIMEZONE
BEGIN:VEVENT
DTSTART;TZID=America/Chicago:20220405T133000
DTEND;TZID=America/Chicago:20220405T133000
DTSTAMP:20260421T005054
CREATED:20200709T184623Z
LAST-MODIFIED:20200709T184623Z
UID:10007057-1649165400-1649165400@houstonherald.com
SUMMARY:Houston Garden Club meeting
DESCRIPTION:Houston Garden Club meeting is 1:30pm in the fellowship hall at the First Baptist Church in Houston.
URL:https://houstonherald.com/event/houston-garden-club-meeting/2022-04-05/
LOCATION:First Baptist Church fellowship hall\, 1241 Hawthorn St\, Houston\, MO\, 65483
END:VEVENT
BEGIN:VEVENT
DTSTART;TZID=America/Chicago:20220301T133000
DTEND;TZID=America/Chicago:20220301T133000
DTSTAMP:20260421T005054
CREATED:20200709T184623Z
LAST-MODIFIED:20200709T184623Z
UID:10007056-1646141400-1646141400@houstonherald.com
SUMMARY:Houston Garden Club meeting
DESCRIPTION:Houston Garden Club meeting is 1:30pm in the fellowship hall at the First Baptist Church in Houston.
URL:https://houstonherald.com/event/houston-garden-club-meeting/2022-03-01/
LOCATION:First Baptist Church fellowship hall\, 1241 Hawthorn St\, Houston\, MO\, 65483
END:VEVENT
BEGIN:VEVENT
DTSTART;TZID=America/Chicago:20220201T133000
DTEND;TZID=America/Chicago:20220201T133000
DTSTAMP:20260421T005054
CREATED:20200709T184623Z
LAST-MODIFIED:20200709T184623Z
UID:10007055-1643722200-1643722200@houstonherald.com
SUMMARY:Houston Garden Club meeting
DESCRIPTION:Houston Garden Club meeting is 1:30pm in the fellowship hall at the First Baptist Church in Houston.
URL:https://houstonherald.com/event/houston-garden-club-meeting/2022-02-01/
LOCATION:First Baptist Church fellowship hall\, 1241 Hawthorn St\, Houston\, MO\, 65483
END:VEVENT
BEGIN:VEVENT
DTSTART;TZID=America/Chicago:20220104T133000
DTEND;TZID=America/Chicago:20220104T133000
DTSTAMP:20260421T005054
CREATED:20200709T184623Z
LAST-MODIFIED:20200709T184623Z
UID:10007054-1641303000-1641303000@houstonherald.com
SUMMARY:Houston Garden Club meeting
DESCRIPTION:Houston Garden Club meeting is 1:30pm in the fellowship hall at the First Baptist Church in Houston.
URL:https://houstonherald.com/event/houston-garden-club-meeting/2022-01-04/
LOCATION:First Baptist Church fellowship hall\, 1241 Hawthorn St\, Houston\, MO\, 65483
END:VEVENT
BEGIN:VEVENT
DTSTART;TZID=America/Chicago:20211207T133000
DTEND;TZID=America/Chicago:20211207T133000
DTSTAMP:20260421T005054
CREATED:20200709T184623Z
LAST-MODIFIED:20200709T184623Z
UID:10007053-1638883800-1638883800@houstonherald.com
SUMMARY:Houston Garden Club meeting
DESCRIPTION:Houston Garden Club meeting is 1:30pm in the fellowship hall at the First Baptist Church in Houston.
URL:https://houstonherald.com/event/houston-garden-club-meeting/2021-12-07/
LOCATION:First Baptist Church fellowship hall\, 1241 Hawthorn St\, Houston\, MO\, 65483
END:VEVENT
BEGIN:VEVENT
DTSTART;TZID=America/Chicago:20211102T133000
DTEND;TZID=America/Chicago:20211102T133000
DTSTAMP:20260421T005054
CREATED:20200709T184623Z
LAST-MODIFIED:20200709T184623Z
UID:10007052-1635859800-1635859800@houstonherald.com
SUMMARY:Houston Garden Club meeting
DESCRIPTION:Houston Garden Club meeting is 1:30pm in the fellowship hall at the First Baptist Church in Houston.
URL:https://houstonherald.com/event/houston-garden-club-meeting/2021-11-02/
LOCATION:First Baptist Church fellowship hall\, 1241 Hawthorn St\, Houston\, MO\, 65483
END:VEVENT
BEGIN:VEVENT
DTSTART;TZID=America/Chicago:20211005T133000
DTEND;TZID=America/Chicago:20211005T133000
DTSTAMP:20260421T005054
CREATED:20200709T184623Z
LAST-MODIFIED:20200709T184623Z
UID:10007051-1633440600-1633440600@houstonherald.com
SUMMARY:Houston Garden Club meeting
DESCRIPTION:Houston Garden Club meeting is 1:30pm in the fellowship hall at the First Baptist Church in Houston.
URL:https://houstonherald.com/event/houston-garden-club-meeting/2021-10-05/
LOCATION:First Baptist Church fellowship hall\, 1241 Hawthorn St\, Houston\, MO\, 65483
END:VEVENT
BEGIN:VEVENT
DTSTART;TZID=America/Chicago:20210907T133000
DTEND;TZID=America/Chicago:20210907T133000
DTSTAMP:20260421T005054
CREATED:20200709T184623Z
LAST-MODIFIED:20200709T184623Z
UID:10007050-1631021400-1631021400@houstonherald.com
SUMMARY:Houston Garden Club meeting
DESCRIPTION:Houston Garden Club meeting is 1:30pm in the fellowship hall at the First Baptist Church in Houston.
URL:https://houstonherald.com/event/houston-garden-club-meeting/2021-09-07/
LOCATION:First Baptist Church fellowship hall\, 1241 Hawthorn St\, Houston\, MO\, 65483
END:VEVENT
BEGIN:VEVENT
DTSTART;TZID=America/Chicago:20210803T133000
DTEND;TZID=America/Chicago:20210803T133000
DTSTAMP:20260421T005054
CREATED:20200709T184623Z
LAST-MODIFIED:20200709T184623Z
UID:10007049-1627997400-1627997400@houstonherald.com
SUMMARY:Houston Garden Club meeting
DESCRIPTION:Houston Garden Club meeting is 1:30pm in the fellowship hall at the First Baptist Church in Houston.
URL:https://houstonherald.com/event/houston-garden-club-meeting/2021-08-03/
LOCATION:First Baptist Church fellowship hall\, 1241 Hawthorn St\, Houston\, MO\, 65483
END:VEVENT
BEGIN:VEVENT
DTSTART;TZID=America/Chicago:20210706T133000
DTEND;TZID=America/Chicago:20210706T133000
DTSTAMP:20260421T005054
CREATED:20200709T184623Z
LAST-MODIFIED:20200709T184623Z
UID:10007048-1625578200-1625578200@houstonherald.com
SUMMARY:Houston Garden Club meeting
DESCRIPTION:Houston Garden Club meeting is 1:30pm in the fellowship hall at the First Baptist Church in Houston.
URL:https://houstonherald.com/event/houston-garden-club-meeting/2021-07-06/
LOCATION:First Baptist Church fellowship hall\, 1241 Hawthorn St\, Houston\, MO\, 65483
END:VEVENT
BEGIN:VEVENT
DTSTART;TZID=America/Chicago:20210601T133000
DTEND;TZID=America/Chicago:20210601T133000
DTSTAMP:20260421T005054
CREATED:20200709T184623Z
LAST-MODIFIED:20200709T184623Z
UID:10007047-1622554200-1622554200@houstonherald.com
SUMMARY:Houston Garden Club meeting
DESCRIPTION:Houston Garden Club meeting is 1:30pm in the fellowship hall at the First Baptist Church in Houston.
URL:https://houstonherald.com/event/houston-garden-club-meeting/2021-06-01/
LOCATION:First Baptist Church fellowship hall\, 1241 Hawthorn St\, Houston\, MO\, 65483
END:VEVENT
BEGIN:VEVENT
DTSTART;TZID=America/Chicago:20210504T133000
DTEND;TZID=America/Chicago:20210504T133000
DTSTAMP:20260421T005054
CREATED:20200709T184623Z
LAST-MODIFIED:20200709T184623Z
UID:10007046-1620135000-1620135000@houstonherald.com
SUMMARY:Houston Garden Club meeting
DESCRIPTION:Houston Garden Club meeting is 1:30pm in the fellowship hall at the First Baptist Church in Houston.
URL:https://houstonherald.com/event/houston-garden-club-meeting/2021-05-04/
LOCATION:First Baptist Church fellowship hall\, 1241 Hawthorn St\, Houston\, MO\, 65483
END:VEVENT
BEGIN:VEVENT
DTSTART;TZID=America/Chicago:20210406T133000
DTEND;TZID=America/Chicago:20210406T133000
DTSTAMP:20260421T005054
CREATED:20200709T184623Z
LAST-MODIFIED:20200709T184623Z
UID:10007045-1617715800-1617715800@houstonherald.com
SUMMARY:Houston Garden Club meeting
DESCRIPTION:Houston Garden Club meeting is 1:30pm in the fellowship hall at the First Baptist Church in Houston.
URL:https://houstonherald.com/event/houston-garden-club-meeting/2021-04-06/
LOCATION:First Baptist Church fellowship hall\, 1241 Hawthorn St\, Houston\, MO\, 65483
END:VEVENT
BEGIN:VEVENT
DTSTART;TZID=America/Chicago:20210302T133000
DTEND;TZID=America/Chicago:20210302T133000
DTSTAMP:20260421T005054
CREATED:20200709T184623Z
LAST-MODIFIED:20200709T184623Z
UID:10007044-1614691800-1614691800@houstonherald.com
SUMMARY:Houston Garden Club meeting
DESCRIPTION:Houston Garden Club meeting is 1:30pm in the fellowship hall at the First Baptist Church in Houston.
URL:https://houstonherald.com/event/houston-garden-club-meeting/2021-03-02/
LOCATION:First Baptist Church fellowship hall\, 1241 Hawthorn St\, Houston\, MO\, 65483
END:VEVENT
BEGIN:VEVENT
DTSTART;TZID=America/Chicago:20210202T133000
DTEND;TZID=America/Chicago:20210202T133000
DTSTAMP:20260421T005054
CREATED:20200709T184623Z
LAST-MODIFIED:20200709T184623Z
UID:10007043-1612272600-1612272600@houstonherald.com
SUMMARY:Houston Garden Club meeting
DESCRIPTION:Houston Garden Club meeting is 1:30pm in the fellowship hall at the First Baptist Church in Houston.
URL:https://houstonherald.com/event/houston-garden-club-meeting/2021-02-02/
LOCATION:First Baptist Church fellowship hall\, 1241 Hawthorn St\, Houston\, MO\, 65483
END:VEVENT
BEGIN:VEVENT
DTSTART;TZID=America/Chicago:20210105T133000
DTEND;TZID=America/Chicago:20210105T133000
DTSTAMP:20260421T005054
CREATED:20200709T184623Z
LAST-MODIFIED:20200709T184623Z
UID:10007042-1609853400-1609853400@houstonherald.com
SUMMARY:Houston Garden Club meeting
DESCRIPTION:Houston Garden Club meeting is 1:30pm in the fellowship hall at the First Baptist Church in Houston.
URL:https://houstonherald.com/event/houston-garden-club-meeting/2021-01-05/
LOCATION:First Baptist Church fellowship hall\, 1241 Hawthorn St\, Houston\, MO\, 65483
END:VEVENT
BEGIN:VEVENT
DTSTART;TZID=America/Chicago:20201201T133000
DTEND;TZID=America/Chicago:20201201T133000
DTSTAMP:20260421T005054
CREATED:20200709T184623Z
LAST-MODIFIED:20200709T184623Z
UID:10007041-1606829400-1606829400@houstonherald.com
SUMMARY:Houston Garden Club meeting
DESCRIPTION:Houston Garden Club meeting is 1:30pm in the fellowship hall at the First Baptist Church in Houston.
URL:https://houstonherald.com/event/houston-garden-club-meeting/2020-12-01/
LOCATION:First Baptist Church fellowship hall\, 1241 Hawthorn St\, Houston\, MO\, 65483
END:VEVENT
BEGIN:VEVENT
DTSTART;TZID=America/Chicago:20201103T133000
DTEND;TZID=America/Chicago:20201103T133000
DTSTAMP:20260421T005054
CREATED:20200709T184623Z
LAST-MODIFIED:20200709T184623Z
UID:10007040-1604410200-1604410200@houstonherald.com
SUMMARY:Houston Garden Club meeting
DESCRIPTION:Houston Garden Club meeting is 1:30pm in the fellowship hall at the First Baptist Church in Houston.
URL:https://houstonherald.com/event/houston-garden-club-meeting/2020-11-03/
LOCATION:First Baptist Church fellowship hall\, 1241 Hawthorn St\, Houston\, MO\, 65483
END:VEVENT
BEGIN:VEVENT
DTSTART;TZID=America/Chicago:20201006T133000
DTEND;TZID=America/Chicago:20201006T133000
DTSTAMP:20260421T005054
CREATED:20200709T184623Z
LAST-MODIFIED:20200709T184623Z
UID:10007039-1601991000-1601991000@houstonherald.com
SUMMARY:Houston Garden Club meeting
DESCRIPTION:Houston Garden Club meeting is 1:30pm in the fellowship hall at the First Baptist Church in Houston.
URL:https://houstonherald.com/event/houston-garden-club-meeting/2020-10-06/
LOCATION:First Baptist Church fellowship hall\, 1241 Hawthorn St\, Houston\, MO\, 65483
END:VEVENT
BEGIN:VEVENT
DTSTART;TZID=America/Chicago:20200901T133000
DTEND;TZID=America/Chicago:20200901T133000
DTSTAMP:20260421T005054
CREATED:20200709T184623Z
LAST-MODIFIED:20200709T184623Z
UID:10007038-1598967000-1598967000@houstonherald.com
SUMMARY:Houston Garden Club meeting
DESCRIPTION:Houston Garden Club meeting is 1:30pm in the fellowship hall at the First Baptist Church in Houston.
URL:https://houstonherald.com/event/houston-garden-club-meeting/2020-09-01/
LOCATION:First Baptist Church fellowship hall\, 1241 Hawthorn St\, Houston\, MO\, 65483
END:VEVENT
BEGIN:VEVENT
DTSTART;TZID=America/Chicago:20200804T133000
DTEND;TZID=America/Chicago:20200804T133000
DTSTAMP:20260421T005054
CREATED:20200709T184623Z
LAST-MODIFIED:20200709T184623Z
UID:10007037-1596547800-1596547800@houstonherald.com
SUMMARY:Houston Garden Club meeting
DESCRIPTION:Houston Garden Club meeting is 1:30pm in the fellowship hall at the First Baptist Church in Houston.
URL:https://houstonherald.com/event/houston-garden-club-meeting/2020-08-04/
LOCATION:First Baptist Church fellowship hall\, 1241 Hawthorn St\, Houston\, MO\, 65483
END:VEVENT
BEGIN:VEVENT
DTSTART;TZID=America/Chicago:20200707T133000
DTEND;TZID=America/Chicago:20200707T133000
DTSTAMP:20260421T005054
CREATED:20200709T184623Z
LAST-MODIFIED:20200709T184623Z
UID:10007036-1594128600-1594128600@houstonherald.com
SUMMARY:Houston Garden Club meeting
DESCRIPTION:Houston Garden Club meeting is 1:30pm in the fellowship hall at the First Baptist Church in Houston.
URL:https://houstonherald.com/event/houston-garden-club-meeting/2020-07-07/
LOCATION:First Baptist Church fellowship hall\, 1241 Hawthorn St\, Houston\, MO\, 65483
END:VEVENT
END:VCALENDAR