BEGIN:VCALENDAR
VERSION:2.0
PRODID:-//Houston Herald - ECPv6.15.20//NONSGML v1.0//EN
CALSCALE:GREGORIAN
METHOD:PUBLISH
X-WR-CALNAME:Houston Herald
X-ORIGINAL-URL:https://houstonherald.com
X-WR-CALDESC:Events for Houston Herald
REFRESH-INTERVAL;VALUE=DURATION:PT1H
X-Robots-Tag:noindex
X-PUBLISHED-TTL:PT1H
BEGIN:VTIMEZONE
TZID:America/Chicago
BEGIN:DAYLIGHT
TZOFFSETFROM:-0600
TZOFFSETTO:-0500
TZNAME:CDT
DTSTART:20240310T080000
END:DAYLIGHT
BEGIN:STANDARD
TZOFFSETFROM:-0500
TZOFFSETTO:-0600
TZNAME:CST
DTSTART:20241103T070000
END:STANDARD
BEGIN:DAYLIGHT
TZOFFSETFROM:-0600
TZOFFSETTO:-0500
TZNAME:CDT
DTSTART:20250309T080000
END:DAYLIGHT
BEGIN:STANDARD
TZOFFSETFROM:-0500
TZOFFSETTO:-0600
TZNAME:CST
DTSTART:20251102T070000
END:STANDARD
BEGIN:DAYLIGHT
TZOFFSETFROM:-0600
TZOFFSETTO:-0500
TZNAME:CDT
DTSTART:20260308T080000
END:DAYLIGHT
BEGIN:STANDARD
TZOFFSETFROM:-0500
TZOFFSETTO:-0600
TZNAME:CST
DTSTART:20261101T070000
END:STANDARD
END:VTIMEZONE
BEGIN:VEVENT
DTSTART;TZID=America/Chicago:20250704T160000
DTEND;TZID=America/Chicago:20250704T220000
DTSTAMP:20260422T041421
CREATED:20250701T153056Z
LAST-MODIFIED:20250701T153056Z
UID:10013267-1751644800-1751666400@houstonherald.com
SUMMARY:Fourth of July at FLW
DESCRIPTION:Texas County residents are invited to Fort Leonard Wood for Fourth of July activities. \nThe main celebration begins at 4 p.m.\, on Gammon Field\, with military equipment displays and demonstrations\, bounce houses\, slides\, games\, a petting zoo\, pony rides\, a car show\, the KC Disc Dogs\, concerts featuring Craig Campbell and Canaan Smith and the largest fireworks display in the area\, according to Eli Wilson\, Community Activities manager with the Directorate of Family and Morale\, Welfare and Recreation. \nAll activities\, not including vendors\, are slated to stop at 8 p.m.\, and at 9:05 p.m.\, the 50-gun Salute to the Nation ceremony is scheduled to begin followed by the fireworks display at 9:30 p.m. \nFort Leonard Wood’s Fourth of July celebration is free. Concessions and a $5-unlimited-activity wristband will be available for purchase.
URL:https://houstonherald.com/event/fourth-of-july-at-flw/
LOCATION:Gammon Field\, 800 Iowa Ave\, Fort Leonard Wood\, MO\, 65473
END:VEVENT
END:VCALENDAR