BEGIN:VCALENDAR
VERSION:2.0
PRODID:-//Houston Herald - ECPv6.15.16//NONSGML v1.0//EN
CALSCALE:GREGORIAN
METHOD:PUBLISH
X-WR-CALNAME:Houston Herald
X-ORIGINAL-URL:https://houstonherald.com
X-WR-CALDESC:Events for Houston Herald
REFRESH-INTERVAL;VALUE=DURATION:PT1H
X-Robots-Tag:noindex
X-PUBLISHED-TTL:PT1H
BEGIN:VTIMEZONE
TZID:America/Chicago
BEGIN:DAYLIGHT
TZOFFSETFROM:-0600
TZOFFSETTO:-0500
TZNAME:CDT
DTSTART:20240310T080000
END:DAYLIGHT
BEGIN:STANDARD
TZOFFSETFROM:-0500
TZOFFSETTO:-0600
TZNAME:CST
DTSTART:20241103T070000
END:STANDARD
BEGIN:DAYLIGHT
TZOFFSETFROM:-0600
TZOFFSETTO:-0500
TZNAME:CDT
DTSTART:20250309T080000
END:DAYLIGHT
BEGIN:STANDARD
TZOFFSETFROM:-0500
TZOFFSETTO:-0600
TZNAME:CST
DTSTART:20251102T070000
END:STANDARD
BEGIN:DAYLIGHT
TZOFFSETFROM:-0600
TZOFFSETTO:-0500
TZNAME:CDT
DTSTART:20260308T080000
END:DAYLIGHT
BEGIN:STANDARD
TZOFFSETFROM:-0500
TZOFFSETTO:-0600
TZNAME:CST
DTSTART:20261101T070000
END:STANDARD
BEGIN:DAYLIGHT
TZOFFSETFROM:-0600
TZOFFSETTO:-0500
TZNAME:CDT
DTSTART:20270314T080000
END:DAYLIGHT
BEGIN:STANDARD
TZOFFSETFROM:-0500
TZOFFSETTO:-0600
TZNAME:CST
DTSTART:20271107T070000
END:STANDARD
END:VTIMEZONE
BEGIN:VTIMEZONE
TZID:America/Chicago
BEGIN:DAYLIGHT
TZOFFSETFROM:-0600
TZOFFSETTO:-0500
TZNAME:CDT
DTSTART:20240310T080000
END:DAYLIGHT
BEGIN:STANDARD
TZOFFSETFROM:-0500
TZOFFSETTO:-0600
TZNAME:CST
DTSTART:20241103T070000
END:STANDARD
BEGIN:DAYLIGHT
TZOFFSETFROM:-0600
TZOFFSETTO:-0500
TZNAME:CDT
DTSTART:20250309T080000
END:DAYLIGHT
BEGIN:STANDARD
TZOFFSETFROM:-0500
TZOFFSETTO:-0600
TZNAME:CST
DTSTART:20251102T070000
END:STANDARD
BEGIN:DAYLIGHT
TZOFFSETFROM:-0600
TZOFFSETTO:-0500
TZNAME:CDT
DTSTART:20260308T080000
END:DAYLIGHT
BEGIN:STANDARD
TZOFFSETFROM:-0500
TZOFFSETTO:-0600
TZNAME:CST
DTSTART:20261101T070000
END:STANDARD
BEGIN:DAYLIGHT
TZOFFSETFROM:-0600
TZOFFSETTO:-0500
TZNAME:CDT
DTSTART:20270314T080000
END:DAYLIGHT
BEGIN:STANDARD
TZOFFSETFROM:-0500
TZOFFSETTO:-0600
TZNAME:CST
DTSTART:20271107T070000
END:STANDARD
END:VTIMEZONE
BEGIN:VEVENT
DTSTART;TZID=America/Chicago:20260220T093000
DTEND;TZID=America/Chicago:20260220T103000
DTSTAMP:20260223T031140
CREATED:20250716T141145Z
LAST-MODIFIED:20250716T141145Z
UID:10013718-1771579800-1771583400@houstonherald.com
SUMMARY:Sing-a long
DESCRIPTION:Sing-a long @ 9:30 am\,  every Friday\, Houston Senior Center. 301 S. Grand Ave. Houston.
URL:https://houstonherald.com/event/sing-a-long/2026-02-20/
LOCATION:Houston Senior Center\, 301 S Grand Ave.\, Houston\, MO\, 65483
END:VEVENT
BEGIN:VEVENT
DTSTART;TZID=America/Chicago:20260216T170000
DTEND;TZID=America/Chicago:20260216T170000
DTSTAMP:20260223T031140
CREATED:20200713T201835Z
LAST-MODIFIED:20200713T201835Z
UID:10011066-1771261200-1771261200@houstonherald.com
SUMMARY:Weight Watchers
DESCRIPTION:Weight Watchers weigh-in is 5:00pm and the workshop at 5:30pm\, every Monday at the Houston Senior Center.
URL:https://houstonherald.com/event/weight-watchers/2026-02-16/
LOCATION:Houston Senior Center\, 301 S Grand Ave.\, Houston\, MO\, 65483
END:VEVENT
BEGIN:VEVENT
DTSTART;TZID=America/Chicago:20260216T120000
DTEND;TZID=America/Chicago:20260216T120000
DTSTAMP:20260223T031140
CREATED:20200709T194812Z
LAST-MODIFIED:20200709T194812Z
UID:10007833-1771243200-1771243200@houstonherald.com
SUMMARY:Community Betterment and Arts Council
DESCRIPTION:Community Betterment and Arts Council of Houston will meet at noon at the Houston Senior Center.
URL:https://houstonherald.com/event/community-betterment-and-arts-council/2026-02-16/
LOCATION:Houston Senior Center\, 301 S Grand Ave.\, Houston\, MO\, 65483
END:VEVENT
BEGIN:VEVENT
DTSTART;TZID=America/Chicago:20260213T093000
DTEND;TZID=America/Chicago:20260213T103000
DTSTAMP:20260223T031140
CREATED:20250716T141145Z
LAST-MODIFIED:20250716T141145Z
UID:10013717-1770975000-1770978600@houstonherald.com
SUMMARY:Sing-a long
DESCRIPTION:Sing-a long @ 9:30 am\,  every Friday\, Houston Senior Center. 301 S. Grand Ave. Houston.
URL:https://houstonherald.com/event/sing-a-long/2026-02-13/
LOCATION:Houston Senior Center\, 301 S Grand Ave.\, Houston\, MO\, 65483
END:VEVENT
BEGIN:VEVENT
DTSTART;TZID=America/Chicago:20260209T170000
DTEND;TZID=America/Chicago:20260209T170000
DTSTAMP:20260223T031140
CREATED:20200713T201835Z
LAST-MODIFIED:20200713T201835Z
UID:10011065-1770656400-1770656400@houstonherald.com
SUMMARY:Weight Watchers
DESCRIPTION:Weight Watchers weigh-in is 5:00pm and the workshop at 5:30pm\, every Monday at the Houston Senior Center.
URL:https://houstonherald.com/event/weight-watchers/2026-02-09/
LOCATION:Houston Senior Center\, 301 S Grand Ave.\, Houston\, MO\, 65483
END:VEVENT
BEGIN:VEVENT
DTSTART;TZID=America/Chicago:20260206T093000
DTEND;TZID=America/Chicago:20260206T103000
DTSTAMP:20260223T031140
CREATED:20250716T141145Z
LAST-MODIFIED:20250716T141145Z
UID:10013716-1770370200-1770373800@houstonherald.com
SUMMARY:Sing-a long
DESCRIPTION:Sing-a long @ 9:30 am\,  every Friday\, Houston Senior Center. 301 S. Grand Ave. Houston.
URL:https://houstonherald.com/event/sing-a-long/2026-02-06/
LOCATION:Houston Senior Center\, 301 S Grand Ave.\, Houston\, MO\, 65483
END:VEVENT
BEGIN:VEVENT
DTSTART;TZID=America/Chicago:20260202T170000
DTEND;TZID=America/Chicago:20260202T170000
DTSTAMP:20260223T031140
CREATED:20200713T201835Z
LAST-MODIFIED:20200713T201835Z
UID:10011064-1770051600-1770051600@houstonherald.com
SUMMARY:Weight Watchers
DESCRIPTION:Weight Watchers weigh-in is 5:00pm and the workshop at 5:30pm\, every Monday at the Houston Senior Center.
URL:https://houstonherald.com/event/weight-watchers/2026-02-02/
LOCATION:Houston Senior Center\, 301 S Grand Ave.\, Houston\, MO\, 65483
END:VEVENT
BEGIN:VEVENT
DTSTART;TZID=America/Chicago:20260130T093000
DTEND;TZID=America/Chicago:20260130T103000
DTSTAMP:20260223T031140
CREATED:20250716T141145Z
LAST-MODIFIED:20250716T141145Z
UID:10013715-1769765400-1769769000@houstonherald.com
SUMMARY:Sing-a long
DESCRIPTION:Sing-a long @ 9:30 am\,  every Friday\, Houston Senior Center. 301 S. Grand Ave. Houston.
URL:https://houstonherald.com/event/sing-a-long/2026-01-30/
LOCATION:Houston Senior Center\, 301 S Grand Ave.\, Houston\, MO\, 65483
END:VEVENT
BEGIN:VEVENT
DTSTART;TZID=America/Chicago:20260126T170000
DTEND;TZID=America/Chicago:20260126T170000
DTSTAMP:20260223T031140
CREATED:20200713T201835Z
LAST-MODIFIED:20200713T201835Z
UID:10011063-1769446800-1769446800@houstonherald.com
SUMMARY:Weight Watchers
DESCRIPTION:Weight Watchers weigh-in is 5:00pm and the workshop at 5:30pm\, every Monday at the Houston Senior Center.
URL:https://houstonherald.com/event/weight-watchers/2026-01-26/
LOCATION:Houston Senior Center\, 301 S Grand Ave.\, Houston\, MO\, 65483
END:VEVENT
BEGIN:VEVENT
DTSTART;TZID=America/Chicago:20260123T093000
DTEND;TZID=America/Chicago:20260123T103000
DTSTAMP:20260223T031140
CREATED:20250716T141145Z
LAST-MODIFIED:20250716T141145Z
UID:10013714-1769160600-1769164200@houstonherald.com
SUMMARY:Sing-a long
DESCRIPTION:Sing-a long @ 9:30 am\,  every Friday\, Houston Senior Center. 301 S. Grand Ave. Houston.
URL:https://houstonherald.com/event/sing-a-long/2026-01-23/
LOCATION:Houston Senior Center\, 301 S Grand Ave.\, Houston\, MO\, 65483
END:VEVENT
BEGIN:VEVENT
DTSTART;TZID=America/Chicago:20260119T170000
DTEND;TZID=America/Chicago:20260119T170000
DTSTAMP:20260223T031140
CREATED:20200713T201835Z
LAST-MODIFIED:20200713T201835Z
UID:10011062-1768842000-1768842000@houstonherald.com
SUMMARY:Weight Watchers
DESCRIPTION:Weight Watchers weigh-in is 5:00pm and the workshop at 5:30pm\, every Monday at the Houston Senior Center.
URL:https://houstonherald.com/event/weight-watchers/2026-01-19/
LOCATION:Houston Senior Center\, 301 S Grand Ave.\, Houston\, MO\, 65483
END:VEVENT
BEGIN:VEVENT
DTSTART;TZID=America/Chicago:20260119T120000
DTEND;TZID=America/Chicago:20260119T120000
DTSTAMP:20260223T031140
CREATED:20200709T194812Z
LAST-MODIFIED:20200709T194812Z
UID:10007832-1768824000-1768824000@houstonherald.com
SUMMARY:Community Betterment and Arts Council
DESCRIPTION:Community Betterment and Arts Council of Houston will meet at noon at the Houston Senior Center.
URL:https://houstonherald.com/event/community-betterment-and-arts-council/2026-01-19/
LOCATION:Houston Senior Center\, 301 S Grand Ave.\, Houston\, MO\, 65483
END:VEVENT
BEGIN:VEVENT
DTSTART;TZID=America/Chicago:20260116T093000
DTEND;TZID=America/Chicago:20260116T103000
DTSTAMP:20260223T031140
CREATED:20250716T141145Z
LAST-MODIFIED:20250716T141145Z
UID:10013713-1768555800-1768559400@houstonherald.com
SUMMARY:Sing-a long
DESCRIPTION:Sing-a long @ 9:30 am\,  every Friday\, Houston Senior Center. 301 S. Grand Ave. Houston.
URL:https://houstonherald.com/event/sing-a-long/2026-01-16/
LOCATION:Houston Senior Center\, 301 S Grand Ave.\, Houston\, MO\, 65483
END:VEVENT
BEGIN:VEVENT
DTSTART;TZID=America/Chicago:20260112T170000
DTEND;TZID=America/Chicago:20260112T170000
DTSTAMP:20260223T031140
CREATED:20200713T201835Z
LAST-MODIFIED:20200713T201835Z
UID:10011061-1768237200-1768237200@houstonherald.com
SUMMARY:Weight Watchers
DESCRIPTION:Weight Watchers weigh-in is 5:00pm and the workshop at 5:30pm\, every Monday at the Houston Senior Center.
URL:https://houstonherald.com/event/weight-watchers/2026-01-12/
LOCATION:Houston Senior Center\, 301 S Grand Ave.\, Houston\, MO\, 65483
END:VEVENT
BEGIN:VEVENT
DTSTART;TZID=America/Chicago:20260109T093000
DTEND;TZID=America/Chicago:20260109T103000
DTSTAMP:20260223T031140
CREATED:20250716T141145Z
LAST-MODIFIED:20250716T141145Z
UID:10013712-1767951000-1767954600@houstonherald.com
SUMMARY:Sing-a long
DESCRIPTION:Sing-a long @ 9:30 am\,  every Friday\, Houston Senior Center. 301 S. Grand Ave. Houston.
URL:https://houstonherald.com/event/sing-a-long/2026-01-09/
LOCATION:Houston Senior Center\, 301 S Grand Ave.\, Houston\, MO\, 65483
END:VEVENT
BEGIN:VEVENT
DTSTART;TZID=America/Chicago:20260105T170000
DTEND;TZID=America/Chicago:20260105T170000
DTSTAMP:20260223T031140
CREATED:20200713T201835Z
LAST-MODIFIED:20200713T201835Z
UID:10011060-1767632400-1767632400@houstonherald.com
SUMMARY:Weight Watchers
DESCRIPTION:Weight Watchers weigh-in is 5:00pm and the workshop at 5:30pm\, every Monday at the Houston Senior Center.
URL:https://houstonherald.com/event/weight-watchers/2026-01-05/
LOCATION:Houston Senior Center\, 301 S Grand Ave.\, Houston\, MO\, 65483
END:VEVENT
BEGIN:VEVENT
DTSTART;TZID=America/Chicago:20260102T093000
DTEND;TZID=America/Chicago:20260102T103000
DTSTAMP:20260223T031140
CREATED:20250716T141145Z
LAST-MODIFIED:20250716T141145Z
UID:10013711-1767346200-1767349800@houstonherald.com
SUMMARY:Sing-a long
DESCRIPTION:Sing-a long @ 9:30 am\,  every Friday\, Houston Senior Center. 301 S. Grand Ave. Houston.
URL:https://houstonherald.com/event/sing-a-long/2026-01-02/
LOCATION:Houston Senior Center\, 301 S Grand Ave.\, Houston\, MO\, 65483
END:VEVENT
BEGIN:VEVENT
DTSTART;TZID=America/Chicago:20251229T170000
DTEND;TZID=America/Chicago:20251229T170000
DTSTAMP:20260223T031140
CREATED:20200713T201835Z
LAST-MODIFIED:20200713T201835Z
UID:10011059-1767027600-1767027600@houstonherald.com
SUMMARY:Weight Watchers
DESCRIPTION:Weight Watchers weigh-in is 5:00pm and the workshop at 5:30pm\, every Monday at the Houston Senior Center.
URL:https://houstonherald.com/event/weight-watchers/2025-12-29/
LOCATION:Houston Senior Center\, 301 S Grand Ave.\, Houston\, MO\, 65483
END:VEVENT
BEGIN:VEVENT
DTSTART;TZID=America/Chicago:20251226T093000
DTEND;TZID=America/Chicago:20251226T103000
DTSTAMP:20260223T031140
CREATED:20250716T141145Z
LAST-MODIFIED:20250716T141145Z
UID:10013710-1766741400-1766745000@houstonherald.com
SUMMARY:Sing-a long
DESCRIPTION:Sing-a long @ 9:30 am\,  every Friday\, Houston Senior Center. 301 S. Grand Ave. Houston.
URL:https://houstonherald.com/event/sing-a-long/2025-12-26/
LOCATION:Houston Senior Center\, 301 S Grand Ave.\, Houston\, MO\, 65483
END:VEVENT
BEGIN:VEVENT
DTSTART;TZID=America/Chicago:20251222T170000
DTEND;TZID=America/Chicago:20251222T170000
DTSTAMP:20260223T031140
CREATED:20200713T201835Z
LAST-MODIFIED:20200713T201835Z
UID:10011058-1766422800-1766422800@houstonherald.com
SUMMARY:Weight Watchers
DESCRIPTION:Weight Watchers weigh-in is 5:00pm and the workshop at 5:30pm\, every Monday at the Houston Senior Center.
URL:https://houstonherald.com/event/weight-watchers/2025-12-22/
LOCATION:Houston Senior Center\, 301 S Grand Ave.\, Houston\, MO\, 65483
END:VEVENT
BEGIN:VEVENT
DTSTART;TZID=America/Chicago:20251219T093000
DTEND;TZID=America/Chicago:20251219T103000
DTSTAMP:20260223T031140
CREATED:20250716T141145Z
LAST-MODIFIED:20250716T141145Z
UID:10013709-1766136600-1766140200@houstonherald.com
SUMMARY:Sing-a long
DESCRIPTION:Sing-a long @ 9:30 am\,  every Friday\, Houston Senior Center. 301 S. Grand Ave. Houston.
URL:https://houstonherald.com/event/sing-a-long/2025-12-19/
LOCATION:Houston Senior Center\, 301 S Grand Ave.\, Houston\, MO\, 65483
END:VEVENT
BEGIN:VEVENT
DTSTART;TZID=America/Chicago:20251215T170000
DTEND;TZID=America/Chicago:20251215T170000
DTSTAMP:20260223T031140
CREATED:20200713T201835Z
LAST-MODIFIED:20200713T201835Z
UID:10011057-1765818000-1765818000@houstonherald.com
SUMMARY:Weight Watchers
DESCRIPTION:Weight Watchers weigh-in is 5:00pm and the workshop at 5:30pm\, every Monday at the Houston Senior Center.
URL:https://houstonherald.com/event/weight-watchers/2025-12-15/
LOCATION:Houston Senior Center\, 301 S Grand Ave.\, Houston\, MO\, 65483
END:VEVENT
BEGIN:VEVENT
DTSTART;TZID=America/Chicago:20251215T120000
DTEND;TZID=America/Chicago:20251215T120000
DTSTAMP:20260223T031140
CREATED:20200709T194812Z
LAST-MODIFIED:20200709T194812Z
UID:10007831-1765800000-1765800000@houstonherald.com
SUMMARY:Community Betterment and Arts Council
DESCRIPTION:Community Betterment and Arts Council of Houston will meet at noon at the Houston Senior Center.
URL:https://houstonherald.com/event/community-betterment-and-arts-council/2025-12-15/
LOCATION:Houston Senior Center\, 301 S Grand Ave.\, Houston\, MO\, 65483
END:VEVENT
BEGIN:VEVENT
DTSTART;TZID=America/Chicago:20251212T093000
DTEND;TZID=America/Chicago:20251212T103000
DTSTAMP:20260223T031140
CREATED:20250716T141145Z
LAST-MODIFIED:20250716T141145Z
UID:10013708-1765531800-1765535400@houstonherald.com
SUMMARY:Sing-a long
DESCRIPTION:Sing-a long @ 9:30 am\,  every Friday\, Houston Senior Center. 301 S. Grand Ave. Houston.
URL:https://houstonherald.com/event/sing-a-long/2025-12-12/
LOCATION:Houston Senior Center\, 301 S Grand Ave.\, Houston\, MO\, 65483
END:VEVENT
BEGIN:VEVENT
DTSTART;TZID=America/Chicago:20251208T170000
DTEND;TZID=America/Chicago:20251208T170000
DTSTAMP:20260223T031140
CREATED:20200713T201835Z
LAST-MODIFIED:20200713T201835Z
UID:10011056-1765213200-1765213200@houstonherald.com
SUMMARY:Weight Watchers
DESCRIPTION:Weight Watchers weigh-in is 5:00pm and the workshop at 5:30pm\, every Monday at the Houston Senior Center.
URL:https://houstonherald.com/event/weight-watchers/2025-12-08/
LOCATION:Houston Senior Center\, 301 S Grand Ave.\, Houston\, MO\, 65483
END:VEVENT
BEGIN:VEVENT
DTSTART;TZID=America/Chicago:20251205T093000
DTEND;TZID=America/Chicago:20251205T103000
DTSTAMP:20260223T031140
CREATED:20250716T141145Z
LAST-MODIFIED:20250716T141145Z
UID:10013707-1764927000-1764930600@houstonherald.com
SUMMARY:Sing-a long
DESCRIPTION:Sing-a long @ 9:30 am\,  every Friday\, Houston Senior Center. 301 S. Grand Ave. Houston.
URL:https://houstonherald.com/event/sing-a-long/2025-12-05/
LOCATION:Houston Senior Center\, 301 S Grand Ave.\, Houston\, MO\, 65483
END:VEVENT
BEGIN:VEVENT
DTSTART;TZID=America/Chicago:20251201T170000
DTEND;TZID=America/Chicago:20251201T170000
DTSTAMP:20260223T031140
CREATED:20200713T201835Z
LAST-MODIFIED:20200713T201835Z
UID:10011055-1764608400-1764608400@houstonherald.com
SUMMARY:Weight Watchers
DESCRIPTION:Weight Watchers weigh-in is 5:00pm and the workshop at 5:30pm\, every Monday at the Houston Senior Center.
URL:https://houstonherald.com/event/weight-watchers/2025-12-01/
LOCATION:Houston Senior Center\, 301 S Grand Ave.\, Houston\, MO\, 65483
END:VEVENT
BEGIN:VEVENT
DTSTART;TZID=America/Chicago:20251128T093000
DTEND;TZID=America/Chicago:20251128T103000
DTSTAMP:20260223T031140
CREATED:20250716T141145Z
LAST-MODIFIED:20250716T141145Z
UID:10013706-1764322200-1764325800@houstonherald.com
SUMMARY:Sing-a long
DESCRIPTION:Sing-a long @ 9:30 am\,  every Friday\, Houston Senior Center. 301 S. Grand Ave. Houston.
URL:https://houstonherald.com/event/sing-a-long/2025-11-28/
LOCATION:Houston Senior Center\, 301 S Grand Ave.\, Houston\, MO\, 65483
END:VEVENT
BEGIN:VEVENT
DTSTART;TZID=America/Chicago:20251124T170000
DTEND;TZID=America/Chicago:20251124T170000
DTSTAMP:20260223T031140
CREATED:20200713T201835Z
LAST-MODIFIED:20200713T201835Z
UID:10011054-1764003600-1764003600@houstonherald.com
SUMMARY:Weight Watchers
DESCRIPTION:Weight Watchers weigh-in is 5:00pm and the workshop at 5:30pm\, every Monday at the Houston Senior Center.
URL:https://houstonherald.com/event/weight-watchers/2025-11-24/
LOCATION:Houston Senior Center\, 301 S Grand Ave.\, Houston\, MO\, 65483
END:VEVENT
BEGIN:VEVENT
DTSTART;TZID=America/Chicago:20251121T093000
DTEND;TZID=America/Chicago:20251121T103000
DTSTAMP:20260223T031140
CREATED:20250716T141145Z
LAST-MODIFIED:20250716T141145Z
UID:10013705-1763717400-1763721000@houstonherald.com
SUMMARY:Sing-a long
DESCRIPTION:Sing-a long @ 9:30 am\,  every Friday\, Houston Senior Center. 301 S. Grand Ave. Houston.
URL:https://houstonherald.com/event/sing-a-long/2025-11-21/
LOCATION:Houston Senior Center\, 301 S Grand Ave.\, Houston\, MO\, 65483
END:VEVENT
END:VCALENDAR