BEGIN:VCALENDAR
VERSION:2.0
PRODID:-//Houston Herald - ECPv6.15.20//NONSGML v1.0//EN
CALSCALE:GREGORIAN
METHOD:PUBLISH
X-ORIGINAL-URL:https://houstonherald.com
X-WR-CALDESC:Events for Houston Herald
REFRESH-INTERVAL;VALUE=DURATION:PT1H
X-Robots-Tag:noindex
X-PUBLISHED-TTL:PT1H
BEGIN:VTIMEZONE
TZID:America/Chicago
BEGIN:DAYLIGHT
TZOFFSETFROM:-0600
TZOFFSETTO:-0500
TZNAME:CDT
DTSTART:20250309T080000
END:DAYLIGHT
BEGIN:STANDARD
TZOFFSETFROM:-0500
TZOFFSETTO:-0600
TZNAME:CST
DTSTART:20251102T070000
END:STANDARD
BEGIN:DAYLIGHT
TZOFFSETFROM:-0600
TZOFFSETTO:-0500
TZNAME:CDT
DTSTART:20260308T080000
END:DAYLIGHT
BEGIN:STANDARD
TZOFFSETFROM:-0500
TZOFFSETTO:-0600
TZNAME:CST
DTSTART:20261101T070000
END:STANDARD
BEGIN:DAYLIGHT
TZOFFSETFROM:-0600
TZOFFSETTO:-0500
TZNAME:CDT
DTSTART:20270314T080000
END:DAYLIGHT
BEGIN:STANDARD
TZOFFSETFROM:-0500
TZOFFSETTO:-0600
TZNAME:CST
DTSTART:20271107T070000
END:STANDARD
END:VTIMEZONE
BEGIN:VTIMEZONE
TZID:America/Chicago
BEGIN:DAYLIGHT
TZOFFSETFROM:-0600
TZOFFSETTO:-0500
TZNAME:CDT
DTSTART:20250309T080000
END:DAYLIGHT
BEGIN:STANDARD
TZOFFSETFROM:-0500
TZOFFSETTO:-0600
TZNAME:CST
DTSTART:20251102T070000
END:STANDARD
BEGIN:DAYLIGHT
TZOFFSETFROM:-0600
TZOFFSETTO:-0500
TZNAME:CDT
DTSTART:20260308T080000
END:DAYLIGHT
BEGIN:STANDARD
TZOFFSETFROM:-0500
TZOFFSETTO:-0600
TZNAME:CST
DTSTART:20261101T070000
END:STANDARD
BEGIN:DAYLIGHT
TZOFFSETFROM:-0600
TZOFFSETTO:-0500
TZNAME:CDT
DTSTART:20270314T080000
END:DAYLIGHT
BEGIN:STANDARD
TZOFFSETFROM:-0500
TZOFFSETTO:-0600
TZNAME:CST
DTSTART:20271107T070000
END:STANDARD
END:VTIMEZONE
BEGIN:VEVENT
DTSTART;TZID=America/Chicago:20260420T170000
DTEND;TZID=America/Chicago:20260420T170000
DTSTAMP:20260421T182149
CREATED:20200713T201835Z
LAST-MODIFIED:20200713T201835Z
UID:10011075-1776704400-1776704400@houstonherald.com
SUMMARY:Weight Watchers
DESCRIPTION:Weight Watchers weigh-in is 5:00pm and the workshop at 5:30pm\, every Monday at the Houston Senior Center.
URL:https://houstonherald.com/event/weight-watchers/2026-04-20/
LOCATION:Houston Senior Center\, 301 S Grand Ave.\, Houston\, MO\, 65483
END:VEVENT
BEGIN:VEVENT
DTSTART;TZID=America/Chicago:20260420T120000
DTEND;TZID=America/Chicago:20260420T120000
DTSTAMP:20260421T182149
CREATED:20200709T194812Z
LAST-MODIFIED:20200709T194812Z
UID:10007835-1776686400-1776686400@houstonherald.com
SUMMARY:Community Betterment and Arts Council
DESCRIPTION:Community Betterment and Arts Council of Houston will meet at noon at the Houston Senior Center.
URL:https://houstonherald.com/event/community-betterment-and-arts-council/2026-04-20/
LOCATION:Houston Senior Center\, 301 S Grand Ave.\, Houston\, MO\, 65483
END:VEVENT
BEGIN:VEVENT
DTSTART;TZID=America/Chicago:20260417T093000
DTEND;TZID=America/Chicago:20260417T103000
DTSTAMP:20260421T182149
CREATED:20250716T141145Z
LAST-MODIFIED:20250716T141145Z
UID:10013726-1776418200-1776421800@houstonherald.com
SUMMARY:Sing-a long
DESCRIPTION:Sing-a long @ 9:30 am\,  every Friday\, Houston Senior Center. 301 S. Grand Ave. Houston.
URL:https://houstonherald.com/event/sing-a-long/2026-04-17/
LOCATION:Houston Senior Center\, 301 S Grand Ave.\, Houston\, MO\, 65483
END:VEVENT
BEGIN:VEVENT
DTSTART;TZID=America/Chicago:20260413T170000
DTEND;TZID=America/Chicago:20260413T170000
DTSTAMP:20260421T182149
CREATED:20200713T201835Z
LAST-MODIFIED:20200713T201835Z
UID:10011074-1776099600-1776099600@houstonherald.com
SUMMARY:Weight Watchers
DESCRIPTION:Weight Watchers weigh-in is 5:00pm and the workshop at 5:30pm\, every Monday at the Houston Senior Center.
URL:https://houstonherald.com/event/weight-watchers/2026-04-13/
LOCATION:Houston Senior Center\, 301 S Grand Ave.\, Houston\, MO\, 65483
END:VEVENT
BEGIN:VEVENT
DTSTART;TZID=America/Chicago:20260410T093000
DTEND;TZID=America/Chicago:20260410T103000
DTSTAMP:20260421T182149
CREATED:20250716T141145Z
LAST-MODIFIED:20250716T141145Z
UID:10013725-1775813400-1775817000@houstonherald.com
SUMMARY:Sing-a long
DESCRIPTION:Sing-a long @ 9:30 am\,  every Friday\, Houston Senior Center. 301 S. Grand Ave. Houston.
URL:https://houstonherald.com/event/sing-a-long/2026-04-10/
LOCATION:Houston Senior Center\, 301 S Grand Ave.\, Houston\, MO\, 65483
END:VEVENT
BEGIN:VEVENT
DTSTART;TZID=America/Chicago:20260406T170000
DTEND;TZID=America/Chicago:20260406T170000
DTSTAMP:20260421T182149
CREATED:20200713T201835Z
LAST-MODIFIED:20200713T201835Z
UID:10011073-1775494800-1775494800@houstonherald.com
SUMMARY:Weight Watchers
DESCRIPTION:Weight Watchers weigh-in is 5:00pm and the workshop at 5:30pm\, every Monday at the Houston Senior Center.
URL:https://houstonherald.com/event/weight-watchers/2026-04-06/
LOCATION:Houston Senior Center\, 301 S Grand Ave.\, Houston\, MO\, 65483
END:VEVENT
BEGIN:VEVENT
DTSTART;TZID=America/Chicago:20260403T093000
DTEND;TZID=America/Chicago:20260403T103000
DTSTAMP:20260421T182149
CREATED:20250716T141145Z
LAST-MODIFIED:20250716T141145Z
UID:10013724-1775208600-1775212200@houstonherald.com
SUMMARY:Sing-a long
DESCRIPTION:Sing-a long @ 9:30 am\,  every Friday\, Houston Senior Center. 301 S. Grand Ave. Houston.
URL:https://houstonherald.com/event/sing-a-long/2026-04-03/
LOCATION:Houston Senior Center\, 301 S Grand Ave.\, Houston\, MO\, 65483
END:VEVENT
BEGIN:VEVENT
DTSTART;TZID=America/Chicago:20260330T170000
DTEND;TZID=America/Chicago:20260330T170000
DTSTAMP:20260421T182149
CREATED:20200713T201835Z
LAST-MODIFIED:20200713T201835Z
UID:10011072-1774890000-1774890000@houstonherald.com
SUMMARY:Weight Watchers
DESCRIPTION:Weight Watchers weigh-in is 5:00pm and the workshop at 5:30pm\, every Monday at the Houston Senior Center.
URL:https://houstonherald.com/event/weight-watchers/2026-03-30/
LOCATION:Houston Senior Center\, 301 S Grand Ave.\, Houston\, MO\, 65483
END:VEVENT
BEGIN:VEVENT
DTSTART;TZID=America/Chicago:20260327T093000
DTEND;TZID=America/Chicago:20260327T103000
DTSTAMP:20260421T182149
CREATED:20250716T141145Z
LAST-MODIFIED:20250716T141145Z
UID:10013723-1774603800-1774607400@houstonherald.com
SUMMARY:Sing-a long
DESCRIPTION:Sing-a long @ 9:30 am\,  every Friday\, Houston Senior Center. 301 S. Grand Ave. Houston.
URL:https://houstonherald.com/event/sing-a-long/2026-03-27/
LOCATION:Houston Senior Center\, 301 S Grand Ave.\, Houston\, MO\, 65483
END:VEVENT
BEGIN:VEVENT
DTSTART;TZID=America/Chicago:20260323T170000
DTEND;TZID=America/Chicago:20260323T170000
DTSTAMP:20260421T182149
CREATED:20200713T201835Z
LAST-MODIFIED:20200713T201835Z
UID:10011071-1774285200-1774285200@houstonherald.com
SUMMARY:Weight Watchers
DESCRIPTION:Weight Watchers weigh-in is 5:00pm and the workshop at 5:30pm\, every Monday at the Houston Senior Center.
URL:https://houstonherald.com/event/weight-watchers/2026-03-23/
LOCATION:Houston Senior Center\, 301 S Grand Ave.\, Houston\, MO\, 65483
END:VEVENT
BEGIN:VEVENT
DTSTART;TZID=America/Chicago:20260320T093000
DTEND;TZID=America/Chicago:20260320T103000
DTSTAMP:20260421T182149
CREATED:20250716T141145Z
LAST-MODIFIED:20250716T141145Z
UID:10013722-1773999000-1774002600@houstonherald.com
SUMMARY:Sing-a long
DESCRIPTION:Sing-a long @ 9:30 am\,  every Friday\, Houston Senior Center. 301 S. Grand Ave. Houston.
URL:https://houstonherald.com/event/sing-a-long/2026-03-20/
LOCATION:Houston Senior Center\, 301 S Grand Ave.\, Houston\, MO\, 65483
END:VEVENT
BEGIN:VEVENT
DTSTART;TZID=America/Chicago:20260316T170000
DTEND;TZID=America/Chicago:20260316T170000
DTSTAMP:20260421T182149
CREATED:20200713T201835Z
LAST-MODIFIED:20200713T201835Z
UID:10011070-1773680400-1773680400@houstonherald.com
SUMMARY:Weight Watchers
DESCRIPTION:Weight Watchers weigh-in is 5:00pm and the workshop at 5:30pm\, every Monday at the Houston Senior Center.
URL:https://houstonherald.com/event/weight-watchers/2026-03-16/
LOCATION:Houston Senior Center\, 301 S Grand Ave.\, Houston\, MO\, 65483
END:VEVENT
BEGIN:VEVENT
DTSTART;TZID=America/Chicago:20260316T120000
DTEND;TZID=America/Chicago:20260316T120000
DTSTAMP:20260421T182149
CREATED:20200709T194812Z
LAST-MODIFIED:20200709T194812Z
UID:10007834-1773662400-1773662400@houstonherald.com
SUMMARY:Community Betterment and Arts Council
DESCRIPTION:Community Betterment and Arts Council of Houston will meet at noon at the Houston Senior Center.
URL:https://houstonherald.com/event/community-betterment-and-arts-council/2026-03-16/
LOCATION:Houston Senior Center\, 301 S Grand Ave.\, Houston\, MO\, 65483
END:VEVENT
BEGIN:VEVENT
DTSTART;TZID=America/Chicago:20260313T093000
DTEND;TZID=America/Chicago:20260313T103000
DTSTAMP:20260421T182149
CREATED:20250716T141145Z
LAST-MODIFIED:20250716T141145Z
UID:10013721-1773394200-1773397800@houstonherald.com
SUMMARY:Sing-a long
DESCRIPTION:Sing-a long @ 9:30 am\,  every Friday\, Houston Senior Center. 301 S. Grand Ave. Houston.
URL:https://houstonherald.com/event/sing-a-long/2026-03-13/
LOCATION:Houston Senior Center\, 301 S Grand Ave.\, Houston\, MO\, 65483
END:VEVENT
BEGIN:VEVENT
DTSTART;TZID=America/Chicago:20260309T170000
DTEND;TZID=America/Chicago:20260309T170000
DTSTAMP:20260421T182149
CREATED:20200713T201835Z
LAST-MODIFIED:20200713T201835Z
UID:10011069-1773075600-1773075600@houstonherald.com
SUMMARY:Weight Watchers
DESCRIPTION:Weight Watchers weigh-in is 5:00pm and the workshop at 5:30pm\, every Monday at the Houston Senior Center.
URL:https://houstonherald.com/event/weight-watchers/2026-03-09/
LOCATION:Houston Senior Center\, 301 S Grand Ave.\, Houston\, MO\, 65483
END:VEVENT
BEGIN:VEVENT
DTSTART;TZID=America/Chicago:20260306T093000
DTEND;TZID=America/Chicago:20260306T103000
DTSTAMP:20260421T182149
CREATED:20250716T141145Z
LAST-MODIFIED:20250716T141145Z
UID:10013720-1772789400-1772793000@houstonherald.com
SUMMARY:Sing-a long
DESCRIPTION:Sing-a long @ 9:30 am\,  every Friday\, Houston Senior Center. 301 S. Grand Ave. Houston.
URL:https://houstonherald.com/event/sing-a-long/2026-03-06/
LOCATION:Houston Senior Center\, 301 S Grand Ave.\, Houston\, MO\, 65483
END:VEVENT
BEGIN:VEVENT
DTSTART;TZID=America/Chicago:20260302T170000
DTEND;TZID=America/Chicago:20260302T170000
DTSTAMP:20260421T182149
CREATED:20200713T201835Z
LAST-MODIFIED:20200713T201835Z
UID:10011068-1772470800-1772470800@houstonherald.com
SUMMARY:Weight Watchers
DESCRIPTION:Weight Watchers weigh-in is 5:00pm and the workshop at 5:30pm\, every Monday at the Houston Senior Center.
URL:https://houstonherald.com/event/weight-watchers/2026-03-02/
LOCATION:Houston Senior Center\, 301 S Grand Ave.\, Houston\, MO\, 65483
END:VEVENT
BEGIN:VEVENT
DTSTART;TZID=America/Chicago:20260227T093000
DTEND;TZID=America/Chicago:20260227T103000
DTSTAMP:20260421T182149
CREATED:20250716T141145Z
LAST-MODIFIED:20250716T141145Z
UID:10013719-1772184600-1772188200@houstonherald.com
SUMMARY:Sing-a long
DESCRIPTION:Sing-a long @ 9:30 am\,  every Friday\, Houston Senior Center. 301 S. Grand Ave. Houston.
URL:https://houstonherald.com/event/sing-a-long/2026-02-27/
LOCATION:Houston Senior Center\, 301 S Grand Ave.\, Houston\, MO\, 65483
END:VEVENT
BEGIN:VEVENT
DTSTART;TZID=America/Chicago:20260223T170000
DTEND;TZID=America/Chicago:20260223T170000
DTSTAMP:20260421T182149
CREATED:20200713T201835Z
LAST-MODIFIED:20200713T201835Z
UID:10011067-1771866000-1771866000@houstonherald.com
SUMMARY:Weight Watchers
DESCRIPTION:Weight Watchers weigh-in is 5:00pm and the workshop at 5:30pm\, every Monday at the Houston Senior Center.
URL:https://houstonherald.com/event/weight-watchers/2026-02-23/
LOCATION:Houston Senior Center\, 301 S Grand Ave.\, Houston\, MO\, 65483
END:VEVENT
BEGIN:VEVENT
DTSTART;TZID=America/Chicago:20260220T093000
DTEND;TZID=America/Chicago:20260220T103000
DTSTAMP:20260421T182149
CREATED:20250716T141145Z
LAST-MODIFIED:20250716T141145Z
UID:10013718-1771579800-1771583400@houstonherald.com
SUMMARY:Sing-a long
DESCRIPTION:Sing-a long @ 9:30 am\,  every Friday\, Houston Senior Center. 301 S. Grand Ave. Houston.
URL:https://houstonherald.com/event/sing-a-long/2026-02-20/
LOCATION:Houston Senior Center\, 301 S Grand Ave.\, Houston\, MO\, 65483
END:VEVENT
BEGIN:VEVENT
DTSTART;TZID=America/Chicago:20260216T170000
DTEND;TZID=America/Chicago:20260216T170000
DTSTAMP:20260421T182149
CREATED:20200713T201835Z
LAST-MODIFIED:20200713T201835Z
UID:10011066-1771261200-1771261200@houstonherald.com
SUMMARY:Weight Watchers
DESCRIPTION:Weight Watchers weigh-in is 5:00pm and the workshop at 5:30pm\, every Monday at the Houston Senior Center.
URL:https://houstonherald.com/event/weight-watchers/2026-02-16/
LOCATION:Houston Senior Center\, 301 S Grand Ave.\, Houston\, MO\, 65483
END:VEVENT
BEGIN:VEVENT
DTSTART;TZID=America/Chicago:20260216T120000
DTEND;TZID=America/Chicago:20260216T120000
DTSTAMP:20260421T182149
CREATED:20200709T194812Z
LAST-MODIFIED:20200709T194812Z
UID:10007833-1771243200-1771243200@houstonherald.com
SUMMARY:Community Betterment and Arts Council
DESCRIPTION:Community Betterment and Arts Council of Houston will meet at noon at the Houston Senior Center.
URL:https://houstonherald.com/event/community-betterment-and-arts-council/2026-02-16/
LOCATION:Houston Senior Center\, 301 S Grand Ave.\, Houston\, MO\, 65483
END:VEVENT
BEGIN:VEVENT
DTSTART;TZID=America/Chicago:20260213T093000
DTEND;TZID=America/Chicago:20260213T103000
DTSTAMP:20260421T182149
CREATED:20250716T141145Z
LAST-MODIFIED:20250716T141145Z
UID:10013717-1770975000-1770978600@houstonherald.com
SUMMARY:Sing-a long
DESCRIPTION:Sing-a long @ 9:30 am\,  every Friday\, Houston Senior Center. 301 S. Grand Ave. Houston.
URL:https://houstonherald.com/event/sing-a-long/2026-02-13/
LOCATION:Houston Senior Center\, 301 S Grand Ave.\, Houston\, MO\, 65483
END:VEVENT
BEGIN:VEVENT
DTSTART;TZID=America/Chicago:20260209T170000
DTEND;TZID=America/Chicago:20260209T170000
DTSTAMP:20260421T182149
CREATED:20200713T201835Z
LAST-MODIFIED:20200713T201835Z
UID:10011065-1770656400-1770656400@houstonherald.com
SUMMARY:Weight Watchers
DESCRIPTION:Weight Watchers weigh-in is 5:00pm and the workshop at 5:30pm\, every Monday at the Houston Senior Center.
URL:https://houstonherald.com/event/weight-watchers/2026-02-09/
LOCATION:Houston Senior Center\, 301 S Grand Ave.\, Houston\, MO\, 65483
END:VEVENT
BEGIN:VEVENT
DTSTART;TZID=America/Chicago:20260206T093000
DTEND;TZID=America/Chicago:20260206T103000
DTSTAMP:20260421T182149
CREATED:20250716T141145Z
LAST-MODIFIED:20250716T141145Z
UID:10013716-1770370200-1770373800@houstonherald.com
SUMMARY:Sing-a long
DESCRIPTION:Sing-a long @ 9:30 am\,  every Friday\, Houston Senior Center. 301 S. Grand Ave. Houston.
URL:https://houstonherald.com/event/sing-a-long/2026-02-06/
LOCATION:Houston Senior Center\, 301 S Grand Ave.\, Houston\, MO\, 65483
END:VEVENT
BEGIN:VEVENT
DTSTART;TZID=America/Chicago:20260202T170000
DTEND;TZID=America/Chicago:20260202T170000
DTSTAMP:20260421T182149
CREATED:20200713T201835Z
LAST-MODIFIED:20200713T201835Z
UID:10011064-1770051600-1770051600@houstonherald.com
SUMMARY:Weight Watchers
DESCRIPTION:Weight Watchers weigh-in is 5:00pm and the workshop at 5:30pm\, every Monday at the Houston Senior Center.
URL:https://houstonherald.com/event/weight-watchers/2026-02-02/
LOCATION:Houston Senior Center\, 301 S Grand Ave.\, Houston\, MO\, 65483
END:VEVENT
BEGIN:VEVENT
DTSTART;TZID=America/Chicago:20260130T093000
DTEND;TZID=America/Chicago:20260130T103000
DTSTAMP:20260421T182149
CREATED:20250716T141145Z
LAST-MODIFIED:20250716T141145Z
UID:10013715-1769765400-1769769000@houstonherald.com
SUMMARY:Sing-a long
DESCRIPTION:Sing-a long @ 9:30 am\,  every Friday\, Houston Senior Center. 301 S. Grand Ave. Houston.
URL:https://houstonherald.com/event/sing-a-long/2026-01-30/
LOCATION:Houston Senior Center\, 301 S Grand Ave.\, Houston\, MO\, 65483
END:VEVENT
BEGIN:VEVENT
DTSTART;TZID=America/Chicago:20260126T170000
DTEND;TZID=America/Chicago:20260126T170000
DTSTAMP:20260421T182149
CREATED:20200713T201835Z
LAST-MODIFIED:20200713T201835Z
UID:10011063-1769446800-1769446800@houstonherald.com
SUMMARY:Weight Watchers
DESCRIPTION:Weight Watchers weigh-in is 5:00pm and the workshop at 5:30pm\, every Monday at the Houston Senior Center.
URL:https://houstonherald.com/event/weight-watchers/2026-01-26/
LOCATION:Houston Senior Center\, 301 S Grand Ave.\, Houston\, MO\, 65483
END:VEVENT
BEGIN:VEVENT
DTSTART;TZID=America/Chicago:20260123T093000
DTEND;TZID=America/Chicago:20260123T103000
DTSTAMP:20260421T182149
CREATED:20250716T141145Z
LAST-MODIFIED:20250716T141145Z
UID:10013714-1769160600-1769164200@houstonherald.com
SUMMARY:Sing-a long
DESCRIPTION:Sing-a long @ 9:30 am\,  every Friday\, Houston Senior Center. 301 S. Grand Ave. Houston.
URL:https://houstonherald.com/event/sing-a-long/2026-01-23/
LOCATION:Houston Senior Center\, 301 S Grand Ave.\, Houston\, MO\, 65483
END:VEVENT
BEGIN:VEVENT
DTSTART;TZID=America/Chicago:20260119T170000
DTEND;TZID=America/Chicago:20260119T170000
DTSTAMP:20260421T182149
CREATED:20200713T201835Z
LAST-MODIFIED:20200713T201835Z
UID:10011062-1768842000-1768842000@houstonherald.com
SUMMARY:Weight Watchers
DESCRIPTION:Weight Watchers weigh-in is 5:00pm and the workshop at 5:30pm\, every Monday at the Houston Senior Center.
URL:https://houstonherald.com/event/weight-watchers/2026-01-19/
LOCATION:Houston Senior Center\, 301 S Grand Ave.\, Houston\, MO\, 65483
END:VEVENT
END:VCALENDAR