BEGIN:VCALENDAR
VERSION:2.0
PRODID:-//Houston Herald - ECPv6.15.20//NONSGML v1.0//EN
CALSCALE:GREGORIAN
METHOD:PUBLISH
X-WR-CALNAME:Houston Herald
X-ORIGINAL-URL:https://houstonherald.com
X-WR-CALDESC:Events for Houston Herald
REFRESH-INTERVAL;VALUE=DURATION:PT1H
X-Robots-Tag:noindex
X-PUBLISHED-TTL:PT1H
BEGIN:VTIMEZONE
TZID:America/Chicago
BEGIN:DAYLIGHT
TZOFFSETFROM:-0600
TZOFFSETTO:-0500
TZNAME:CDT
DTSTART:20260308T080000
END:DAYLIGHT
BEGIN:STANDARD
TZOFFSETFROM:-0500
TZOFFSETTO:-0600
TZNAME:CST
DTSTART:20261101T070000
END:STANDARD
BEGIN:DAYLIGHT
TZOFFSETFROM:-0600
TZOFFSETTO:-0500
TZNAME:CDT
DTSTART:20270314T080000
END:DAYLIGHT
BEGIN:STANDARD
TZOFFSETFROM:-0500
TZOFFSETTO:-0600
TZNAME:CST
DTSTART:20271107T070000
END:STANDARD
BEGIN:DAYLIGHT
TZOFFSETFROM:-0600
TZOFFSETTO:-0500
TZNAME:CDT
DTSTART:20280312T080000
END:DAYLIGHT
BEGIN:STANDARD
TZOFFSETFROM:-0500
TZOFFSETTO:-0600
TZNAME:CST
DTSTART:20281105T070000
END:STANDARD
END:VTIMEZONE
BEGIN:VEVENT
DTSTART;TZID=America/Chicago:20270226T093000
DTEND;TZID=America/Chicago:20270226T103000
DTSTAMP:20260421T233046
CREATED:20250716T141145Z
LAST-MODIFIED:20250716T141145Z
UID:10013771-1803634200-1803637800@houstonherald.com
SUMMARY:Sing-a long
DESCRIPTION:Sing-a long @ 9:30 am\,  every Friday\, Houston Senior Center. 301 S. Grand Ave. Houston.
URL:https://houstonherald.com/event/sing-a-long/2027-02-26/
LOCATION:Houston Senior Center\, 301 S Grand Ave.\, Houston\, MO\, 65483
END:VEVENT
BEGIN:VEVENT
DTSTART;TZID=America/Chicago:20270305T093000
DTEND;TZID=America/Chicago:20270305T103000
DTSTAMP:20260421T233046
CREATED:20250716T141145Z
LAST-MODIFIED:20250716T141145Z
UID:10013772-1804239000-1804242600@houstonherald.com
SUMMARY:Sing-a long
DESCRIPTION:Sing-a long @ 9:30 am\,  every Friday\, Houston Senior Center. 301 S. Grand Ave. Houston.
URL:https://houstonherald.com/event/sing-a-long/2027-03-05/
LOCATION:Houston Senior Center\, 301 S Grand Ave.\, Houston\, MO\, 65483
END:VEVENT
BEGIN:VEVENT
DTSTART;TZID=America/Chicago:20270312T093000
DTEND;TZID=America/Chicago:20270312T103000
DTSTAMP:20260421T233046
CREATED:20250716T141145Z
LAST-MODIFIED:20250716T141145Z
UID:10013773-1804843800-1804847400@houstonherald.com
SUMMARY:Sing-a long
DESCRIPTION:Sing-a long @ 9:30 am\,  every Friday\, Houston Senior Center. 301 S. Grand Ave. Houston.
URL:https://houstonherald.com/event/sing-a-long/2027-03-12/
LOCATION:Houston Senior Center\, 301 S Grand Ave.\, Houston\, MO\, 65483
END:VEVENT
BEGIN:VEVENT
DTSTART;TZID=America/Chicago:20270319T093000
DTEND;TZID=America/Chicago:20270319T103000
DTSTAMP:20260421T233046
CREATED:20250716T141145Z
LAST-MODIFIED:20250716T141145Z
UID:10013774-1805448600-1805452200@houstonherald.com
SUMMARY:Sing-a long
DESCRIPTION:Sing-a long @ 9:30 am\,  every Friday\, Houston Senior Center. 301 S. Grand Ave. Houston.
URL:https://houstonherald.com/event/sing-a-long/2027-03-19/
LOCATION:Houston Senior Center\, 301 S Grand Ave.\, Houston\, MO\, 65483
END:VEVENT
BEGIN:VEVENT
DTSTART;TZID=America/Chicago:20270326T093000
DTEND;TZID=America/Chicago:20270326T103000
DTSTAMP:20260421T233046
CREATED:20250716T141145Z
LAST-MODIFIED:20250716T141145Z
UID:10013775-1806053400-1806057000@houstonherald.com
SUMMARY:Sing-a long
DESCRIPTION:Sing-a long @ 9:30 am\,  every Friday\, Houston Senior Center. 301 S. Grand Ave. Houston.
URL:https://houstonherald.com/event/sing-a-long/2027-03-26/
LOCATION:Houston Senior Center\, 301 S Grand Ave.\, Houston\, MO\, 65483
END:VEVENT
BEGIN:VEVENT
DTSTART;TZID=America/Chicago:20270402T093000
DTEND;TZID=America/Chicago:20270402T103000
DTSTAMP:20260421T233046
CREATED:20250716T141145Z
LAST-MODIFIED:20250716T141145Z
UID:10013776-1806658200-1806661800@houstonherald.com
SUMMARY:Sing-a long
DESCRIPTION:Sing-a long @ 9:30 am\,  every Friday\, Houston Senior Center. 301 S. Grand Ave. Houston.
URL:https://houstonherald.com/event/sing-a-long/2027-04-02/
LOCATION:Houston Senior Center\, 301 S Grand Ave.\, Houston\, MO\, 65483
END:VEVENT
BEGIN:VEVENT
DTSTART;TZID=America/Chicago:20270409T093000
DTEND;TZID=America/Chicago:20270409T103000
DTSTAMP:20260421T233046
CREATED:20250716T141145Z
LAST-MODIFIED:20250716T141145Z
UID:10013777-1807263000-1807266600@houstonherald.com
SUMMARY:Sing-a long
DESCRIPTION:Sing-a long @ 9:30 am\,  every Friday\, Houston Senior Center. 301 S. Grand Ave. Houston.
URL:https://houstonherald.com/event/sing-a-long/2027-04-09/
LOCATION:Houston Senior Center\, 301 S Grand Ave.\, Houston\, MO\, 65483
END:VEVENT
BEGIN:VEVENT
DTSTART;TZID=America/Chicago:20270416T093000
DTEND;TZID=America/Chicago:20270416T103000
DTSTAMP:20260421T233046
CREATED:20250716T141145Z
LAST-MODIFIED:20250716T141145Z
UID:10013778-1807867800-1807871400@houstonherald.com
SUMMARY:Sing-a long
DESCRIPTION:Sing-a long @ 9:30 am\,  every Friday\, Houston Senior Center. 301 S. Grand Ave. Houston.
URL:https://houstonherald.com/event/sing-a-long/2027-04-16/
LOCATION:Houston Senior Center\, 301 S Grand Ave.\, Houston\, MO\, 65483
END:VEVENT
BEGIN:VEVENT
DTSTART;TZID=America/Chicago:20270423T093000
DTEND;TZID=America/Chicago:20270423T103000
DTSTAMP:20260421T233046
CREATED:20250716T141145Z
LAST-MODIFIED:20250716T141145Z
UID:10013779-1808472600-1808476200@houstonherald.com
SUMMARY:Sing-a long
DESCRIPTION:Sing-a long @ 9:30 am\,  every Friday\, Houston Senior Center. 301 S. Grand Ave. Houston.
URL:https://houstonherald.com/event/sing-a-long/2027-04-23/
LOCATION:Houston Senior Center\, 301 S Grand Ave.\, Houston\, MO\, 65483
END:VEVENT
BEGIN:VEVENT
DTSTART;TZID=America/Chicago:20270430T093000
DTEND;TZID=America/Chicago:20270430T103000
DTSTAMP:20260421T233046
CREATED:20250716T141145Z
LAST-MODIFIED:20250716T141145Z
UID:10013780-1809077400-1809081000@houstonherald.com
SUMMARY:Sing-a long
DESCRIPTION:Sing-a long @ 9:30 am\,  every Friday\, Houston Senior Center. 301 S. Grand Ave. Houston.
URL:https://houstonherald.com/event/sing-a-long/2027-04-30/
LOCATION:Houston Senior Center\, 301 S Grand Ave.\, Houston\, MO\, 65483
END:VEVENT
BEGIN:VEVENT
DTSTART;TZID=America/Chicago:20270507T093000
DTEND;TZID=America/Chicago:20270507T103000
DTSTAMP:20260421T233046
CREATED:20250716T141145Z
LAST-MODIFIED:20250716T141145Z
UID:10013781-1809682200-1809685800@houstonherald.com
SUMMARY:Sing-a long
DESCRIPTION:Sing-a long @ 9:30 am\,  every Friday\, Houston Senior Center. 301 S. Grand Ave. Houston.
URL:https://houstonherald.com/event/sing-a-long/2027-05-07/
LOCATION:Houston Senior Center\, 301 S Grand Ave.\, Houston\, MO\, 65483
END:VEVENT
BEGIN:VEVENT
DTSTART;TZID=America/Chicago:20270514T093000
DTEND;TZID=America/Chicago:20270514T103000
DTSTAMP:20260421T233046
CREATED:20250716T141145Z
LAST-MODIFIED:20250716T141145Z
UID:10013782-1810287000-1810290600@houstonherald.com
SUMMARY:Sing-a long
DESCRIPTION:Sing-a long @ 9:30 am\,  every Friday\, Houston Senior Center. 301 S. Grand Ave. Houston.
URL:https://houstonherald.com/event/sing-a-long/2027-05-14/
LOCATION:Houston Senior Center\, 301 S Grand Ave.\, Houston\, MO\, 65483
END:VEVENT
BEGIN:VEVENT
DTSTART;TZID=America/Chicago:20270521T093000
DTEND;TZID=America/Chicago:20270521T103000
DTSTAMP:20260421T233046
CREATED:20250716T141145Z
LAST-MODIFIED:20250716T141145Z
UID:10013783-1810891800-1810895400@houstonherald.com
SUMMARY:Sing-a long
DESCRIPTION:Sing-a long @ 9:30 am\,  every Friday\, Houston Senior Center. 301 S. Grand Ave. Houston.
URL:https://houstonherald.com/event/sing-a-long/2027-05-21/
LOCATION:Houston Senior Center\, 301 S Grand Ave.\, Houston\, MO\, 65483
END:VEVENT
BEGIN:VEVENT
DTSTART;TZID=America/Chicago:20270528T093000
DTEND;TZID=America/Chicago:20270528T103000
DTSTAMP:20260421T233046
CREATED:20250716T141145Z
LAST-MODIFIED:20250716T141145Z
UID:10013784-1811496600-1811500200@houstonherald.com
SUMMARY:Sing-a long
DESCRIPTION:Sing-a long @ 9:30 am\,  every Friday\, Houston Senior Center. 301 S. Grand Ave. Houston.
URL:https://houstonherald.com/event/sing-a-long/2027-05-28/
LOCATION:Houston Senior Center\, 301 S Grand Ave.\, Houston\, MO\, 65483
END:VEVENT
BEGIN:VEVENT
DTSTART;TZID=America/Chicago:20270604T093000
DTEND;TZID=America/Chicago:20270604T103000
DTSTAMP:20260421T233046
CREATED:20250716T141145Z
LAST-MODIFIED:20250716T141145Z
UID:10013785-1812101400-1812105000@houstonherald.com
SUMMARY:Sing-a long
DESCRIPTION:Sing-a long @ 9:30 am\,  every Friday\, Houston Senior Center. 301 S. Grand Ave. Houston.
URL:https://houstonherald.com/event/sing-a-long/2027-06-04/
LOCATION:Houston Senior Center\, 301 S Grand Ave.\, Houston\, MO\, 65483
END:VEVENT
BEGIN:VEVENT
DTSTART;TZID=America/Chicago:20270611T093000
DTEND;TZID=America/Chicago:20270611T103000
DTSTAMP:20260421T233046
CREATED:20250716T141145Z
LAST-MODIFIED:20250716T141145Z
UID:10013786-1812706200-1812709800@houstonherald.com
SUMMARY:Sing-a long
DESCRIPTION:Sing-a long @ 9:30 am\,  every Friday\, Houston Senior Center. 301 S. Grand Ave. Houston.
URL:https://houstonherald.com/event/sing-a-long/2027-06-11/
LOCATION:Houston Senior Center\, 301 S Grand Ave.\, Houston\, MO\, 65483
END:VEVENT
BEGIN:VEVENT
DTSTART;TZID=America/Chicago:20270618T093000
DTEND;TZID=America/Chicago:20270618T103000
DTSTAMP:20260421T233046
CREATED:20250716T141145Z
LAST-MODIFIED:20250716T141145Z
UID:10013787-1813311000-1813314600@houstonherald.com
SUMMARY:Sing-a long
DESCRIPTION:Sing-a long @ 9:30 am\,  every Friday\, Houston Senior Center. 301 S. Grand Ave. Houston.
URL:https://houstonherald.com/event/sing-a-long/2027-06-18/
LOCATION:Houston Senior Center\, 301 S Grand Ave.\, Houston\, MO\, 65483
END:VEVENT
BEGIN:VEVENT
DTSTART;TZID=America/Chicago:20270625T093000
DTEND;TZID=America/Chicago:20270625T103000
DTSTAMP:20260421T233046
CREATED:20250716T141145Z
LAST-MODIFIED:20250716T141145Z
UID:10013788-1813915800-1813919400@houstonherald.com
SUMMARY:Sing-a long
DESCRIPTION:Sing-a long @ 9:30 am\,  every Friday\, Houston Senior Center. 301 S. Grand Ave. Houston.
URL:https://houstonherald.com/event/sing-a-long/2027-06-25/
LOCATION:Houston Senior Center\, 301 S Grand Ave.\, Houston\, MO\, 65483
END:VEVENT
BEGIN:VEVENT
DTSTART;TZID=America/Chicago:20270702T093000
DTEND;TZID=America/Chicago:20270702T103000
DTSTAMP:20260421T233046
CREATED:20250716T141145Z
LAST-MODIFIED:20250716T141145Z
UID:10013789-1814520600-1814524200@houstonherald.com
SUMMARY:Sing-a long
DESCRIPTION:Sing-a long @ 9:30 am\,  every Friday\, Houston Senior Center. 301 S. Grand Ave. Houston.
URL:https://houstonherald.com/event/sing-a-long/2027-07-02/
LOCATION:Houston Senior Center\, 301 S Grand Ave.\, Houston\, MO\, 65483
END:VEVENT
BEGIN:VEVENT
DTSTART;TZID=America/Chicago:20270709T093000
DTEND;TZID=America/Chicago:20270709T103000
DTSTAMP:20260421T233046
CREATED:20250716T141145Z
LAST-MODIFIED:20250716T141145Z
UID:10013790-1815125400-1815129000@houstonherald.com
SUMMARY:Sing-a long
DESCRIPTION:Sing-a long @ 9:30 am\,  every Friday\, Houston Senior Center. 301 S. Grand Ave. Houston.
URL:https://houstonherald.com/event/sing-a-long/2027-07-09/
LOCATION:Houston Senior Center\, 301 S Grand Ave.\, Houston\, MO\, 65483
END:VEVENT
BEGIN:VEVENT
DTSTART;TZID=America/Chicago:20270716T093000
DTEND;TZID=America/Chicago:20270716T103000
DTSTAMP:20260421T233046
CREATED:20250716T141145Z
LAST-MODIFIED:20250716T141145Z
UID:10013791-1815730200-1815733800@houstonherald.com
SUMMARY:Sing-a long
DESCRIPTION:Sing-a long @ 9:30 am\,  every Friday\, Houston Senior Center. 301 S. Grand Ave. Houston.
URL:https://houstonherald.com/event/sing-a-long/2027-07-16/
LOCATION:Houston Senior Center\, 301 S Grand Ave.\, Houston\, MO\, 65483
END:VEVENT
BEGIN:VEVENT
DTSTART;TZID=America/Chicago:20270723T093000
DTEND;TZID=America/Chicago:20270723T103000
DTSTAMP:20260421T233046
CREATED:20250716T141145Z
LAST-MODIFIED:20250716T141145Z
UID:10013792-1816335000-1816338600@houstonherald.com
SUMMARY:Sing-a long
DESCRIPTION:Sing-a long @ 9:30 am\,  every Friday\, Houston Senior Center. 301 S. Grand Ave. Houston.
URL:https://houstonherald.com/event/sing-a-long/2027-07-23/
LOCATION:Houston Senior Center\, 301 S Grand Ave.\, Houston\, MO\, 65483
END:VEVENT
BEGIN:VEVENT
DTSTART;TZID=America/Chicago:20270730T093000
DTEND;TZID=America/Chicago:20270730T103000
DTSTAMP:20260421T233046
CREATED:20250716T141145Z
LAST-MODIFIED:20250716T141145Z
UID:10013793-1816939800-1816943400@houstonherald.com
SUMMARY:Sing-a long
DESCRIPTION:Sing-a long @ 9:30 am\,  every Friday\, Houston Senior Center. 301 S. Grand Ave. Houston.
URL:https://houstonherald.com/event/sing-a-long/2027-07-30/
LOCATION:Houston Senior Center\, 301 S Grand Ave.\, Houston\, MO\, 65483
END:VEVENT
BEGIN:VEVENT
DTSTART;TZID=America/Chicago:20270806T093000
DTEND;TZID=America/Chicago:20270806T103000
DTSTAMP:20260421T233046
CREATED:20250716T141145Z
LAST-MODIFIED:20250716T141145Z
UID:10013794-1817544600-1817548200@houstonherald.com
SUMMARY:Sing-a long
DESCRIPTION:Sing-a long @ 9:30 am\,  every Friday\, Houston Senior Center. 301 S. Grand Ave. Houston.
URL:https://houstonherald.com/event/sing-a-long/2027-08-06/
LOCATION:Houston Senior Center\, 301 S Grand Ave.\, Houston\, MO\, 65483
END:VEVENT
BEGIN:VEVENT
DTSTART;TZID=America/Chicago:20270813T093000
DTEND;TZID=America/Chicago:20270813T103000
DTSTAMP:20260421T233046
CREATED:20250716T141145Z
LAST-MODIFIED:20250716T141145Z
UID:10013795-1818149400-1818153000@houstonherald.com
SUMMARY:Sing-a long
DESCRIPTION:Sing-a long @ 9:30 am\,  every Friday\, Houston Senior Center. 301 S. Grand Ave. Houston.
URL:https://houstonherald.com/event/sing-a-long/2027-08-13/
LOCATION:Houston Senior Center\, 301 S Grand Ave.\, Houston\, MO\, 65483
END:VEVENT
BEGIN:VEVENT
DTSTART;TZID=America/Chicago:20270820T093000
DTEND;TZID=America/Chicago:20270820T103000
DTSTAMP:20260421T233046
CREATED:20250716T141145Z
LAST-MODIFIED:20250716T141145Z
UID:10013796-1818754200-1818757800@houstonherald.com
SUMMARY:Sing-a long
DESCRIPTION:Sing-a long @ 9:30 am\,  every Friday\, Houston Senior Center. 301 S. Grand Ave. Houston.
URL:https://houstonherald.com/event/sing-a-long/2027-08-20/
LOCATION:Houston Senior Center\, 301 S Grand Ave.\, Houston\, MO\, 65483
END:VEVENT
BEGIN:VEVENT
DTSTART;TZID=America/Chicago:20270827T093000
DTEND;TZID=America/Chicago:20270827T103000
DTSTAMP:20260421T233046
CREATED:20250716T141145Z
LAST-MODIFIED:20250716T141145Z
UID:10013797-1819359000-1819362600@houstonherald.com
SUMMARY:Sing-a long
DESCRIPTION:Sing-a long @ 9:30 am\,  every Friday\, Houston Senior Center. 301 S. Grand Ave. Houston.
URL:https://houstonherald.com/event/sing-a-long/2027-08-27/
LOCATION:Houston Senior Center\, 301 S Grand Ave.\, Houston\, MO\, 65483
END:VEVENT
BEGIN:VEVENT
DTSTART;TZID=America/Chicago:20270903T093000
DTEND;TZID=America/Chicago:20270903T103000
DTSTAMP:20260421T233046
CREATED:20250716T141145Z
LAST-MODIFIED:20250716T141145Z
UID:10013798-1819963800-1819967400@houstonherald.com
SUMMARY:Sing-a long
DESCRIPTION:Sing-a long @ 9:30 am\,  every Friday\, Houston Senior Center. 301 S. Grand Ave. Houston.
URL:https://houstonherald.com/event/sing-a-long/2027-09-03/
LOCATION:Houston Senior Center\, 301 S Grand Ave.\, Houston\, MO\, 65483
END:VEVENT
BEGIN:VEVENT
DTSTART;TZID=America/Chicago:20270910T093000
DTEND;TZID=America/Chicago:20270910T103000
DTSTAMP:20260421T233046
CREATED:20250716T141145Z
LAST-MODIFIED:20250716T141145Z
UID:10013799-1820568600-1820572200@houstonherald.com
SUMMARY:Sing-a long
DESCRIPTION:Sing-a long @ 9:30 am\,  every Friday\, Houston Senior Center. 301 S. Grand Ave. Houston.
URL:https://houstonherald.com/event/sing-a-long/2027-09-10/
LOCATION:Houston Senior Center\, 301 S Grand Ave.\, Houston\, MO\, 65483
END:VEVENT
BEGIN:VEVENT
DTSTART;TZID=America/Chicago:20270917T093000
DTEND;TZID=America/Chicago:20270917T103000
DTSTAMP:20260421T233046
CREATED:20250716T141145Z
LAST-MODIFIED:20250716T141145Z
UID:10013800-1821173400-1821177000@houstonherald.com
SUMMARY:Sing-a long
DESCRIPTION:Sing-a long @ 9:30 am\,  every Friday\, Houston Senior Center. 301 S. Grand Ave. Houston.
URL:https://houstonherald.com/event/sing-a-long/2027-09-17/
LOCATION:Houston Senior Center\, 301 S Grand Ave.\, Houston\, MO\, 65483
END:VEVENT
END:VCALENDAR