BEGIN:VCALENDAR
VERSION:2.0
PRODID:-//Houston Herald - ECPv6.15.20//NONSGML v1.0//EN
CALSCALE:GREGORIAN
METHOD:PUBLISH
X-WR-CALNAME:Houston Herald
X-ORIGINAL-URL:https://houstonherald.com
X-WR-CALDESC:Events for Houston Herald
REFRESH-INTERVAL;VALUE=DURATION:PT1H
X-Robots-Tag:noindex
X-PUBLISHED-TTL:PT1H
BEGIN:VTIMEZONE
TZID:America/Chicago
BEGIN:DAYLIGHT
TZOFFSETFROM:-0600
TZOFFSETTO:-0500
TZNAME:CDT
DTSTART:20250309T080000
END:DAYLIGHT
BEGIN:STANDARD
TZOFFSETFROM:-0500
TZOFFSETTO:-0600
TZNAME:CST
DTSTART:20251102T070000
END:STANDARD
BEGIN:DAYLIGHT
TZOFFSETFROM:-0600
TZOFFSETTO:-0500
TZNAME:CDT
DTSTART:20260308T080000
END:DAYLIGHT
BEGIN:STANDARD
TZOFFSETFROM:-0500
TZOFFSETTO:-0600
TZNAME:CST
DTSTART:20261101T070000
END:STANDARD
BEGIN:DAYLIGHT
TZOFFSETFROM:-0600
TZOFFSETTO:-0500
TZNAME:CDT
DTSTART:20270314T080000
END:DAYLIGHT
BEGIN:STANDARD
TZOFFSETFROM:-0500
TZOFFSETTO:-0600
TZNAME:CST
DTSTART:20271107T070000
END:STANDARD
END:VTIMEZONE
BEGIN:VEVENT
DTSTART;TZID=America/Chicago:20260425T183000
DTEND;TZID=America/Chicago:20260425T200000
DTSTAMP:20260425T153207
CREATED:20250926T150911Z
LAST-MODIFIED:20250926T152052Z
UID:10014831-1777141800-1777147200@houstonherald.com
SUMMARY:Bible Prophecy Seminar
DESCRIPTION:Houston Seventh-day Adventist Church in Houston is hosting the Bible Prophecy Seminar “Liberty On The Line” at 6:30 p.m. Oct. 3-12. It’s a 10-part Bible prophecy series presented by Tim Rumsey.
URL:https://houstonherald.com/event/bible-prophecy-seminar/2026-04-25/
LOCATION:Houston Seventh-day Adventist Church\, 756 S Airport Rd\, Houston\, MO\, 65483\, United States
END:VEVENT
BEGIN:VEVENT
DTSTART;TZID=America/Chicago:20260426T183000
DTEND;TZID=America/Chicago:20260426T200000
DTSTAMP:20260425T153207
CREATED:20250926T150911Z
LAST-MODIFIED:20250926T152052Z
UID:10014832-1777228200-1777233600@houstonherald.com
SUMMARY:Bible Prophecy Seminar
DESCRIPTION:Houston Seventh-day Adventist Church in Houston is hosting the Bible Prophecy Seminar “Liberty On The Line” at 6:30 p.m. Oct. 3-12. It’s a 10-part Bible prophecy series presented by Tim Rumsey.
URL:https://houstonherald.com/event/bible-prophecy-seminar/2026-04-26/
LOCATION:Houston Seventh-day Adventist Church\, 756 S Airport Rd\, Houston\, MO\, 65483\, United States
END:VEVENT
BEGIN:VEVENT
DTSTART;TZID=America/Chicago:20260427T183000
DTEND;TZID=America/Chicago:20260427T200000
DTSTAMP:20260425T153207
CREATED:20250926T150911Z
LAST-MODIFIED:20250926T152052Z
UID:10014833-1777314600-1777320000@houstonherald.com
SUMMARY:Bible Prophecy Seminar
DESCRIPTION:Houston Seventh-day Adventist Church in Houston is hosting the Bible Prophecy Seminar “Liberty On The Line” at 6:30 p.m. Oct. 3-12. It’s a 10-part Bible prophecy series presented by Tim Rumsey.
URL:https://houstonherald.com/event/bible-prophecy-seminar/2026-04-27/
LOCATION:Houston Seventh-day Adventist Church\, 756 S Airport Rd\, Houston\, MO\, 65483\, United States
END:VEVENT
BEGIN:VEVENT
DTSTART;TZID=America/Chicago:20260428T183000
DTEND;TZID=America/Chicago:20260428T200000
DTSTAMP:20260425T153207
CREATED:20250926T150911Z
LAST-MODIFIED:20250926T152052Z
UID:10014834-1777401000-1777406400@houstonherald.com
SUMMARY:Bible Prophecy Seminar
DESCRIPTION:Houston Seventh-day Adventist Church in Houston is hosting the Bible Prophecy Seminar “Liberty On The Line” at 6:30 p.m. Oct. 3-12. It’s a 10-part Bible prophecy series presented by Tim Rumsey.
URL:https://houstonherald.com/event/bible-prophecy-seminar/2026-04-28/
LOCATION:Houston Seventh-day Adventist Church\, 756 S Airport Rd\, Houston\, MO\, 65483\, United States
END:VEVENT
BEGIN:VEVENT
DTSTART;TZID=America/Chicago:20260429T183000
DTEND;TZID=America/Chicago:20260429T200000
DTSTAMP:20260425T153207
CREATED:20250926T150911Z
LAST-MODIFIED:20250926T152052Z
UID:10014835-1777487400-1777492800@houstonherald.com
SUMMARY:Bible Prophecy Seminar
DESCRIPTION:Houston Seventh-day Adventist Church in Houston is hosting the Bible Prophecy Seminar “Liberty On The Line” at 6:30 p.m. Oct. 3-12. It’s a 10-part Bible prophecy series presented by Tim Rumsey.
URL:https://houstonherald.com/event/bible-prophecy-seminar/2026-04-29/
LOCATION:Houston Seventh-day Adventist Church\, 756 S Airport Rd\, Houston\, MO\, 65483\, United States
END:VEVENT
BEGIN:VEVENT
DTSTART;TZID=America/Chicago:20260430T183000
DTEND;TZID=America/Chicago:20260430T200000
DTSTAMP:20260425T153207
CREATED:20250926T150911Z
LAST-MODIFIED:20250926T152052Z
UID:10014836-1777573800-1777579200@houstonherald.com
SUMMARY:Bible Prophecy Seminar
DESCRIPTION:Houston Seventh-day Adventist Church in Houston is hosting the Bible Prophecy Seminar “Liberty On The Line” at 6:30 p.m. Oct. 3-12. It’s a 10-part Bible prophecy series presented by Tim Rumsey.
URL:https://houstonherald.com/event/bible-prophecy-seminar/2026-04-30/
LOCATION:Houston Seventh-day Adventist Church\, 756 S Airport Rd\, Houston\, MO\, 65483\, United States
END:VEVENT
BEGIN:VEVENT
DTSTART;TZID=America/Chicago:20260501T183000
DTEND;TZID=America/Chicago:20260501T200000
DTSTAMP:20260425T153208
CREATED:20250926T150911Z
LAST-MODIFIED:20250926T152052Z
UID:10014837-1777660200-1777665600@houstonherald.com
SUMMARY:Bible Prophecy Seminar
DESCRIPTION:Houston Seventh-day Adventist Church in Houston is hosting the Bible Prophecy Seminar “Liberty On The Line” at 6:30 p.m. Oct. 3-12. It’s a 10-part Bible prophecy series presented by Tim Rumsey.
URL:https://houstonherald.com/event/bible-prophecy-seminar/2026-05-01/
LOCATION:Houston Seventh-day Adventist Church\, 756 S Airport Rd\, Houston\, MO\, 65483\, United States
END:VEVENT
BEGIN:VEVENT
DTSTART;TZID=America/Chicago:20260502T183000
DTEND;TZID=America/Chicago:20260502T200000
DTSTAMP:20260425T153208
CREATED:20250926T150911Z
LAST-MODIFIED:20250926T152052Z
UID:10014838-1777746600-1777752000@houstonherald.com
SUMMARY:Bible Prophecy Seminar
DESCRIPTION:Houston Seventh-day Adventist Church in Houston is hosting the Bible Prophecy Seminar “Liberty On The Line” at 6:30 p.m. Oct. 3-12. It’s a 10-part Bible prophecy series presented by Tim Rumsey.
URL:https://houstonherald.com/event/bible-prophecy-seminar/2026-05-02/
LOCATION:Houston Seventh-day Adventist Church\, 756 S Airport Rd\, Houston\, MO\, 65483\, United States
END:VEVENT
BEGIN:VEVENT
DTSTART;TZID=America/Chicago:20260503T183000
DTEND;TZID=America/Chicago:20260503T200000
DTSTAMP:20260425T153208
CREATED:20250926T150911Z
LAST-MODIFIED:20250926T152052Z
UID:10014839-1777833000-1777838400@houstonherald.com
SUMMARY:Bible Prophecy Seminar
DESCRIPTION:Houston Seventh-day Adventist Church in Houston is hosting the Bible Prophecy Seminar “Liberty On The Line” at 6:30 p.m. Oct. 3-12. It’s a 10-part Bible prophecy series presented by Tim Rumsey.
URL:https://houstonherald.com/event/bible-prophecy-seminar/2026-05-03/
LOCATION:Houston Seventh-day Adventist Church\, 756 S Airport Rd\, Houston\, MO\, 65483\, United States
END:VEVENT
BEGIN:VEVENT
DTSTART;TZID=America/Chicago:20260504T183000
DTEND;TZID=America/Chicago:20260504T200000
DTSTAMP:20260425T153208
CREATED:20250926T150911Z
LAST-MODIFIED:20250926T152052Z
UID:10014840-1777919400-1777924800@houstonherald.com
SUMMARY:Bible Prophecy Seminar
DESCRIPTION:Houston Seventh-day Adventist Church in Houston is hosting the Bible Prophecy Seminar “Liberty On The Line” at 6:30 p.m. Oct. 3-12. It’s a 10-part Bible prophecy series presented by Tim Rumsey.
URL:https://houstonherald.com/event/bible-prophecy-seminar/2026-05-04/
LOCATION:Houston Seventh-day Adventist Church\, 756 S Airport Rd\, Houston\, MO\, 65483\, United States
END:VEVENT
BEGIN:VEVENT
DTSTART;TZID=America/Chicago:20260505T183000
DTEND;TZID=America/Chicago:20260505T200000
DTSTAMP:20260425T153208
CREATED:20250926T150911Z
LAST-MODIFIED:20250926T152052Z
UID:10014841-1778005800-1778011200@houstonherald.com
SUMMARY:Bible Prophecy Seminar
DESCRIPTION:Houston Seventh-day Adventist Church in Houston is hosting the Bible Prophecy Seminar “Liberty On The Line” at 6:30 p.m. Oct. 3-12. It’s a 10-part Bible prophecy series presented by Tim Rumsey.
URL:https://houstonherald.com/event/bible-prophecy-seminar/2026-05-05/
LOCATION:Houston Seventh-day Adventist Church\, 756 S Airport Rd\, Houston\, MO\, 65483\, United States
END:VEVENT
BEGIN:VEVENT
DTSTART;TZID=America/Chicago:20260506T183000
DTEND;TZID=America/Chicago:20260506T200000
DTSTAMP:20260425T153208
CREATED:20250926T150911Z
LAST-MODIFIED:20250926T152052Z
UID:10014842-1778092200-1778097600@houstonherald.com
SUMMARY:Bible Prophecy Seminar
DESCRIPTION:Houston Seventh-day Adventist Church in Houston is hosting the Bible Prophecy Seminar “Liberty On The Line” at 6:30 p.m. Oct. 3-12. It’s a 10-part Bible prophecy series presented by Tim Rumsey.
URL:https://houstonherald.com/event/bible-prophecy-seminar/2026-05-06/
LOCATION:Houston Seventh-day Adventist Church\, 756 S Airport Rd\, Houston\, MO\, 65483\, United States
END:VEVENT
BEGIN:VEVENT
DTSTART;TZID=America/Chicago:20260507T183000
DTEND;TZID=America/Chicago:20260507T200000
DTSTAMP:20260425T153208
CREATED:20250926T150911Z
LAST-MODIFIED:20250926T152052Z
UID:10014843-1778178600-1778184000@houstonherald.com
SUMMARY:Bible Prophecy Seminar
DESCRIPTION:Houston Seventh-day Adventist Church in Houston is hosting the Bible Prophecy Seminar “Liberty On The Line” at 6:30 p.m. Oct. 3-12. It’s a 10-part Bible prophecy series presented by Tim Rumsey.
URL:https://houstonherald.com/event/bible-prophecy-seminar/2026-05-07/
LOCATION:Houston Seventh-day Adventist Church\, 756 S Airport Rd\, Houston\, MO\, 65483\, United States
END:VEVENT
BEGIN:VEVENT
DTSTART;TZID=America/Chicago:20260508T183000
DTEND;TZID=America/Chicago:20260508T200000
DTSTAMP:20260425T153208
CREATED:20250926T150911Z
LAST-MODIFIED:20250926T152052Z
UID:10014844-1778265000-1778270400@houstonherald.com
SUMMARY:Bible Prophecy Seminar
DESCRIPTION:Houston Seventh-day Adventist Church in Houston is hosting the Bible Prophecy Seminar “Liberty On The Line” at 6:30 p.m. Oct. 3-12. It’s a 10-part Bible prophecy series presented by Tim Rumsey.
URL:https://houstonherald.com/event/bible-prophecy-seminar/2026-05-08/
LOCATION:Houston Seventh-day Adventist Church\, 756 S Airport Rd\, Houston\, MO\, 65483\, United States
END:VEVENT
BEGIN:VEVENT
DTSTART;TZID=America/Chicago:20260509T183000
DTEND;TZID=America/Chicago:20260509T200000
DTSTAMP:20260425T153208
CREATED:20250926T150911Z
LAST-MODIFIED:20250926T152052Z
UID:10014845-1778351400-1778356800@houstonherald.com
SUMMARY:Bible Prophecy Seminar
DESCRIPTION:Houston Seventh-day Adventist Church in Houston is hosting the Bible Prophecy Seminar “Liberty On The Line” at 6:30 p.m. Oct. 3-12. It’s a 10-part Bible prophecy series presented by Tim Rumsey.
URL:https://houstonherald.com/event/bible-prophecy-seminar/2026-05-09/
LOCATION:Houston Seventh-day Adventist Church\, 756 S Airport Rd\, Houston\, MO\, 65483\, United States
END:VEVENT
BEGIN:VEVENT
DTSTART;TZID=America/Chicago:20260510T183000
DTEND;TZID=America/Chicago:20260510T200000
DTSTAMP:20260425T153208
CREATED:20250926T150911Z
LAST-MODIFIED:20250926T152052Z
UID:10014846-1778437800-1778443200@houstonherald.com
SUMMARY:Bible Prophecy Seminar
DESCRIPTION:Houston Seventh-day Adventist Church in Houston is hosting the Bible Prophecy Seminar “Liberty On The Line” at 6:30 p.m. Oct. 3-12. It’s a 10-part Bible prophecy series presented by Tim Rumsey.
URL:https://houstonherald.com/event/bible-prophecy-seminar/2026-05-10/
LOCATION:Houston Seventh-day Adventist Church\, 756 S Airport Rd\, Houston\, MO\, 65483\, United States
END:VEVENT
BEGIN:VEVENT
DTSTART;TZID=America/Chicago:20260511T183000
DTEND;TZID=America/Chicago:20260511T200000
DTSTAMP:20260425T153208
CREATED:20250926T150911Z
LAST-MODIFIED:20250926T152052Z
UID:10014847-1778524200-1778529600@houstonherald.com
SUMMARY:Bible Prophecy Seminar
DESCRIPTION:Houston Seventh-day Adventist Church in Houston is hosting the Bible Prophecy Seminar “Liberty On The Line” at 6:30 p.m. Oct. 3-12. It’s a 10-part Bible prophecy series presented by Tim Rumsey.
URL:https://houstonherald.com/event/bible-prophecy-seminar/2026-05-11/
LOCATION:Houston Seventh-day Adventist Church\, 756 S Airport Rd\, Houston\, MO\, 65483\, United States
END:VEVENT
BEGIN:VEVENT
DTSTART;TZID=America/Chicago:20260512T183000
DTEND;TZID=America/Chicago:20260512T200000
DTSTAMP:20260425T153208
CREATED:20250926T150911Z
LAST-MODIFIED:20250926T152052Z
UID:10014848-1778610600-1778616000@houstonherald.com
SUMMARY:Bible Prophecy Seminar
DESCRIPTION:Houston Seventh-day Adventist Church in Houston is hosting the Bible Prophecy Seminar “Liberty On The Line” at 6:30 p.m. Oct. 3-12. It’s a 10-part Bible prophecy series presented by Tim Rumsey.
URL:https://houstonherald.com/event/bible-prophecy-seminar/2026-05-12/
LOCATION:Houston Seventh-day Adventist Church\, 756 S Airport Rd\, Houston\, MO\, 65483\, United States
END:VEVENT
BEGIN:VEVENT
DTSTART;TZID=America/Chicago:20260513T183000
DTEND;TZID=America/Chicago:20260513T200000
DTSTAMP:20260425T153208
CREATED:20250926T150911Z
LAST-MODIFIED:20250926T152052Z
UID:10014849-1778697000-1778702400@houstonherald.com
SUMMARY:Bible Prophecy Seminar
DESCRIPTION:Houston Seventh-day Adventist Church in Houston is hosting the Bible Prophecy Seminar “Liberty On The Line” at 6:30 p.m. Oct. 3-12. It’s a 10-part Bible prophecy series presented by Tim Rumsey.
URL:https://houstonherald.com/event/bible-prophecy-seminar/2026-05-13/
LOCATION:Houston Seventh-day Adventist Church\, 756 S Airport Rd\, Houston\, MO\, 65483\, United States
END:VEVENT
BEGIN:VEVENT
DTSTART;TZID=America/Chicago:20260514T183000
DTEND;TZID=America/Chicago:20260514T200000
DTSTAMP:20260425T153208
CREATED:20250926T150911Z
LAST-MODIFIED:20250926T152052Z
UID:10014850-1778783400-1778788800@houstonherald.com
SUMMARY:Bible Prophecy Seminar
DESCRIPTION:Houston Seventh-day Adventist Church in Houston is hosting the Bible Prophecy Seminar “Liberty On The Line” at 6:30 p.m. Oct. 3-12. It’s a 10-part Bible prophecy series presented by Tim Rumsey.
URL:https://houstonherald.com/event/bible-prophecy-seminar/2026-05-14/
LOCATION:Houston Seventh-day Adventist Church\, 756 S Airport Rd\, Houston\, MO\, 65483\, United States
END:VEVENT
BEGIN:VEVENT
DTSTART;TZID=America/Chicago:20260515T183000
DTEND;TZID=America/Chicago:20260515T200000
DTSTAMP:20260425T153208
CREATED:20250926T150911Z
LAST-MODIFIED:20250926T152052Z
UID:10014851-1778869800-1778875200@houstonherald.com
SUMMARY:Bible Prophecy Seminar
DESCRIPTION:Houston Seventh-day Adventist Church in Houston is hosting the Bible Prophecy Seminar “Liberty On The Line” at 6:30 p.m. Oct. 3-12. It’s a 10-part Bible prophecy series presented by Tim Rumsey.
URL:https://houstonherald.com/event/bible-prophecy-seminar/2026-05-15/
LOCATION:Houston Seventh-day Adventist Church\, 756 S Airport Rd\, Houston\, MO\, 65483\, United States
END:VEVENT
BEGIN:VEVENT
DTSTART;TZID=America/Chicago:20260516T183000
DTEND;TZID=America/Chicago:20260516T200000
DTSTAMP:20260425T153208
CREATED:20250926T150911Z
LAST-MODIFIED:20250926T152052Z
UID:10014852-1778956200-1778961600@houstonherald.com
SUMMARY:Bible Prophecy Seminar
DESCRIPTION:Houston Seventh-day Adventist Church in Houston is hosting the Bible Prophecy Seminar “Liberty On The Line” at 6:30 p.m. Oct. 3-12. It’s a 10-part Bible prophecy series presented by Tim Rumsey.
URL:https://houstonherald.com/event/bible-prophecy-seminar/2026-05-16/
LOCATION:Houston Seventh-day Adventist Church\, 756 S Airport Rd\, Houston\, MO\, 65483\, United States
END:VEVENT
BEGIN:VEVENT
DTSTART;TZID=America/Chicago:20260517T183000
DTEND;TZID=America/Chicago:20260517T200000
DTSTAMP:20260425T153208
CREATED:20250926T150911Z
LAST-MODIFIED:20250926T152052Z
UID:10014853-1779042600-1779048000@houstonherald.com
SUMMARY:Bible Prophecy Seminar
DESCRIPTION:Houston Seventh-day Adventist Church in Houston is hosting the Bible Prophecy Seminar “Liberty On The Line” at 6:30 p.m. Oct. 3-12. It’s a 10-part Bible prophecy series presented by Tim Rumsey.
URL:https://houstonherald.com/event/bible-prophecy-seminar/2026-05-17/
LOCATION:Houston Seventh-day Adventist Church\, 756 S Airport Rd\, Houston\, MO\, 65483\, United States
END:VEVENT
BEGIN:VEVENT
DTSTART;TZID=America/Chicago:20260518T183000
DTEND;TZID=America/Chicago:20260518T200000
DTSTAMP:20260425T153208
CREATED:20250926T150911Z
LAST-MODIFIED:20250926T152052Z
UID:10014854-1779129000-1779134400@houstonherald.com
SUMMARY:Bible Prophecy Seminar
DESCRIPTION:Houston Seventh-day Adventist Church in Houston is hosting the Bible Prophecy Seminar “Liberty On The Line” at 6:30 p.m. Oct. 3-12. It’s a 10-part Bible prophecy series presented by Tim Rumsey.
URL:https://houstonherald.com/event/bible-prophecy-seminar/2026-05-18/
LOCATION:Houston Seventh-day Adventist Church\, 756 S Airport Rd\, Houston\, MO\, 65483\, United States
END:VEVENT
BEGIN:VEVENT
DTSTART;TZID=America/Chicago:20260519T183000
DTEND;TZID=America/Chicago:20260519T200000
DTSTAMP:20260425T153208
CREATED:20250926T150911Z
LAST-MODIFIED:20250926T152052Z
UID:10014855-1779215400-1779220800@houstonherald.com
SUMMARY:Bible Prophecy Seminar
DESCRIPTION:Houston Seventh-day Adventist Church in Houston is hosting the Bible Prophecy Seminar “Liberty On The Line” at 6:30 p.m. Oct. 3-12. It’s a 10-part Bible prophecy series presented by Tim Rumsey.
URL:https://houstonherald.com/event/bible-prophecy-seminar/2026-05-19/
LOCATION:Houston Seventh-day Adventist Church\, 756 S Airport Rd\, Houston\, MO\, 65483\, United States
END:VEVENT
BEGIN:VEVENT
DTSTART;TZID=America/Chicago:20260520T183000
DTEND;TZID=America/Chicago:20260520T200000
DTSTAMP:20260425T153208
CREATED:20250926T150911Z
LAST-MODIFIED:20250926T152052Z
UID:10014856-1779301800-1779307200@houstonherald.com
SUMMARY:Bible Prophecy Seminar
DESCRIPTION:Houston Seventh-day Adventist Church in Houston is hosting the Bible Prophecy Seminar “Liberty On The Line” at 6:30 p.m. Oct. 3-12. It’s a 10-part Bible prophecy series presented by Tim Rumsey.
URL:https://houstonherald.com/event/bible-prophecy-seminar/2026-05-20/
LOCATION:Houston Seventh-day Adventist Church\, 756 S Airport Rd\, Houston\, MO\, 65483\, United States
END:VEVENT
BEGIN:VEVENT
DTSTART;TZID=America/Chicago:20260521T183000
DTEND;TZID=America/Chicago:20260521T200000
DTSTAMP:20260425T153208
CREATED:20250926T150911Z
LAST-MODIFIED:20250926T152052Z
UID:10014857-1779388200-1779393600@houstonherald.com
SUMMARY:Bible Prophecy Seminar
DESCRIPTION:Houston Seventh-day Adventist Church in Houston is hosting the Bible Prophecy Seminar “Liberty On The Line” at 6:30 p.m. Oct. 3-12. It’s a 10-part Bible prophecy series presented by Tim Rumsey.
URL:https://houstonherald.com/event/bible-prophecy-seminar/2026-05-21/
LOCATION:Houston Seventh-day Adventist Church\, 756 S Airport Rd\, Houston\, MO\, 65483\, United States
END:VEVENT
BEGIN:VEVENT
DTSTART;TZID=America/Chicago:20260522T183000
DTEND;TZID=America/Chicago:20260522T200000
DTSTAMP:20260425T153208
CREATED:20250926T150911Z
LAST-MODIFIED:20250926T152052Z
UID:10014858-1779474600-1779480000@houstonherald.com
SUMMARY:Bible Prophecy Seminar
DESCRIPTION:Houston Seventh-day Adventist Church in Houston is hosting the Bible Prophecy Seminar “Liberty On The Line” at 6:30 p.m. Oct. 3-12. It’s a 10-part Bible prophecy series presented by Tim Rumsey.
URL:https://houstonherald.com/event/bible-prophecy-seminar/2026-05-22/
LOCATION:Houston Seventh-day Adventist Church\, 756 S Airport Rd\, Houston\, MO\, 65483\, United States
END:VEVENT
BEGIN:VEVENT
DTSTART;TZID=America/Chicago:20260523T183000
DTEND;TZID=America/Chicago:20260523T200000
DTSTAMP:20260425T153208
CREATED:20250926T150911Z
LAST-MODIFIED:20250926T152052Z
UID:10014859-1779561000-1779566400@houstonherald.com
SUMMARY:Bible Prophecy Seminar
DESCRIPTION:Houston Seventh-day Adventist Church in Houston is hosting the Bible Prophecy Seminar “Liberty On The Line” at 6:30 p.m. Oct. 3-12. It’s a 10-part Bible prophecy series presented by Tim Rumsey.
URL:https://houstonherald.com/event/bible-prophecy-seminar/2026-05-23/
LOCATION:Houston Seventh-day Adventist Church\, 756 S Airport Rd\, Houston\, MO\, 65483\, United States
END:VEVENT
BEGIN:VEVENT
DTSTART;TZID=America/Chicago:20260524T183000
DTEND;TZID=America/Chicago:20260524T200000
DTSTAMP:20260425T153208
CREATED:20250926T150911Z
LAST-MODIFIED:20250926T152052Z
UID:10014860-1779647400-1779652800@houstonherald.com
SUMMARY:Bible Prophecy Seminar
DESCRIPTION:Houston Seventh-day Adventist Church in Houston is hosting the Bible Prophecy Seminar “Liberty On The Line” at 6:30 p.m. Oct. 3-12. It’s a 10-part Bible prophecy series presented by Tim Rumsey.
URL:https://houstonherald.com/event/bible-prophecy-seminar/2026-05-24/
LOCATION:Houston Seventh-day Adventist Church\, 756 S Airport Rd\, Houston\, MO\, 65483\, United States
END:VEVENT
END:VCALENDAR