BEGIN:VCALENDAR
VERSION:2.0
PRODID:-//Houston Herald - ECPv6.15.20//NONSGML v1.0//EN
CALSCALE:GREGORIAN
METHOD:PUBLISH
X-WR-CALNAME:Houston Herald
X-ORIGINAL-URL:https://houstonherald.com
X-WR-CALDESC:Events for Houston Herald
REFRESH-INTERVAL;VALUE=DURATION:PT1H
X-Robots-Tag:noindex
X-PUBLISHED-TTL:PT1H
BEGIN:VTIMEZONE
TZID:America/Chicago
BEGIN:DAYLIGHT
TZOFFSETFROM:-0600
TZOFFSETTO:-0500
TZNAME:CDT
DTSTART:20200308T080000
END:DAYLIGHT
BEGIN:STANDARD
TZOFFSETFROM:-0500
TZOFFSETTO:-0600
TZNAME:CST
DTSTART:20201101T070000
END:STANDARD
BEGIN:DAYLIGHT
TZOFFSETFROM:-0600
TZOFFSETTO:-0500
TZNAME:CDT
DTSTART:20210314T080000
END:DAYLIGHT
BEGIN:STANDARD
TZOFFSETFROM:-0500
TZOFFSETTO:-0600
TZNAME:CST
DTSTART:20211107T070000
END:STANDARD
BEGIN:DAYLIGHT
TZOFFSETFROM:-0600
TZOFFSETTO:-0500
TZNAME:CDT
DTSTART:20220313T080000
END:DAYLIGHT
BEGIN:STANDARD
TZOFFSETFROM:-0500
TZOFFSETTO:-0600
TZNAME:CST
DTSTART:20221106T070000
END:STANDARD
BEGIN:DAYLIGHT
TZOFFSETFROM:-0600
TZOFFSETTO:-0500
TZNAME:CDT
DTSTART:20230312T080000
END:DAYLIGHT
BEGIN:STANDARD
TZOFFSETFROM:-0500
TZOFFSETTO:-0600
TZNAME:CST
DTSTART:20231105T070000
END:STANDARD
END:VTIMEZONE
BEGIN:VEVENT
DTSTART;TZID=America/Chicago:20220521T120000
DTEND;TZID=America/Chicago:20220521T140000
DTSTAMP:20260423T032314
CREATED:20210801T210716Z
LAST-MODIFIED:20210801T210716Z
UID:10006631-1653134400-1653141600@houstonherald.com
SUMMARY:Ozark Mountain Amateur Radio Club Meeting
DESCRIPTION:The Ozark Mountain Amateur Radio Club meets monthly at the Lone Star Annex at 114 W. Main St. in downtown Houston. The meeting is the third Saturday of each month\, and starts at noon. All are welcome\, with young people interested in ham radio especially encouraged to attend. Assistance in receiving FCC license is available. Contact Willy Adey at 417-260-4626 for more information.
URL:https://houstonherald.com/event/ozark-mountain-amateur-radio-club-meeting/2022-05-21/
LOCATION:Lone Star Annex\, 114 W. Main St.\, Houston\, MO\, 65483\, United States
ATTACH;FMTTYPE=image/jpeg:https://houstonherald.com/wp-content/uploads/2021/08/hamradio.jpg
END:VEVENT
BEGIN:VEVENT
DTSTART;TZID=America/Chicago:20220416T120000
DTEND;TZID=America/Chicago:20220416T140000
DTSTAMP:20260423T032314
CREATED:20210801T210716Z
LAST-MODIFIED:20210801T210716Z
UID:10006630-1650110400-1650117600@houstonherald.com
SUMMARY:Ozark Mountain Amateur Radio Club Meeting
DESCRIPTION:The Ozark Mountain Amateur Radio Club meets monthly at the Lone Star Annex at 114 W. Main St. in downtown Houston. The meeting is the third Saturday of each month\, and starts at noon. All are welcome\, with young people interested in ham radio especially encouraged to attend. Assistance in receiving FCC license is available. Contact Willy Adey at 417-260-4626 for more information.
URL:https://houstonherald.com/event/ozark-mountain-amateur-radio-club-meeting/2022-04-16/
LOCATION:Lone Star Annex\, 114 W. Main St.\, Houston\, MO\, 65483\, United States
ATTACH;FMTTYPE=image/jpeg:https://houstonherald.com/wp-content/uploads/2021/08/hamradio.jpg
END:VEVENT
BEGIN:VEVENT
DTSTART;TZID=America/Chicago:20220319T120000
DTEND;TZID=America/Chicago:20220319T140000
DTSTAMP:20260423T032314
CREATED:20210801T210716Z
LAST-MODIFIED:20210801T210716Z
UID:10006629-1647691200-1647698400@houstonherald.com
SUMMARY:Ozark Mountain Amateur Radio Club Meeting
DESCRIPTION:The Ozark Mountain Amateur Radio Club meets monthly at the Lone Star Annex at 114 W. Main St. in downtown Houston. The meeting is the third Saturday of each month\, and starts at noon. All are welcome\, with young people interested in ham radio especially encouraged to attend. Assistance in receiving FCC license is available. Contact Willy Adey at 417-260-4626 for more information.
URL:https://houstonherald.com/event/ozark-mountain-amateur-radio-club-meeting/2022-03-19/
LOCATION:Lone Star Annex\, 114 W. Main St.\, Houston\, MO\, 65483\, United States
ATTACH;FMTTYPE=image/jpeg:https://houstonherald.com/wp-content/uploads/2021/08/hamradio.jpg
END:VEVENT
BEGIN:VEVENT
DTSTART;TZID=America/Chicago:20220219T120000
DTEND;TZID=America/Chicago:20220219T140000
DTSTAMP:20260423T032314
CREATED:20210801T210716Z
LAST-MODIFIED:20210801T210716Z
UID:10006628-1645272000-1645279200@houstonherald.com
SUMMARY:Ozark Mountain Amateur Radio Club Meeting
DESCRIPTION:The Ozark Mountain Amateur Radio Club meets monthly at the Lone Star Annex at 114 W. Main St. in downtown Houston. The meeting is the third Saturday of each month\, and starts at noon. All are welcome\, with young people interested in ham radio especially encouraged to attend. Assistance in receiving FCC license is available. Contact Willy Adey at 417-260-4626 for more information.
URL:https://houstonherald.com/event/ozark-mountain-amateur-radio-club-meeting/2022-02-19/
LOCATION:Lone Star Annex\, 114 W. Main St.\, Houston\, MO\, 65483\, United States
ATTACH;FMTTYPE=image/jpeg:https://houstonherald.com/wp-content/uploads/2021/08/hamradio.jpg
END:VEVENT
BEGIN:VEVENT
DTSTART;TZID=America/Chicago:20220115T120000
DTEND;TZID=America/Chicago:20220115T140000
DTSTAMP:20260423T032314
CREATED:20210801T210716Z
LAST-MODIFIED:20210801T210716Z
UID:10006627-1642248000-1642255200@houstonherald.com
SUMMARY:Ozark Mountain Amateur Radio Club Meeting
DESCRIPTION:The Ozark Mountain Amateur Radio Club meets monthly at the Lone Star Annex at 114 W. Main St. in downtown Houston. The meeting is the third Saturday of each month\, and starts at noon. All are welcome\, with young people interested in ham radio especially encouraged to attend. Assistance in receiving FCC license is available. Contact Willy Adey at 417-260-4626 for more information.
URL:https://houstonherald.com/event/ozark-mountain-amateur-radio-club-meeting/2022-01-15/
LOCATION:Lone Star Annex\, 114 W. Main St.\, Houston\, MO\, 65483\, United States
ATTACH;FMTTYPE=image/jpeg:https://houstonherald.com/wp-content/uploads/2021/08/hamradio.jpg
END:VEVENT
BEGIN:VEVENT
DTSTART;TZID=America/Chicago:20211218T120000
DTEND;TZID=America/Chicago:20211218T140000
DTSTAMP:20260423T032314
CREATED:20210801T210716Z
LAST-MODIFIED:20210801T210716Z
UID:10006626-1639828800-1639836000@houstonherald.com
SUMMARY:Ozark Mountain Amateur Radio Club Meeting
DESCRIPTION:The Ozark Mountain Amateur Radio Club meets monthly at the Lone Star Annex at 114 W. Main St. in downtown Houston. The meeting is the third Saturday of each month\, and starts at noon. All are welcome\, with young people interested in ham radio especially encouraged to attend. Assistance in receiving FCC license is available. Contact Willy Adey at 417-260-4626 for more information.
URL:https://houstonherald.com/event/ozark-mountain-amateur-radio-club-meeting/2021-12-18/
LOCATION:Lone Star Annex\, 114 W. Main St.\, Houston\, MO\, 65483\, United States
ATTACH;FMTTYPE=image/jpeg:https://houstonherald.com/wp-content/uploads/2021/08/hamradio.jpg
END:VEVENT
BEGIN:VEVENT
DTSTART;TZID=America/Chicago:20211120T120000
DTEND;TZID=America/Chicago:20211120T140000
DTSTAMP:20260423T032314
CREATED:20210801T210716Z
LAST-MODIFIED:20210801T210716Z
UID:10006625-1637409600-1637416800@houstonherald.com
SUMMARY:Ozark Mountain Amateur Radio Club Meeting
DESCRIPTION:The Ozark Mountain Amateur Radio Club meets monthly at the Lone Star Annex at 114 W. Main St. in downtown Houston. The meeting is the third Saturday of each month\, and starts at noon. All are welcome\, with young people interested in ham radio especially encouraged to attend. Assistance in receiving FCC license is available. Contact Willy Adey at 417-260-4626 for more information.
URL:https://houstonherald.com/event/ozark-mountain-amateur-radio-club-meeting/2021-11-20/
LOCATION:Lone Star Annex\, 114 W. Main St.\, Houston\, MO\, 65483\, United States
ATTACH;FMTTYPE=image/jpeg:https://houstonherald.com/wp-content/uploads/2021/08/hamradio.jpg
END:VEVENT
BEGIN:VEVENT
DTSTART;TZID=America/Chicago:20211016T120000
DTEND;TZID=America/Chicago:20211016T140000
DTSTAMP:20260423T032314
CREATED:20210801T210716Z
LAST-MODIFIED:20210801T210716Z
UID:10006624-1634385600-1634392800@houstonherald.com
SUMMARY:Ozark Mountain Amateur Radio Club Meeting
DESCRIPTION:The Ozark Mountain Amateur Radio Club meets monthly at the Lone Star Annex at 114 W. Main St. in downtown Houston. The meeting is the third Saturday of each month\, and starts at noon. All are welcome\, with young people interested in ham radio especially encouraged to attend. Assistance in receiving FCC license is available. Contact Willy Adey at 417-260-4626 for more information.
URL:https://houstonherald.com/event/ozark-mountain-amateur-radio-club-meeting/2021-10-16/
LOCATION:Lone Star Annex\, 114 W. Main St.\, Houston\, MO\, 65483\, United States
ATTACH;FMTTYPE=image/jpeg:https://houstonherald.com/wp-content/uploads/2021/08/hamradio.jpg
END:VEVENT
BEGIN:VEVENT
DTSTART;TZID=America/Chicago:20210918T120000
DTEND;TZID=America/Chicago:20210918T140000
DTSTAMP:20260423T032314
CREATED:20210801T210716Z
LAST-MODIFIED:20210801T210716Z
UID:10006623-1631966400-1631973600@houstonherald.com
SUMMARY:Ozark Mountain Amateur Radio Club Meeting
DESCRIPTION:The Ozark Mountain Amateur Radio Club meets monthly at the Lone Star Annex at 114 W. Main St. in downtown Houston. The meeting is the third Saturday of each month\, and starts at noon. All are welcome\, with young people interested in ham radio especially encouraged to attend. Assistance in receiving FCC license is available. Contact Willy Adey at 417-260-4626 for more information.
URL:https://houstonherald.com/event/ozark-mountain-amateur-radio-club-meeting/2021-09-18/
LOCATION:Lone Star Annex\, 114 W. Main St.\, Houston\, MO\, 65483\, United States
ATTACH;FMTTYPE=image/jpeg:https://houstonherald.com/wp-content/uploads/2021/08/hamradio.jpg
END:VEVENT
BEGIN:VEVENT
DTSTART;TZID=America/Chicago:20210821T120000
DTEND;TZID=America/Chicago:20210821T140000
DTSTAMP:20260423T032314
CREATED:20210801T210716Z
LAST-MODIFIED:20210801T210716Z
UID:10006622-1629547200-1629554400@houstonherald.com
SUMMARY:Ozark Mountain Amateur Radio Club Meeting
DESCRIPTION:The Ozark Mountain Amateur Radio Club meets monthly at the Lone Star Annex at 114 W. Main St. in downtown Houston. The meeting is the third Saturday of each month\, and starts at noon. All are welcome\, with young people interested in ham radio especially encouraged to attend. Assistance in receiving FCC license is available. Contact Willy Adey at 417-260-4626 for more information.
URL:https://houstonherald.com/event/ozark-mountain-amateur-radio-club-meeting/2021-08-21/
LOCATION:Lone Star Annex\, 114 W. Main St.\, Houston\, MO\, 65483\, United States
ATTACH;FMTTYPE=image/jpeg:https://houstonherald.com/wp-content/uploads/2021/08/hamradio.jpg
END:VEVENT
END:VCALENDAR