BEGIN:VCALENDAR
VERSION:2.0
PRODID:-//Houston Herald - ECPv6.15.20//NONSGML v1.0//EN
CALSCALE:GREGORIAN
METHOD:PUBLISH
X-WR-CALNAME:Houston Herald
X-ORIGINAL-URL:https://houstonherald.com
X-WR-CALDESC:Events for Houston Herald
REFRESH-INTERVAL;VALUE=DURATION:PT1H
X-Robots-Tag:noindex
X-PUBLISHED-TTL:PT1H
BEGIN:VTIMEZONE
TZID:America/Chicago
BEGIN:DAYLIGHT
TZOFFSETFROM:-0600
TZOFFSETTO:-0500
TZNAME:CDT
DTSTART:20190310T080000
END:DAYLIGHT
BEGIN:STANDARD
TZOFFSETFROM:-0500
TZOFFSETTO:-0600
TZNAME:CST
DTSTART:20191103T070000
END:STANDARD
BEGIN:DAYLIGHT
TZOFFSETFROM:-0600
TZOFFSETTO:-0500
TZNAME:CDT
DTSTART:20200308T080000
END:DAYLIGHT
BEGIN:STANDARD
TZOFFSETFROM:-0500
TZOFFSETTO:-0600
TZNAME:CST
DTSTART:20201101T070000
END:STANDARD
BEGIN:DAYLIGHT
TZOFFSETFROM:-0600
TZOFFSETTO:-0500
TZNAME:CDT
DTSTART:20210314T080000
END:DAYLIGHT
BEGIN:STANDARD
TZOFFSETFROM:-0500
TZOFFSETTO:-0600
TZNAME:CST
DTSTART:20211107T070000
END:STANDARD
BEGIN:DAYLIGHT
TZOFFSETFROM:-0600
TZOFFSETTO:-0500
TZNAME:CDT
DTSTART:20220313T080000
END:DAYLIGHT
BEGIN:STANDARD
TZOFFSETFROM:-0500
TZOFFSETTO:-0600
TZNAME:CST
DTSTART:20221106T070000
END:STANDARD
END:VTIMEZONE
BEGIN:VEVENT
DTSTART;TZID=America/Chicago:20210401T180000
DTEND;TZID=America/Chicago:20210401T180000
DTSTAMP:20260423T151044
CREATED:20200713T190650Z
LAST-MODIFIED:20200713T190650Z
UID:10008661-1617300000-1617300000@houstonherald.com
SUMMARY:Lynch Township meeting
DESCRIPTION:Lynch Township meeting is 6:00pm at the township shed.
URL:https://houstonherald.com/event/lynch-township-meeting/2021-04-01/
LOCATION:Lynch Township\, 14472 Boiling Springs Rd\, Licking\, MO\, 65542
END:VEVENT
BEGIN:VEVENT
DTSTART;TZID=America/Chicago:20210304T180000
DTEND;TZID=America/Chicago:20210304T180000
DTSTAMP:20260423T151044
CREATED:20200713T190650Z
LAST-MODIFIED:20200713T190650Z
UID:10008660-1614880800-1614880800@houstonherald.com
SUMMARY:Lynch Township meeting
DESCRIPTION:Lynch Township meeting is 6:00pm at the township shed.
URL:https://houstonherald.com/event/lynch-township-meeting/2021-03-04/
LOCATION:Lynch Township\, 14472 Boiling Springs Rd\, Licking\, MO\, 65542
END:VEVENT
BEGIN:VEVENT
DTSTART;TZID=America/Chicago:20210204T180000
DTEND;TZID=America/Chicago:20210204T180000
DTSTAMP:20260423T151044
CREATED:20200713T190650Z
LAST-MODIFIED:20200713T190650Z
UID:10008659-1612461600-1612461600@houstonherald.com
SUMMARY:Lynch Township meeting
DESCRIPTION:Lynch Township meeting is 6:00pm at the township shed.
URL:https://houstonherald.com/event/lynch-township-meeting/2021-02-04/
LOCATION:Lynch Township\, 14472 Boiling Springs Rd\, Licking\, MO\, 65542
END:VEVENT
BEGIN:VEVENT
DTSTART;TZID=America/Chicago:20210107T180000
DTEND;TZID=America/Chicago:20210107T180000
DTSTAMP:20260423T151044
CREATED:20200713T190650Z
LAST-MODIFIED:20200713T190650Z
UID:10008658-1610042400-1610042400@houstonherald.com
SUMMARY:Lynch Township meeting
DESCRIPTION:Lynch Township meeting is 6:00pm at the township shed.
URL:https://houstonherald.com/event/lynch-township-meeting/2021-01-07/
LOCATION:Lynch Township\, 14472 Boiling Springs Rd\, Licking\, MO\, 65542
END:VEVENT
BEGIN:VEVENT
DTSTART;TZID=America/Chicago:20201203T180000
DTEND;TZID=America/Chicago:20201203T180000
DTSTAMP:20260423T151044
CREATED:20200713T190650Z
LAST-MODIFIED:20200713T190650Z
UID:10008657-1607018400-1607018400@houstonherald.com
SUMMARY:Lynch Township meeting
DESCRIPTION:Lynch Township meeting is 6:00pm at the township shed.
URL:https://houstonherald.com/event/lynch-township-meeting/2020-12-03/
LOCATION:Lynch Township\, 14472 Boiling Springs Rd\, Licking\, MO\, 65542
END:VEVENT
BEGIN:VEVENT
DTSTART;TZID=America/Chicago:20201105T180000
DTEND;TZID=America/Chicago:20201105T180000
DTSTAMP:20260423T151044
CREATED:20200713T190650Z
LAST-MODIFIED:20200713T190650Z
UID:10008656-1604599200-1604599200@houstonherald.com
SUMMARY:Lynch Township meeting
DESCRIPTION:Lynch Township meeting is 6:00pm at the township shed.
URL:https://houstonherald.com/event/lynch-township-meeting/2020-11-05/
LOCATION:Lynch Township\, 14472 Boiling Springs Rd\, Licking\, MO\, 65542
END:VEVENT
BEGIN:VEVENT
DTSTART;TZID=America/Chicago:20201001T180000
DTEND;TZID=America/Chicago:20201001T180000
DTSTAMP:20260423T151044
CREATED:20200713T190650Z
LAST-MODIFIED:20200713T190650Z
UID:10008655-1601575200-1601575200@houstonherald.com
SUMMARY:Lynch Township meeting
DESCRIPTION:Lynch Township meeting is 6:00pm at the township shed.
URL:https://houstonherald.com/event/lynch-township-meeting/2020-10-01/
LOCATION:Lynch Township\, 14472 Boiling Springs Rd\, Licking\, MO\, 65542
END:VEVENT
BEGIN:VEVENT
DTSTART;TZID=America/Chicago:20200903T180000
DTEND;TZID=America/Chicago:20200903T180000
DTSTAMP:20260423T151044
CREATED:20200713T190650Z
LAST-MODIFIED:20200713T190650Z
UID:10008654-1599156000-1599156000@houstonherald.com
SUMMARY:Lynch Township meeting
DESCRIPTION:Lynch Township meeting is 6:00pm at the township shed.
URL:https://houstonherald.com/event/lynch-township-meeting/2020-09-03/
LOCATION:Lynch Township\, 14472 Boiling Springs Rd\, Licking\, MO\, 65542
END:VEVENT
BEGIN:VEVENT
DTSTART;TZID=America/Chicago:20200806T180000
DTEND;TZID=America/Chicago:20200806T180000
DTSTAMP:20260423T151044
CREATED:20200713T190650Z
LAST-MODIFIED:20200713T190650Z
UID:10008653-1596736800-1596736800@houstonherald.com
SUMMARY:Lynch Township meeting
DESCRIPTION:Lynch Township meeting is 6:00pm at the township shed.
URL:https://houstonherald.com/event/lynch-township-meeting/2020-08-06/
LOCATION:Lynch Township\, 14472 Boiling Springs Rd\, Licking\, MO\, 65542
END:VEVENT
BEGIN:VEVENT
DTSTART;TZID=America/Chicago:20200702T180000
DTEND;TZID=America/Chicago:20200702T180000
DTSTAMP:20260423T151044
CREATED:20200713T190650Z
LAST-MODIFIED:20200713T190650Z
UID:10008652-1593712800-1593712800@houstonherald.com
SUMMARY:Lynch Township meeting
DESCRIPTION:Lynch Township meeting is 6:00pm at the township shed.
URL:https://houstonherald.com/event/lynch-township-meeting/2020-07-02/
LOCATION:Lynch Township\, 14472 Boiling Springs Rd\, Licking\, MO\, 65542
END:VEVENT
END:VCALENDAR