BEGIN:VCALENDAR
VERSION:2.0
PRODID:-//Houston Herald - ECPv6.15.20//NONSGML v1.0//EN
CALSCALE:GREGORIAN
METHOD:PUBLISH
X-WR-CALNAME:Houston Herald
X-ORIGINAL-URL:https://houstonherald.com
X-WR-CALDESC:Events for Houston Herald
REFRESH-INTERVAL;VALUE=DURATION:PT1H
X-Robots-Tag:noindex
X-PUBLISHED-TTL:PT1H
BEGIN:VTIMEZONE
TZID:America/Chicago
BEGIN:DAYLIGHT
TZOFFSETFROM:-0600
TZOFFSETTO:-0500
TZNAME:CDT
DTSTART:20280312T080000
END:DAYLIGHT
BEGIN:STANDARD
TZOFFSETFROM:-0500
TZOFFSETTO:-0600
TZNAME:CST
DTSTART:20281105T070000
END:STANDARD
BEGIN:DAYLIGHT
TZOFFSETFROM:-0600
TZOFFSETTO:-0500
TZNAME:CDT
DTSTART:20290311T080000
END:DAYLIGHT
BEGIN:STANDARD
TZOFFSETFROM:-0500
TZOFFSETTO:-0600
TZNAME:CST
DTSTART:20291104T070000
END:STANDARD
BEGIN:DAYLIGHT
TZOFFSETFROM:-0600
TZOFFSETTO:-0500
TZNAME:CDT
DTSTART:20300310T080000
END:DAYLIGHT
BEGIN:STANDARD
TZOFFSETFROM:-0500
TZOFFSETTO:-0600
TZNAME:CST
DTSTART:20301103T070000
END:STANDARD
END:VTIMEZONE
BEGIN:VEVENT
DTSTART;TZID=America/Chicago:20290505T083000
DTEND;TZID=America/Chicago:20290505T100000
DTSTAMP:20260423T101543
CREATED:20241210T150435Z
LAST-MODIFIED:20241210T150437Z
UID:10013149-1872664200-1872669600@houstonherald.com
SUMMARY:Texas Lodge #177 AF & AM of Houston meeting
DESCRIPTION:Texas Masonic Lodge #177\, 812 Dooley St\, Houston\, MO 65483\nRegular meetings are the 1st Saturday of the month at 9am. Breakfast is served at 830am.
URL:https://houstonherald.com/event/texas-lodge-177-af-am-of-houston-meeting-2/2029-05-05/
LOCATION:Masonic Lodge\, 812 Dooley Street\, Houston\, MO\, 65483
END:VEVENT
BEGIN:VEVENT
DTSTART;TZID=America/Chicago:20290602T083000
DTEND;TZID=America/Chicago:20290602T100000
DTSTAMP:20260423T101543
CREATED:20241210T150435Z
LAST-MODIFIED:20241210T150437Z
UID:10013150-1875083400-1875088800@houstonherald.com
SUMMARY:Texas Lodge #177 AF & AM of Houston meeting
DESCRIPTION:Texas Masonic Lodge #177\, 812 Dooley St\, Houston\, MO 65483\nRegular meetings are the 1st Saturday of the month at 9am. Breakfast is served at 830am.
URL:https://houstonherald.com/event/texas-lodge-177-af-am-of-houston-meeting-2/2029-06-02/
LOCATION:Masonic Lodge\, 812 Dooley Street\, Houston\, MO\, 65483
END:VEVENT
BEGIN:VEVENT
DTSTART;TZID=America/Chicago:20290707T083000
DTEND;TZID=America/Chicago:20290707T100000
DTSTAMP:20260423T101543
CREATED:20241210T150435Z
LAST-MODIFIED:20241210T150437Z
UID:10013151-1878107400-1878112800@houstonherald.com
SUMMARY:Texas Lodge #177 AF & AM of Houston meeting
DESCRIPTION:Texas Masonic Lodge #177\, 812 Dooley St\, Houston\, MO 65483\nRegular meetings are the 1st Saturday of the month at 9am. Breakfast is served at 830am.
URL:https://houstonherald.com/event/texas-lodge-177-af-am-of-houston-meeting-2/2029-07-07/
LOCATION:Masonic Lodge\, 812 Dooley Street\, Houston\, MO\, 65483
END:VEVENT
BEGIN:VEVENT
DTSTART;TZID=America/Chicago:20290804T083000
DTEND;TZID=America/Chicago:20290804T100000
DTSTAMP:20260423T101543
CREATED:20241210T150435Z
LAST-MODIFIED:20241210T150437Z
UID:10013152-1880526600-1880532000@houstonherald.com
SUMMARY:Texas Lodge #177 AF & AM of Houston meeting
DESCRIPTION:Texas Masonic Lodge #177\, 812 Dooley St\, Houston\, MO 65483\nRegular meetings are the 1st Saturday of the month at 9am. Breakfast is served at 830am.
URL:https://houstonherald.com/event/texas-lodge-177-af-am-of-houston-meeting-2/2029-08-04/
LOCATION:Masonic Lodge\, 812 Dooley Street\, Houston\, MO\, 65483
END:VEVENT
BEGIN:VEVENT
DTSTART;TZID=America/Chicago:20290901T083000
DTEND;TZID=America/Chicago:20290901T100000
DTSTAMP:20260423T101543
CREATED:20241210T150435Z
LAST-MODIFIED:20241210T150437Z
UID:10013153-1882945800-1882951200@houstonherald.com
SUMMARY:Texas Lodge #177 AF & AM of Houston meeting
DESCRIPTION:Texas Masonic Lodge #177\, 812 Dooley St\, Houston\, MO 65483\nRegular meetings are the 1st Saturday of the month at 9am. Breakfast is served at 830am.
URL:https://houstonherald.com/event/texas-lodge-177-af-am-of-houston-meeting-2/2029-09-01/
LOCATION:Masonic Lodge\, 812 Dooley Street\, Houston\, MO\, 65483
END:VEVENT
BEGIN:VEVENT
DTSTART;TZID=America/Chicago:20291006T083000
DTEND;TZID=America/Chicago:20291006T100000
DTSTAMP:20260423T101543
CREATED:20241210T150435Z
LAST-MODIFIED:20241210T150437Z
UID:10013154-1885969800-1885975200@houstonherald.com
SUMMARY:Texas Lodge #177 AF & AM of Houston meeting
DESCRIPTION:Texas Masonic Lodge #177\, 812 Dooley St\, Houston\, MO 65483\nRegular meetings are the 1st Saturday of the month at 9am. Breakfast is served at 830am.
URL:https://houstonherald.com/event/texas-lodge-177-af-am-of-houston-meeting-2/2029-10-06/
LOCATION:Masonic Lodge\, 812 Dooley Street\, Houston\, MO\, 65483
END:VEVENT
BEGIN:VEVENT
DTSTART;TZID=America/Chicago:20291103T083000
DTEND;TZID=America/Chicago:20291103T100000
DTSTAMP:20260423T101543
CREATED:20241210T150435Z
LAST-MODIFIED:20241210T150437Z
UID:10013155-1888389000-1888394400@houstonherald.com
SUMMARY:Texas Lodge #177 AF & AM of Houston meeting
DESCRIPTION:Texas Masonic Lodge #177\, 812 Dooley St\, Houston\, MO 65483\nRegular meetings are the 1st Saturday of the month at 9am. Breakfast is served at 830am.
URL:https://houstonherald.com/event/texas-lodge-177-af-am-of-houston-meeting-2/2029-11-03/
LOCATION:Masonic Lodge\, 812 Dooley Street\, Houston\, MO\, 65483
END:VEVENT
BEGIN:VEVENT
DTSTART;TZID=America/Chicago:20291201T083000
DTEND;TZID=America/Chicago:20291201T100000
DTSTAMP:20260423T101543
CREATED:20241210T150435Z
LAST-MODIFIED:20241210T150437Z
UID:10013156-1890808200-1890813600@houstonherald.com
SUMMARY:Texas Lodge #177 AF & AM of Houston meeting
DESCRIPTION:Texas Masonic Lodge #177\, 812 Dooley St\, Houston\, MO 65483\nRegular meetings are the 1st Saturday of the month at 9am. Breakfast is served at 830am.
URL:https://houstonherald.com/event/texas-lodge-177-af-am-of-houston-meeting-2/2029-12-01/
LOCATION:Masonic Lodge\, 812 Dooley Street\, Houston\, MO\, 65483
END:VEVENT
END:VCALENDAR