BEGIN:VCALENDAR
VERSION:2.0
PRODID:-//Houston Herald - ECPv6.15.20//NONSGML v1.0//EN
CALSCALE:GREGORIAN
METHOD:PUBLISH
X-ORIGINAL-URL:https://houstonherald.com
X-WR-CALDESC:Events for Houston Herald
REFRESH-INTERVAL;VALUE=DURATION:PT1H
X-Robots-Tag:noindex
X-PUBLISHED-TTL:PT1H
BEGIN:VTIMEZONE
TZID:America/Chicago
BEGIN:DAYLIGHT
TZOFFSETFROM:-0600
TZOFFSETTO:-0500
TZNAME:CDT
DTSTART:20240310T080000
END:DAYLIGHT
BEGIN:STANDARD
TZOFFSETFROM:-0500
TZOFFSETTO:-0600
TZNAME:CST
DTSTART:20241103T070000
END:STANDARD
BEGIN:DAYLIGHT
TZOFFSETFROM:-0600
TZOFFSETTO:-0500
TZNAME:CDT
DTSTART:20250309T080000
END:DAYLIGHT
BEGIN:STANDARD
TZOFFSETFROM:-0500
TZOFFSETTO:-0600
TZNAME:CST
DTSTART:20251102T070000
END:STANDARD
BEGIN:DAYLIGHT
TZOFFSETFROM:-0600
TZOFFSETTO:-0500
TZNAME:CDT
DTSTART:20260308T080000
END:DAYLIGHT
BEGIN:STANDARD
TZOFFSETFROM:-0500
TZOFFSETTO:-0600
TZNAME:CST
DTSTART:20261101T070000
END:STANDARD
END:VTIMEZONE
BEGIN:VEVENT
DTSTART;TZID=America/Chicago:20250705T073000
DTEND;TZID=America/Chicago:20250705T120000
DTSTAMP:20260423T045021
CREATED:20250702T153142Z
LAST-MODIFIED:20250702T153142Z
UID:10013271-1751700600-1751716800@houstonherald.com
SUMMARY:Route 63 Car & Bike Show
DESCRIPTION:Old city park\, Licking. Lots of parking and shade!\nEntry Fee: $25 – T-shirt and dash plaque for first 100 entries.\nVehicles Judged as “Top 100”\nSpecialty Trophies: Best of Show & Mayor’s Choice\nVehicle Registration: by 11 a.m. • Vehicle Judging: 9 a.m.\nBike Registration Begins: 8 a.m. • Bike Judging: 10:30 a.m.\nDoor Prizes • 50/50 Drawing • Music • Food and Drinks
URL:https://houstonherald.com/event/route-63-car-bike-show/
LOCATION:Old City Park\, Maple Avenue\, Licking\, MO\, United States
END:VEVENT
END:VCALENDAR