BEGIN:VCALENDAR
VERSION:2.0
PRODID:-//Houston Herald - ECPv6.15.20//NONSGML v1.0//EN
CALSCALE:GREGORIAN
METHOD:PUBLISH
X-WR-CALNAME:Houston Herald
X-ORIGINAL-URL:https://houstonherald.com
X-WR-CALDESC:Events for Houston Herald
REFRESH-INTERVAL;VALUE=DURATION:PT1H
X-Robots-Tag:noindex
X-PUBLISHED-TTL:PT1H
BEGIN:VTIMEZONE
TZID:America/Chicago
BEGIN:DAYLIGHT
TZOFFSETFROM:-0600
TZOFFSETTO:-0500
TZNAME:CDT
DTSTART:20210314T080000
END:DAYLIGHT
BEGIN:STANDARD
TZOFFSETFROM:-0500
TZOFFSETTO:-0600
TZNAME:CST
DTSTART:20211107T070000
END:STANDARD
BEGIN:DAYLIGHT
TZOFFSETFROM:-0600
TZOFFSETTO:-0500
TZNAME:CDT
DTSTART:20220313T080000
END:DAYLIGHT
BEGIN:STANDARD
TZOFFSETFROM:-0500
TZOFFSETTO:-0600
TZNAME:CST
DTSTART:20221106T070000
END:STANDARD
BEGIN:DAYLIGHT
TZOFFSETFROM:-0600
TZOFFSETTO:-0500
TZNAME:CDT
DTSTART:20230312T080000
END:DAYLIGHT
BEGIN:STANDARD
TZOFFSETFROM:-0500
TZOFFSETTO:-0600
TZNAME:CST
DTSTART:20231105T070000
END:STANDARD
BEGIN:DAYLIGHT
TZOFFSETFROM:-0600
TZOFFSETTO:-0500
TZNAME:CDT
DTSTART:20240310T080000
END:DAYLIGHT
BEGIN:STANDARD
TZOFFSETFROM:-0500
TZOFFSETTO:-0600
TZNAME:CST
DTSTART:20241103T070000
END:STANDARD
BEGIN:DAYLIGHT
TZOFFSETFROM:-0600
TZOFFSETTO:-0500
TZNAME:CDT
DTSTART:20250309T080000
END:DAYLIGHT
BEGIN:STANDARD
TZOFFSETFROM:-0500
TZOFFSETTO:-0600
TZNAME:CST
DTSTART:20251102T070000
END:STANDARD
BEGIN:DAYLIGHT
TZOFFSETFROM:-0600
TZOFFSETTO:-0500
TZNAME:CDT
DTSTART:20260308T080000
END:DAYLIGHT
BEGIN:STANDARD
TZOFFSETFROM:-0500
TZOFFSETTO:-0600
TZNAME:CST
DTSTART:20261101T070000
END:STANDARD
END:VTIMEZONE
BEGIN:VEVENT
DTSTART;TZID=America/Chicago:20250402T173000
DTEND;TZID=America/Chicago:20250402T173000
DTSTAMP:20260421T103017
CREATED:20200713T185017Z
LAST-MODIFIED:20200713T185131Z
UID:10008436-1743615000-1743615000@houstonherald.com
SUMMARY:Piney Township meeting
DESCRIPTION:Piney Township meeting at 5:30pm at the township maintenance building.
URL:https://houstonherald.com/event/piney-township-meeting/2025-04-02/
LOCATION:Piney Township\, 16627 Forrest Dr.\, Houston\, MO\, 65483
END:VEVENT
BEGIN:VEVENT
DTSTART;TZID=America/Chicago:20250305T173000
DTEND;TZID=America/Chicago:20250305T173000
DTSTAMP:20260421T103017
CREATED:20200713T185017Z
LAST-MODIFIED:20200713T185131Z
UID:10008435-1741195800-1741195800@houstonherald.com
SUMMARY:Piney Township meeting
DESCRIPTION:Piney Township meeting at 5:30pm at the township maintenance building.
URL:https://houstonherald.com/event/piney-township-meeting/2025-03-05/
LOCATION:Piney Township\, 16627 Forrest Dr.\, Houston\, MO\, 65483
END:VEVENT
BEGIN:VEVENT
DTSTART;TZID=America/Chicago:20250205T173000
DTEND;TZID=America/Chicago:20250205T173000
DTSTAMP:20260421T103017
CREATED:20200713T185017Z
LAST-MODIFIED:20200713T185131Z
UID:10008434-1738776600-1738776600@houstonherald.com
SUMMARY:Piney Township meeting
DESCRIPTION:Piney Township meeting at 5:30pm at the township maintenance building.
URL:https://houstonherald.com/event/piney-township-meeting/2025-02-05/
LOCATION:Piney Township\, 16627 Forrest Dr.\, Houston\, MO\, 65483
END:VEVENT
BEGIN:VEVENT
DTSTART;TZID=America/Chicago:20250101T173000
DTEND;TZID=America/Chicago:20250101T173000
DTSTAMP:20260421T103017
CREATED:20200713T185017Z
LAST-MODIFIED:20200713T185131Z
UID:10008433-1735752600-1735752600@houstonherald.com
SUMMARY:Piney Township meeting
DESCRIPTION:Piney Township meeting at 5:30pm at the township maintenance building.
URL:https://houstonherald.com/event/piney-township-meeting/2025-01-01/
LOCATION:Piney Township\, 16627 Forrest Dr.\, Houston\, MO\, 65483
END:VEVENT
BEGIN:VEVENT
DTSTART;TZID=America/Chicago:20241204T173000
DTEND;TZID=America/Chicago:20241204T173000
DTSTAMP:20260421T103017
CREATED:20200713T185017Z
LAST-MODIFIED:20200713T185131Z
UID:10008432-1733333400-1733333400@houstonherald.com
SUMMARY:Piney Township meeting
DESCRIPTION:Piney Township meeting at 5:30pm at the township maintenance building.
URL:https://houstonherald.com/event/piney-township-meeting/2024-12-04/
LOCATION:Piney Township\, 16627 Forrest Dr.\, Houston\, MO\, 65483
END:VEVENT
BEGIN:VEVENT
DTSTART;TZID=America/Chicago:20241106T173000
DTEND;TZID=America/Chicago:20241106T173000
DTSTAMP:20260421T103017
CREATED:20200713T185017Z
LAST-MODIFIED:20200713T185131Z
UID:10008431-1730914200-1730914200@houstonherald.com
SUMMARY:Piney Township meeting
DESCRIPTION:Piney Township meeting at 5:30pm at the township maintenance building.
URL:https://houstonherald.com/event/piney-township-meeting/2024-11-06/
LOCATION:Piney Township\, 16627 Forrest Dr.\, Houston\, MO\, 65483
END:VEVENT
BEGIN:VEVENT
DTSTART;TZID=America/Chicago:20241002T173000
DTEND;TZID=America/Chicago:20241002T173000
DTSTAMP:20260421T103017
CREATED:20200713T185017Z
LAST-MODIFIED:20200713T185131Z
UID:10008430-1727890200-1727890200@houstonherald.com
SUMMARY:Piney Township meeting
DESCRIPTION:Piney Township meeting at 5:30pm at the township maintenance building.
URL:https://houstonherald.com/event/piney-township-meeting/2024-10-02/
LOCATION:Piney Township\, 16627 Forrest Dr.\, Houston\, MO\, 65483
END:VEVENT
BEGIN:VEVENT
DTSTART;TZID=America/Chicago:20240904T173000
DTEND;TZID=America/Chicago:20240904T173000
DTSTAMP:20260421T103017
CREATED:20200713T185017Z
LAST-MODIFIED:20200713T185131Z
UID:10008429-1725471000-1725471000@houstonherald.com
SUMMARY:Piney Township meeting
DESCRIPTION:Piney Township meeting at 5:30pm at the township maintenance building.
URL:https://houstonherald.com/event/piney-township-meeting/2024-09-04/
LOCATION:Piney Township\, 16627 Forrest Dr.\, Houston\, MO\, 65483
END:VEVENT
BEGIN:VEVENT
DTSTART;TZID=America/Chicago:20240807T173000
DTEND;TZID=America/Chicago:20240807T173000
DTSTAMP:20260421T103017
CREATED:20200713T185017Z
LAST-MODIFIED:20200713T185131Z
UID:10008428-1723051800-1723051800@houstonherald.com
SUMMARY:Piney Township meeting
DESCRIPTION:Piney Township meeting at 5:30pm at the township maintenance building.
URL:https://houstonherald.com/event/piney-township-meeting/2024-08-07/
LOCATION:Piney Township\, 16627 Forrest Dr.\, Houston\, MO\, 65483
END:VEVENT
BEGIN:VEVENT
DTSTART;TZID=America/Chicago:20240703T173000
DTEND;TZID=America/Chicago:20240703T173000
DTSTAMP:20260421T103017
CREATED:20200713T185017Z
LAST-MODIFIED:20200713T185131Z
UID:10008427-1720027800-1720027800@houstonherald.com
SUMMARY:Piney Township meeting
DESCRIPTION:Piney Township meeting at 5:30pm at the township maintenance building.
URL:https://houstonherald.com/event/piney-township-meeting/2024-07-03/
LOCATION:Piney Township\, 16627 Forrest Dr.\, Houston\, MO\, 65483
END:VEVENT
BEGIN:VEVENT
DTSTART;TZID=America/Chicago:20240605T173000
DTEND;TZID=America/Chicago:20240605T173000
DTSTAMP:20260421T103017
CREATED:20200713T185017Z
LAST-MODIFIED:20200713T185131Z
UID:10008426-1717608600-1717608600@houstonherald.com
SUMMARY:Piney Township meeting
DESCRIPTION:Piney Township meeting at 5:30pm at the township maintenance building.
URL:https://houstonherald.com/event/piney-township-meeting/2024-06-05/
LOCATION:Piney Township\, 16627 Forrest Dr.\, Houston\, MO\, 65483
END:VEVENT
BEGIN:VEVENT
DTSTART;TZID=America/Chicago:20240501T173000
DTEND;TZID=America/Chicago:20240501T173000
DTSTAMP:20260421T103017
CREATED:20200713T185017Z
LAST-MODIFIED:20200713T185131Z
UID:10008425-1714584600-1714584600@houstonherald.com
SUMMARY:Piney Township meeting
DESCRIPTION:Piney Township meeting at 5:30pm at the township maintenance building.
URL:https://houstonherald.com/event/piney-township-meeting/2024-05-01/
LOCATION:Piney Township\, 16627 Forrest Dr.\, Houston\, MO\, 65483
END:VEVENT
BEGIN:VEVENT
DTSTART;TZID=America/Chicago:20240403T173000
DTEND;TZID=America/Chicago:20240403T173000
DTSTAMP:20260421T103017
CREATED:20200713T185017Z
LAST-MODIFIED:20200713T185131Z
UID:10008424-1712165400-1712165400@houstonherald.com
SUMMARY:Piney Township meeting
DESCRIPTION:Piney Township meeting at 5:30pm at the township maintenance building.
URL:https://houstonherald.com/event/piney-township-meeting/2024-04-03/
LOCATION:Piney Township\, 16627 Forrest Dr.\, Houston\, MO\, 65483
END:VEVENT
BEGIN:VEVENT
DTSTART;TZID=America/Chicago:20240306T173000
DTEND;TZID=America/Chicago:20240306T173000
DTSTAMP:20260421T103017
CREATED:20200713T185017Z
LAST-MODIFIED:20200713T185131Z
UID:10008423-1709746200-1709746200@houstonherald.com
SUMMARY:Piney Township meeting
DESCRIPTION:Piney Township meeting at 5:30pm at the township maintenance building.
URL:https://houstonherald.com/event/piney-township-meeting/2024-03-06/
LOCATION:Piney Township\, 16627 Forrest Dr.\, Houston\, MO\, 65483
END:VEVENT
BEGIN:VEVENT
DTSTART;TZID=America/Chicago:20240207T173000
DTEND;TZID=America/Chicago:20240207T173000
DTSTAMP:20260421T103017
CREATED:20200713T185017Z
LAST-MODIFIED:20200713T185131Z
UID:10008422-1707327000-1707327000@houstonherald.com
SUMMARY:Piney Township meeting
DESCRIPTION:Piney Township meeting at 5:30pm at the township maintenance building.
URL:https://houstonherald.com/event/piney-township-meeting/2024-02-07/
LOCATION:Piney Township\, 16627 Forrest Dr.\, Houston\, MO\, 65483
END:VEVENT
BEGIN:VEVENT
DTSTART;TZID=America/Chicago:20240103T173000
DTEND;TZID=America/Chicago:20240103T173000
DTSTAMP:20260421T103017
CREATED:20200713T185017Z
LAST-MODIFIED:20200713T185131Z
UID:10008421-1704303000-1704303000@houstonherald.com
SUMMARY:Piney Township meeting
DESCRIPTION:Piney Township meeting at 5:30pm at the township maintenance building.
URL:https://houstonherald.com/event/piney-township-meeting/2024-01-03/
LOCATION:Piney Township\, 16627 Forrest Dr.\, Houston\, MO\, 65483
END:VEVENT
BEGIN:VEVENT
DTSTART;TZID=America/Chicago:20231206T173000
DTEND;TZID=America/Chicago:20231206T173000
DTSTAMP:20260421T103017
CREATED:20200713T185017Z
LAST-MODIFIED:20200713T185131Z
UID:10008420-1701883800-1701883800@houstonherald.com
SUMMARY:Piney Township meeting
DESCRIPTION:Piney Township meeting at 5:30pm at the township maintenance building.
URL:https://houstonherald.com/event/piney-township-meeting/2023-12-06/
LOCATION:Piney Township\, 16627 Forrest Dr.\, Houston\, MO\, 65483
END:VEVENT
BEGIN:VEVENT
DTSTART;TZID=America/Chicago:20231101T173000
DTEND;TZID=America/Chicago:20231101T173000
DTSTAMP:20260421T103017
CREATED:20200713T185017Z
LAST-MODIFIED:20200713T185131Z
UID:10008419-1698859800-1698859800@houstonherald.com
SUMMARY:Piney Township meeting
DESCRIPTION:Piney Township meeting at 5:30pm at the township maintenance building.
URL:https://houstonherald.com/event/piney-township-meeting/2023-11-01/
LOCATION:Piney Township\, 16627 Forrest Dr.\, Houston\, MO\, 65483
END:VEVENT
BEGIN:VEVENT
DTSTART;TZID=America/Chicago:20231004T173000
DTEND;TZID=America/Chicago:20231004T173000
DTSTAMP:20260421T103017
CREATED:20200713T185017Z
LAST-MODIFIED:20200713T185131Z
UID:10008418-1696440600-1696440600@houstonherald.com
SUMMARY:Piney Township meeting
DESCRIPTION:Piney Township meeting at 5:30pm at the township maintenance building.
URL:https://houstonherald.com/event/piney-township-meeting/2023-10-04/
LOCATION:Piney Township\, 16627 Forrest Dr.\, Houston\, MO\, 65483
END:VEVENT
BEGIN:VEVENT
DTSTART;TZID=America/Chicago:20230906T173000
DTEND;TZID=America/Chicago:20230906T173000
DTSTAMP:20260421T103017
CREATED:20200713T185017Z
LAST-MODIFIED:20200713T185131Z
UID:10008417-1694021400-1694021400@houstonherald.com
SUMMARY:Piney Township meeting
DESCRIPTION:Piney Township meeting at 5:30pm at the township maintenance building.
URL:https://houstonherald.com/event/piney-township-meeting/2023-09-06/
LOCATION:Piney Township\, 16627 Forrest Dr.\, Houston\, MO\, 65483
END:VEVENT
BEGIN:VEVENT
DTSTART;TZID=America/Chicago:20230802T173000
DTEND;TZID=America/Chicago:20230802T173000
DTSTAMP:20260421T103017
CREATED:20200713T185017Z
LAST-MODIFIED:20200713T185131Z
UID:10008416-1690997400-1690997400@houstonherald.com
SUMMARY:Piney Township meeting
DESCRIPTION:Piney Township meeting at 5:30pm at the township maintenance building.
URL:https://houstonherald.com/event/piney-township-meeting/2023-08-02/
LOCATION:Piney Township\, 16627 Forrest Dr.\, Houston\, MO\, 65483
END:VEVENT
BEGIN:VEVENT
DTSTART;TZID=America/Chicago:20230705T173000
DTEND;TZID=America/Chicago:20230705T173000
DTSTAMP:20260421T103017
CREATED:20200713T185017Z
LAST-MODIFIED:20200713T185131Z
UID:10008415-1688578200-1688578200@houstonherald.com
SUMMARY:Piney Township meeting
DESCRIPTION:Piney Township meeting at 5:30pm at the township maintenance building.
URL:https://houstonherald.com/event/piney-township-meeting/2023-07-05/
LOCATION:Piney Township\, 16627 Forrest Dr.\, Houston\, MO\, 65483
END:VEVENT
BEGIN:VEVENT
DTSTART;TZID=America/Chicago:20230607T173000
DTEND;TZID=America/Chicago:20230607T173000
DTSTAMP:20260421T103017
CREATED:20200713T185017Z
LAST-MODIFIED:20200713T185131Z
UID:10008414-1686159000-1686159000@houstonherald.com
SUMMARY:Piney Township meeting
DESCRIPTION:Piney Township meeting at 5:30pm at the township maintenance building.
URL:https://houstonherald.com/event/piney-township-meeting/2023-06-07/
LOCATION:Piney Township\, 16627 Forrest Dr.\, Houston\, MO\, 65483
END:VEVENT
BEGIN:VEVENT
DTSTART;TZID=America/Chicago:20230503T173000
DTEND;TZID=America/Chicago:20230503T173000
DTSTAMP:20260421T103017
CREATED:20200713T185017Z
LAST-MODIFIED:20200713T185131Z
UID:10008413-1683135000-1683135000@houstonherald.com
SUMMARY:Piney Township meeting
DESCRIPTION:Piney Township meeting at 5:30pm at the township maintenance building.
URL:https://houstonherald.com/event/piney-township-meeting/2023-05-03/
LOCATION:Piney Township\, 16627 Forrest Dr.\, Houston\, MO\, 65483
END:VEVENT
BEGIN:VEVENT
DTSTART;TZID=America/Chicago:20230405T173000
DTEND;TZID=America/Chicago:20230405T173000
DTSTAMP:20260421T103017
CREATED:20200713T185017Z
LAST-MODIFIED:20200713T185131Z
UID:10008412-1680715800-1680715800@houstonherald.com
SUMMARY:Piney Township meeting
DESCRIPTION:Piney Township meeting at 5:30pm at the township maintenance building.
URL:https://houstonherald.com/event/piney-township-meeting/2023-04-05/
LOCATION:Piney Township\, 16627 Forrest Dr.\, Houston\, MO\, 65483
END:VEVENT
BEGIN:VEVENT
DTSTART;TZID=America/Chicago:20230301T173000
DTEND;TZID=America/Chicago:20230301T173000
DTSTAMP:20260421T103017
CREATED:20200713T185017Z
LAST-MODIFIED:20200713T185131Z
UID:10008411-1677691800-1677691800@houstonherald.com
SUMMARY:Piney Township meeting
DESCRIPTION:Piney Township meeting at 5:30pm at the township maintenance building.
URL:https://houstonherald.com/event/piney-township-meeting/2023-03-01/
LOCATION:Piney Township\, 16627 Forrest Dr.\, Houston\, MO\, 65483
END:VEVENT
BEGIN:VEVENT
DTSTART;TZID=America/Chicago:20230201T173000
DTEND;TZID=America/Chicago:20230201T173000
DTSTAMP:20260421T103017
CREATED:20200713T185017Z
LAST-MODIFIED:20200713T185131Z
UID:10008410-1675272600-1675272600@houstonherald.com
SUMMARY:Piney Township meeting
DESCRIPTION:Piney Township meeting at 5:30pm at the township maintenance building.
URL:https://houstonherald.com/event/piney-township-meeting/2023-02-01/
LOCATION:Piney Township\, 16627 Forrest Dr.\, Houston\, MO\, 65483
END:VEVENT
BEGIN:VEVENT
DTSTART;TZID=America/Chicago:20230104T173000
DTEND;TZID=America/Chicago:20230104T173000
DTSTAMP:20260421T103017
CREATED:20200713T185017Z
LAST-MODIFIED:20200713T185131Z
UID:10008409-1672853400-1672853400@houstonherald.com
SUMMARY:Piney Township meeting
DESCRIPTION:Piney Township meeting at 5:30pm at the township maintenance building.
URL:https://houstonherald.com/event/piney-township-meeting/2023-01-04/
LOCATION:Piney Township\, 16627 Forrest Dr.\, Houston\, MO\, 65483
END:VEVENT
BEGIN:VEVENT
DTSTART;TZID=America/Chicago:20221207T173000
DTEND;TZID=America/Chicago:20221207T173000
DTSTAMP:20260421T103017
CREATED:20200713T185017Z
LAST-MODIFIED:20200713T185131Z
UID:10008408-1670434200-1670434200@houstonherald.com
SUMMARY:Piney Township meeting
DESCRIPTION:Piney Township meeting at 5:30pm at the township maintenance building.
URL:https://houstonherald.com/event/piney-township-meeting/2022-12-07/
LOCATION:Piney Township\, 16627 Forrest Dr.\, Houston\, MO\, 65483
END:VEVENT
BEGIN:VEVENT
DTSTART;TZID=America/Chicago:20221102T173000
DTEND;TZID=America/Chicago:20221102T173000
DTSTAMP:20260421T103017
CREATED:20200713T185017Z
LAST-MODIFIED:20200713T185131Z
UID:10008407-1667410200-1667410200@houstonherald.com
SUMMARY:Piney Township meeting
DESCRIPTION:Piney Township meeting at 5:30pm at the township maintenance building.
URL:https://houstonherald.com/event/piney-township-meeting/2022-11-02/
LOCATION:Piney Township\, 16627 Forrest Dr.\, Houston\, MO\, 65483
END:VEVENT
END:VCALENDAR