BEGIN:VCALENDAR
VERSION:2.0
PRODID:-//Houston Herald - ECPv6.15.20//NONSGML v1.0//EN
CALSCALE:GREGORIAN
METHOD:PUBLISH
X-ORIGINAL-URL:https://houstonherald.com
X-WR-CALDESC:Events for Houston Herald
REFRESH-INTERVAL;VALUE=DURATION:PT1H
X-Robots-Tag:noindex
X-PUBLISHED-TTL:PT1H
BEGIN:VTIMEZONE
TZID:America/Chicago
BEGIN:DAYLIGHT
TZOFFSETFROM:-0600
TZOFFSETTO:-0500
TZNAME:CDT
DTSTART:20240310T080000
END:DAYLIGHT
BEGIN:STANDARD
TZOFFSETFROM:-0500
TZOFFSETTO:-0600
TZNAME:CST
DTSTART:20241103T070000
END:STANDARD
BEGIN:DAYLIGHT
TZOFFSETFROM:-0600
TZOFFSETTO:-0500
TZNAME:CDT
DTSTART:20250309T080000
END:DAYLIGHT
BEGIN:STANDARD
TZOFFSETFROM:-0500
TZOFFSETTO:-0600
TZNAME:CST
DTSTART:20251102T070000
END:STANDARD
BEGIN:DAYLIGHT
TZOFFSETFROM:-0600
TZOFFSETTO:-0500
TZNAME:CDT
DTSTART:20260308T080000
END:DAYLIGHT
BEGIN:STANDARD
TZOFFSETFROM:-0500
TZOFFSETTO:-0600
TZNAME:CST
DTSTART:20261101T070000
END:STANDARD
BEGIN:DAYLIGHT
TZOFFSETFROM:-0600
TZOFFSETTO:-0500
TZNAME:CDT
DTSTART:20270314T080000
END:DAYLIGHT
BEGIN:STANDARD
TZOFFSETFROM:-0500
TZOFFSETTO:-0600
TZNAME:CST
DTSTART:20271107T070000
END:STANDARD
END:VTIMEZONE
BEGIN:VEVENT
DTSTART;TZID=America/Chicago:20260413T183000
DTEND;TZID=America/Chicago:20260413T183000
DTSTAMP:20260420T110748
CREATED:20200709T193900Z
LAST-MODIFIED:20200721T135150Z
UID:10007689-1776105000-1776105000@houstonherald.com
SUMMARY:Roby Fire Department board meeting
DESCRIPTION:Roby Fire Department board meeting at 6:30pm at the Roby station.
URL:https://houstonherald.com/event/roby-fire-department-board-meeting/2026-04-13/
LOCATION:Roby Fire Dept\, 12248 MO-32\, Roby\, MO\, 65557
END:VEVENT
BEGIN:VEVENT
DTSTART;TZID=America/Chicago:20260411T180000
DTEND;TZID=America/Chicago:20260411T180000
DTSTAMP:20260420T110748
CREATED:20200709T185315Z
LAST-MODIFIED:20200721T135406Z
UID:10007178-1775930400-1775930400@houstonherald.com
SUMMARY:Roby Fire Department Firefighters meeting & training
DESCRIPTION:Roby Fire Department firefighters meeting and training is at 6:oopm at the Roby station.
URL:https://houstonherald.com/event/roby-fire-department-meeting/2026-04-11/
LOCATION:Roby Fire Dept\, 12248 MO-32\, Roby\, MO\, 65557
END:VEVENT
BEGIN:VEVENT
DTSTART;TZID=America/Chicago:20260404T180000
DTEND;TZID=America/Chicago:20260404T200000
DTSTAMP:20260420T110748
CREATED:20200713T200202Z
LAST-MODIFIED:20200721T135119Z
UID:10009378-1775325600-1775332800@houstonherald.com
SUMMARY:First Responders meeting and training
DESCRIPTION:First Responders meeting and training is 6-8:00pm at the Roby Fire Station.
URL:https://houstonherald.com/event/first-responders-meeting-and-training/2026-04-04/
LOCATION:Roby Fire Dept\, 12248 MO-32\, Roby\, MO\, 65557
END:VEVENT
BEGIN:VEVENT
DTSTART;TZID=America/Chicago:20260314T180000
DTEND;TZID=America/Chicago:20260314T180000
DTSTAMP:20260420T110748
CREATED:20200709T185315Z
LAST-MODIFIED:20200721T135406Z
UID:10007177-1773511200-1773511200@houstonherald.com
SUMMARY:Roby Fire Department Firefighters meeting & training
DESCRIPTION:Roby Fire Department firefighters meeting and training is at 6:oopm at the Roby station.
URL:https://houstonherald.com/event/roby-fire-department-meeting/2026-03-14/
LOCATION:Roby Fire Dept\, 12248 MO-32\, Roby\, MO\, 65557
END:VEVENT
BEGIN:VEVENT
DTSTART;TZID=America/Chicago:20260309T183000
DTEND;TZID=America/Chicago:20260309T183000
DTSTAMP:20260420T110748
CREATED:20200709T193900Z
LAST-MODIFIED:20200721T135150Z
UID:10007688-1773081000-1773081000@houstonherald.com
SUMMARY:Roby Fire Department board meeting
DESCRIPTION:Roby Fire Department board meeting at 6:30pm at the Roby station.
URL:https://houstonherald.com/event/roby-fire-department-board-meeting/2026-03-09/
LOCATION:Roby Fire Dept\, 12248 MO-32\, Roby\, MO\, 65557
END:VEVENT
BEGIN:VEVENT
DTSTART;TZID=America/Chicago:20260307T180000
DTEND;TZID=America/Chicago:20260307T200000
DTSTAMP:20260420T110748
CREATED:20200713T200202Z
LAST-MODIFIED:20200721T135119Z
UID:10009377-1772906400-1772913600@houstonherald.com
SUMMARY:First Responders meeting and training
DESCRIPTION:First Responders meeting and training is 6-8:00pm at the Roby Fire Station.
URL:https://houstonherald.com/event/first-responders-meeting-and-training/2026-03-07/
LOCATION:Roby Fire Dept\, 12248 MO-32\, Roby\, MO\, 65557
END:VEVENT
BEGIN:VEVENT
DTSTART;TZID=America/Chicago:20260214T180000
DTEND;TZID=America/Chicago:20260214T180000
DTSTAMP:20260420T110748
CREATED:20200709T185315Z
LAST-MODIFIED:20200721T135406Z
UID:10007176-1771092000-1771092000@houstonherald.com
SUMMARY:Roby Fire Department Firefighters meeting & training
DESCRIPTION:Roby Fire Department firefighters meeting and training is at 6:oopm at the Roby station.
URL:https://houstonherald.com/event/roby-fire-department-meeting/2026-02-14/
LOCATION:Roby Fire Dept\, 12248 MO-32\, Roby\, MO\, 65557
END:VEVENT
BEGIN:VEVENT
DTSTART;TZID=America/Chicago:20260209T183000
DTEND;TZID=America/Chicago:20260209T183000
DTSTAMP:20260420T110748
CREATED:20200709T193900Z
LAST-MODIFIED:20200721T135150Z
UID:10007687-1770661800-1770661800@houstonherald.com
SUMMARY:Roby Fire Department board meeting
DESCRIPTION:Roby Fire Department board meeting at 6:30pm at the Roby station.
URL:https://houstonherald.com/event/roby-fire-department-board-meeting/2026-02-09/
LOCATION:Roby Fire Dept\, 12248 MO-32\, Roby\, MO\, 65557
END:VEVENT
BEGIN:VEVENT
DTSTART;TZID=America/Chicago:20260207T180000
DTEND;TZID=America/Chicago:20260207T200000
DTSTAMP:20260420T110748
CREATED:20200713T200202Z
LAST-MODIFIED:20200721T135119Z
UID:10009376-1770487200-1770494400@houstonherald.com
SUMMARY:First Responders meeting and training
DESCRIPTION:First Responders meeting and training is 6-8:00pm at the Roby Fire Station.
URL:https://houstonherald.com/event/first-responders-meeting-and-training/2026-02-07/
LOCATION:Roby Fire Dept\, 12248 MO-32\, Roby\, MO\, 65557
END:VEVENT
BEGIN:VEVENT
DTSTART;TZID=America/Chicago:20260112T183000
DTEND;TZID=America/Chicago:20260112T183000
DTSTAMP:20260420T110748
CREATED:20200709T193900Z
LAST-MODIFIED:20200721T135150Z
UID:10007686-1768242600-1768242600@houstonherald.com
SUMMARY:Roby Fire Department board meeting
DESCRIPTION:Roby Fire Department board meeting at 6:30pm at the Roby station.
URL:https://houstonherald.com/event/roby-fire-department-board-meeting/2026-01-12/
LOCATION:Roby Fire Dept\, 12248 MO-32\, Roby\, MO\, 65557
END:VEVENT
BEGIN:VEVENT
DTSTART;TZID=America/Chicago:20260110T180000
DTEND;TZID=America/Chicago:20260110T180000
DTSTAMP:20260420T110748
CREATED:20200709T185315Z
LAST-MODIFIED:20200721T135406Z
UID:10007175-1768068000-1768068000@houstonherald.com
SUMMARY:Roby Fire Department Firefighters meeting & training
DESCRIPTION:Roby Fire Department firefighters meeting and training is at 6:oopm at the Roby station.
URL:https://houstonherald.com/event/roby-fire-department-meeting/2026-01-10/
LOCATION:Roby Fire Dept\, 12248 MO-32\, Roby\, MO\, 65557
END:VEVENT
BEGIN:VEVENT
DTSTART;TZID=America/Chicago:20260103T180000
DTEND;TZID=America/Chicago:20260103T200000
DTSTAMP:20260420T110748
CREATED:20200713T200202Z
LAST-MODIFIED:20200721T135119Z
UID:10009375-1767463200-1767470400@houstonherald.com
SUMMARY:First Responders meeting and training
DESCRIPTION:First Responders meeting and training is 6-8:00pm at the Roby Fire Station.
URL:https://houstonherald.com/event/first-responders-meeting-and-training/2026-01-03/
LOCATION:Roby Fire Dept\, 12248 MO-32\, Roby\, MO\, 65557
END:VEVENT
BEGIN:VEVENT
DTSTART;TZID=America/Chicago:20251213T180000
DTEND;TZID=America/Chicago:20251213T180000
DTSTAMP:20260420T110748
CREATED:20200709T185315Z
LAST-MODIFIED:20200721T135406Z
UID:10007174-1765648800-1765648800@houstonherald.com
SUMMARY:Roby Fire Department Firefighters meeting & training
DESCRIPTION:Roby Fire Department firefighters meeting and training is at 6:oopm at the Roby station.
URL:https://houstonherald.com/event/roby-fire-department-meeting/2025-12-13/
LOCATION:Roby Fire Dept\, 12248 MO-32\, Roby\, MO\, 65557
END:VEVENT
BEGIN:VEVENT
DTSTART;TZID=America/Chicago:20251208T183000
DTEND;TZID=America/Chicago:20251208T183000
DTSTAMP:20260420T110748
CREATED:20200709T193900Z
LAST-MODIFIED:20200721T135150Z
UID:10007685-1765218600-1765218600@houstonherald.com
SUMMARY:Roby Fire Department board meeting
DESCRIPTION:Roby Fire Department board meeting at 6:30pm at the Roby station.
URL:https://houstonherald.com/event/roby-fire-department-board-meeting/2025-12-08/
LOCATION:Roby Fire Dept\, 12248 MO-32\, Roby\, MO\, 65557
END:VEVENT
BEGIN:VEVENT
DTSTART;TZID=America/Chicago:20251206T180000
DTEND;TZID=America/Chicago:20251206T200000
DTSTAMP:20260420T110748
CREATED:20200713T200202Z
LAST-MODIFIED:20200721T135119Z
UID:10009374-1765044000-1765051200@houstonherald.com
SUMMARY:First Responders meeting and training
DESCRIPTION:First Responders meeting and training is 6-8:00pm at the Roby Fire Station.
URL:https://houstonherald.com/event/first-responders-meeting-and-training/2025-12-06/
LOCATION:Roby Fire Dept\, 12248 MO-32\, Roby\, MO\, 65557
END:VEVENT
BEGIN:VEVENT
DTSTART;TZID=America/Chicago:20251110T183000
DTEND;TZID=America/Chicago:20251110T183000
DTSTAMP:20260420T110748
CREATED:20200709T193900Z
LAST-MODIFIED:20200721T135150Z
UID:10007684-1762799400-1762799400@houstonherald.com
SUMMARY:Roby Fire Department board meeting
DESCRIPTION:Roby Fire Department board meeting at 6:30pm at the Roby station.
URL:https://houstonherald.com/event/roby-fire-department-board-meeting/2025-11-10/
LOCATION:Roby Fire Dept\, 12248 MO-32\, Roby\, MO\, 65557
END:VEVENT
BEGIN:VEVENT
DTSTART;TZID=America/Chicago:20251108T180000
DTEND;TZID=America/Chicago:20251108T180000
DTSTAMP:20260420T110748
CREATED:20200709T185315Z
LAST-MODIFIED:20200721T135406Z
UID:10007173-1762624800-1762624800@houstonherald.com
SUMMARY:Roby Fire Department Firefighters meeting & training
DESCRIPTION:Roby Fire Department firefighters meeting and training is at 6:oopm at the Roby station.
URL:https://houstonherald.com/event/roby-fire-department-meeting/2025-11-08/
LOCATION:Roby Fire Dept\, 12248 MO-32\, Roby\, MO\, 65557
END:VEVENT
BEGIN:VEVENT
DTSTART;TZID=America/Chicago:20251101T180000
DTEND;TZID=America/Chicago:20251101T200000
DTSTAMP:20260420T110748
CREATED:20200713T200202Z
LAST-MODIFIED:20200721T135119Z
UID:10009373-1762020000-1762027200@houstonherald.com
SUMMARY:First Responders meeting and training
DESCRIPTION:First Responders meeting and training is 6-8:00pm at the Roby Fire Station.
URL:https://houstonherald.com/event/first-responders-meeting-and-training/2025-11-01/
LOCATION:Roby Fire Dept\, 12248 MO-32\, Roby\, MO\, 65557
END:VEVENT
BEGIN:VEVENT
DTSTART;TZID=America/Chicago:20251013T183000
DTEND;TZID=America/Chicago:20251013T183000
DTSTAMP:20260420T110748
CREATED:20200709T193900Z
LAST-MODIFIED:20200721T135150Z
UID:10007683-1760380200-1760380200@houstonherald.com
SUMMARY:Roby Fire Department board meeting
DESCRIPTION:Roby Fire Department board meeting at 6:30pm at the Roby station.
URL:https://houstonherald.com/event/roby-fire-department-board-meeting/2025-10-13/
LOCATION:Roby Fire Dept\, 12248 MO-32\, Roby\, MO\, 65557
END:VEVENT
BEGIN:VEVENT
DTSTART;TZID=America/Chicago:20251011T180000
DTEND;TZID=America/Chicago:20251011T180000
DTSTAMP:20260420T110748
CREATED:20200709T185315Z
LAST-MODIFIED:20200721T135406Z
UID:10007172-1760205600-1760205600@houstonherald.com
SUMMARY:Roby Fire Department Firefighters meeting & training
DESCRIPTION:Roby Fire Department firefighters meeting and training is at 6:oopm at the Roby station.
URL:https://houstonherald.com/event/roby-fire-department-meeting/2025-10-11/
LOCATION:Roby Fire Dept\, 12248 MO-32\, Roby\, MO\, 65557
END:VEVENT
BEGIN:VEVENT
DTSTART;TZID=America/Chicago:20251004T180000
DTEND;TZID=America/Chicago:20251004T200000
DTSTAMP:20260420T110748
CREATED:20200713T200202Z
LAST-MODIFIED:20200721T135119Z
UID:10009372-1759600800-1759608000@houstonherald.com
SUMMARY:First Responders meeting and training
DESCRIPTION:First Responders meeting and training is 6-8:00pm at the Roby Fire Station.
URL:https://houstonherald.com/event/first-responders-meeting-and-training/2025-10-04/
LOCATION:Roby Fire Dept\, 12248 MO-32\, Roby\, MO\, 65557
END:VEVENT
BEGIN:VEVENT
DTSTART;TZID=America/Chicago:20250913T180000
DTEND;TZID=America/Chicago:20250913T180000
DTSTAMP:20260420T110748
CREATED:20200709T185315Z
LAST-MODIFIED:20200721T135406Z
UID:10007171-1757786400-1757786400@houstonherald.com
SUMMARY:Roby Fire Department Firefighters meeting & training
DESCRIPTION:Roby Fire Department firefighters meeting and training is at 6:oopm at the Roby station.
URL:https://houstonherald.com/event/roby-fire-department-meeting/2025-09-13/
LOCATION:Roby Fire Dept\, 12248 MO-32\, Roby\, MO\, 65557
END:VEVENT
BEGIN:VEVENT
DTSTART;TZID=America/Chicago:20250908T183000
DTEND;TZID=America/Chicago:20250908T183000
DTSTAMP:20260420T110748
CREATED:20200709T193900Z
LAST-MODIFIED:20200721T135150Z
UID:10007682-1757356200-1757356200@houstonherald.com
SUMMARY:Roby Fire Department board meeting
DESCRIPTION:Roby Fire Department board meeting at 6:30pm at the Roby station.
URL:https://houstonherald.com/event/roby-fire-department-board-meeting/2025-09-08/
LOCATION:Roby Fire Dept\, 12248 MO-32\, Roby\, MO\, 65557
END:VEVENT
BEGIN:VEVENT
DTSTART;TZID=America/Chicago:20250906T180000
DTEND;TZID=America/Chicago:20250906T200000
DTSTAMP:20260420T110748
CREATED:20200713T200202Z
LAST-MODIFIED:20200721T135119Z
UID:10009371-1757181600-1757188800@houstonherald.com
SUMMARY:First Responders meeting and training
DESCRIPTION:First Responders meeting and training is 6-8:00pm at the Roby Fire Station.
URL:https://houstonherald.com/event/first-responders-meeting-and-training/2025-09-06/
LOCATION:Roby Fire Dept\, 12248 MO-32\, Roby\, MO\, 65557
END:VEVENT
BEGIN:VEVENT
DTSTART;TZID=America/Chicago:20250811T183000
DTEND;TZID=America/Chicago:20250811T183000
DTSTAMP:20260420T110748
CREATED:20200709T193900Z
LAST-MODIFIED:20200721T135150Z
UID:10007681-1754937000-1754937000@houstonherald.com
SUMMARY:Roby Fire Department board meeting
DESCRIPTION:Roby Fire Department board meeting at 6:30pm at the Roby station.
URL:https://houstonherald.com/event/roby-fire-department-board-meeting/2025-08-11/
LOCATION:Roby Fire Dept\, 12248 MO-32\, Roby\, MO\, 65557
END:VEVENT
BEGIN:VEVENT
DTSTART;TZID=America/Chicago:20250809T180000
DTEND;TZID=America/Chicago:20250809T180000
DTSTAMP:20260420T110748
CREATED:20200709T185315Z
LAST-MODIFIED:20200721T135406Z
UID:10007170-1754762400-1754762400@houstonherald.com
SUMMARY:Roby Fire Department Firefighters meeting & training
DESCRIPTION:Roby Fire Department firefighters meeting and training is at 6:oopm at the Roby station.
URL:https://houstonherald.com/event/roby-fire-department-meeting/2025-08-09/
LOCATION:Roby Fire Dept\, 12248 MO-32\, Roby\, MO\, 65557
END:VEVENT
BEGIN:VEVENT
DTSTART;TZID=America/Chicago:20250802T180000
DTEND;TZID=America/Chicago:20250802T200000
DTSTAMP:20260420T110748
CREATED:20200713T200202Z
LAST-MODIFIED:20200721T135119Z
UID:10009370-1754157600-1754164800@houstonherald.com
SUMMARY:First Responders meeting and training
DESCRIPTION:First Responders meeting and training is 6-8:00pm at the Roby Fire Station.
URL:https://houstonherald.com/event/first-responders-meeting-and-training/2025-08-02/
LOCATION:Roby Fire Dept\, 12248 MO-32\, Roby\, MO\, 65557
END:VEVENT
BEGIN:VEVENT
DTSTART;TZID=America/Chicago:20250714T183000
DTEND;TZID=America/Chicago:20250714T183000
DTSTAMP:20260420T110748
CREATED:20200709T193900Z
LAST-MODIFIED:20200721T135150Z
UID:10007680-1752517800-1752517800@houstonherald.com
SUMMARY:Roby Fire Department board meeting
DESCRIPTION:Roby Fire Department board meeting at 6:30pm at the Roby station.
URL:https://houstonherald.com/event/roby-fire-department-board-meeting/2025-07-14/
LOCATION:Roby Fire Dept\, 12248 MO-32\, Roby\, MO\, 65557
END:VEVENT
BEGIN:VEVENT
DTSTART;TZID=America/Chicago:20250712T180000
DTEND;TZID=America/Chicago:20250712T180000
DTSTAMP:20260420T110748
CREATED:20200709T185315Z
LAST-MODIFIED:20200721T135406Z
UID:10007169-1752343200-1752343200@houstonherald.com
SUMMARY:Roby Fire Department Firefighters meeting & training
DESCRIPTION:Roby Fire Department firefighters meeting and training is at 6:oopm at the Roby station.
URL:https://houstonherald.com/event/roby-fire-department-meeting/2025-07-12/
LOCATION:Roby Fire Dept\, 12248 MO-32\, Roby\, MO\, 65557
END:VEVENT
BEGIN:VEVENT
DTSTART;TZID=America/Chicago:20250705T180000
DTEND;TZID=America/Chicago:20250705T200000
DTSTAMP:20260420T110748
CREATED:20200713T200202Z
LAST-MODIFIED:20200721T135119Z
UID:10009369-1751738400-1751745600@houstonherald.com
SUMMARY:First Responders meeting and training
DESCRIPTION:First Responders meeting and training is 6-8:00pm at the Roby Fire Station.
URL:https://houstonherald.com/event/first-responders-meeting-and-training/2025-07-05/
LOCATION:Roby Fire Dept\, 12248 MO-32\, Roby\, MO\, 65557
END:VEVENT
END:VCALENDAR