BEGIN:VCALENDAR
VERSION:2.0
PRODID:-//Houston Herald - ECPv6.15.20//NONSGML v1.0//EN
CALSCALE:GREGORIAN
METHOD:PUBLISH
X-WR-CALNAME:Houston Herald
X-ORIGINAL-URL:https://houstonherald.com
X-WR-CALDESC:Events for Houston Herald
REFRESH-INTERVAL;VALUE=DURATION:PT1H
X-Robots-Tag:noindex
X-PUBLISHED-TTL:PT1H
BEGIN:VTIMEZONE
TZID:America/Chicago
BEGIN:DAYLIGHT
TZOFFSETFROM:-0600
TZOFFSETTO:-0500
TZNAME:CDT
DTSTART:20230312T080000
END:DAYLIGHT
BEGIN:STANDARD
TZOFFSETFROM:-0500
TZOFFSETTO:-0600
TZNAME:CST
DTSTART:20231105T070000
END:STANDARD
BEGIN:DAYLIGHT
TZOFFSETFROM:-0600
TZOFFSETTO:-0500
TZNAME:CDT
DTSTART:20240310T080000
END:DAYLIGHT
BEGIN:STANDARD
TZOFFSETFROM:-0500
TZOFFSETTO:-0600
TZNAME:CST
DTSTART:20241103T070000
END:STANDARD
BEGIN:DAYLIGHT
TZOFFSETFROM:-0600
TZOFFSETTO:-0500
TZNAME:CDT
DTSTART:20250309T080000
END:DAYLIGHT
BEGIN:STANDARD
TZOFFSETFROM:-0500
TZOFFSETTO:-0600
TZNAME:CST
DTSTART:20251102T070000
END:STANDARD
END:VTIMEZONE
BEGIN:VEVENT
DTSTART;TZID=America/Chicago:20241214T180000
DTEND;TZID=America/Chicago:20241214T180000
DTSTAMP:20260423T231200
CREATED:20200709T185315Z
LAST-MODIFIED:20200721T135406Z
UID:10007162-1734199200-1734199200@houstonherald.com
SUMMARY:Roby Fire Department Firefighters meeting & training
DESCRIPTION:Roby Fire Department firefighters meeting and training is at 6:oopm at the Roby station.
URL:https://houstonherald.com/event/roby-fire-department-meeting/2024-12-14/
LOCATION:Roby Fire Dept\, 12248 MO-32\, Roby\, MO\, 65557
END:VEVENT
BEGIN:VEVENT
DTSTART;TZID=America/Chicago:20241209T183000
DTEND;TZID=America/Chicago:20241209T183000
DTSTAMP:20260423T231200
CREATED:20200709T193900Z
LAST-MODIFIED:20200721T135150Z
UID:10007673-1733769000-1733769000@houstonherald.com
SUMMARY:Roby Fire Department board meeting
DESCRIPTION:Roby Fire Department board meeting at 6:30pm at the Roby station.
URL:https://houstonherald.com/event/roby-fire-department-board-meeting/2024-12-09/
LOCATION:Roby Fire Dept\, 12248 MO-32\, Roby\, MO\, 65557
END:VEVENT
BEGIN:VEVENT
DTSTART;TZID=America/Chicago:20241207T180000
DTEND;TZID=America/Chicago:20241207T200000
DTSTAMP:20260423T231200
CREATED:20200713T200202Z
LAST-MODIFIED:20200721T135119Z
UID:10009362-1733594400-1733601600@houstonherald.com
SUMMARY:First Responders meeting and training
DESCRIPTION:First Responders meeting and training is 6-8:00pm at the Roby Fire Station.
URL:https://houstonherald.com/event/first-responders-meeting-and-training/2024-12-07/
LOCATION:Roby Fire Dept\, 12248 MO-32\, Roby\, MO\, 65557
END:VEVENT
BEGIN:VEVENT
DTSTART;TZID=America/Chicago:20241111T183000
DTEND;TZID=America/Chicago:20241111T183000
DTSTAMP:20260423T231200
CREATED:20200709T193900Z
LAST-MODIFIED:20200721T135150Z
UID:10007672-1731349800-1731349800@houstonherald.com
SUMMARY:Roby Fire Department board meeting
DESCRIPTION:Roby Fire Department board meeting at 6:30pm at the Roby station.
URL:https://houstonherald.com/event/roby-fire-department-board-meeting/2024-11-11/
LOCATION:Roby Fire Dept\, 12248 MO-32\, Roby\, MO\, 65557
END:VEVENT
BEGIN:VEVENT
DTSTART;TZID=America/Chicago:20241109T180000
DTEND;TZID=America/Chicago:20241109T180000
DTSTAMP:20260423T231200
CREATED:20200709T185315Z
LAST-MODIFIED:20200721T135406Z
UID:10007161-1731175200-1731175200@houstonherald.com
SUMMARY:Roby Fire Department Firefighters meeting & training
DESCRIPTION:Roby Fire Department firefighters meeting and training is at 6:oopm at the Roby station.
URL:https://houstonherald.com/event/roby-fire-department-meeting/2024-11-09/
LOCATION:Roby Fire Dept\, 12248 MO-32\, Roby\, MO\, 65557
END:VEVENT
BEGIN:VEVENT
DTSTART;TZID=America/Chicago:20241102T180000
DTEND;TZID=America/Chicago:20241102T200000
DTSTAMP:20260423T231200
CREATED:20200713T200202Z
LAST-MODIFIED:20200721T135119Z
UID:10009361-1730570400-1730577600@houstonherald.com
SUMMARY:First Responders meeting and training
DESCRIPTION:First Responders meeting and training is 6-8:00pm at the Roby Fire Station.
URL:https://houstonherald.com/event/first-responders-meeting-and-training/2024-11-02/
LOCATION:Roby Fire Dept\, 12248 MO-32\, Roby\, MO\, 65557
END:VEVENT
BEGIN:VEVENT
DTSTART;TZID=America/Chicago:20241014T183000
DTEND;TZID=America/Chicago:20241014T183000
DTSTAMP:20260423T231200
CREATED:20200709T193900Z
LAST-MODIFIED:20200721T135150Z
UID:10007671-1728930600-1728930600@houstonherald.com
SUMMARY:Roby Fire Department board meeting
DESCRIPTION:Roby Fire Department board meeting at 6:30pm at the Roby station.
URL:https://houstonherald.com/event/roby-fire-department-board-meeting/2024-10-14/
LOCATION:Roby Fire Dept\, 12248 MO-32\, Roby\, MO\, 65557
END:VEVENT
BEGIN:VEVENT
DTSTART;TZID=America/Chicago:20241012T180000
DTEND;TZID=America/Chicago:20241012T180000
DTSTAMP:20260423T231200
CREATED:20200709T185315Z
LAST-MODIFIED:20200721T135406Z
UID:10007160-1728756000-1728756000@houstonherald.com
SUMMARY:Roby Fire Department Firefighters meeting & training
DESCRIPTION:Roby Fire Department firefighters meeting and training is at 6:oopm at the Roby station.
URL:https://houstonherald.com/event/roby-fire-department-meeting/2024-10-12/
LOCATION:Roby Fire Dept\, 12248 MO-32\, Roby\, MO\, 65557
END:VEVENT
BEGIN:VEVENT
DTSTART;TZID=America/Chicago:20241005T180000
DTEND;TZID=America/Chicago:20241005T200000
DTSTAMP:20260423T231200
CREATED:20200713T200202Z
LAST-MODIFIED:20200721T135119Z
UID:10009360-1728151200-1728158400@houstonherald.com
SUMMARY:First Responders meeting and training
DESCRIPTION:First Responders meeting and training is 6-8:00pm at the Roby Fire Station.
URL:https://houstonherald.com/event/first-responders-meeting-and-training/2024-10-05/
LOCATION:Roby Fire Dept\, 12248 MO-32\, Roby\, MO\, 65557
END:VEVENT
BEGIN:VEVENT
DTSTART;TZID=America/Chicago:20240914T180000
DTEND;TZID=America/Chicago:20240914T180000
DTSTAMP:20260423T231200
CREATED:20200709T185315Z
LAST-MODIFIED:20200721T135406Z
UID:10007159-1726336800-1726336800@houstonherald.com
SUMMARY:Roby Fire Department Firefighters meeting & training
DESCRIPTION:Roby Fire Department firefighters meeting and training is at 6:oopm at the Roby station.
URL:https://houstonherald.com/event/roby-fire-department-meeting/2024-09-14/
LOCATION:Roby Fire Dept\, 12248 MO-32\, Roby\, MO\, 65557
END:VEVENT
BEGIN:VEVENT
DTSTART;TZID=America/Chicago:20240909T183000
DTEND;TZID=America/Chicago:20240909T183000
DTSTAMP:20260423T231200
CREATED:20200709T193900Z
LAST-MODIFIED:20200721T135150Z
UID:10007670-1725906600-1725906600@houstonherald.com
SUMMARY:Roby Fire Department board meeting
DESCRIPTION:Roby Fire Department board meeting at 6:30pm at the Roby station.
URL:https://houstonherald.com/event/roby-fire-department-board-meeting/2024-09-09/
LOCATION:Roby Fire Dept\, 12248 MO-32\, Roby\, MO\, 65557
END:VEVENT
BEGIN:VEVENT
DTSTART;TZID=America/Chicago:20240907T180000
DTEND;TZID=America/Chicago:20240907T200000
DTSTAMP:20260423T231200
CREATED:20200713T200202Z
LAST-MODIFIED:20200721T135119Z
UID:10009359-1725732000-1725739200@houstonherald.com
SUMMARY:First Responders meeting and training
DESCRIPTION:First Responders meeting and training is 6-8:00pm at the Roby Fire Station.
URL:https://houstonherald.com/event/first-responders-meeting-and-training/2024-09-07/
LOCATION:Roby Fire Dept\, 12248 MO-32\, Roby\, MO\, 65557
END:VEVENT
BEGIN:VEVENT
DTSTART;TZID=America/Chicago:20240812T183000
DTEND;TZID=America/Chicago:20240812T183000
DTSTAMP:20260423T231200
CREATED:20200709T193900Z
LAST-MODIFIED:20200721T135150Z
UID:10007669-1723487400-1723487400@houstonherald.com
SUMMARY:Roby Fire Department board meeting
DESCRIPTION:Roby Fire Department board meeting at 6:30pm at the Roby station.
URL:https://houstonherald.com/event/roby-fire-department-board-meeting/2024-08-12/
LOCATION:Roby Fire Dept\, 12248 MO-32\, Roby\, MO\, 65557
END:VEVENT
BEGIN:VEVENT
DTSTART;TZID=America/Chicago:20240810T180000
DTEND;TZID=America/Chicago:20240810T180000
DTSTAMP:20260423T231200
CREATED:20200709T185315Z
LAST-MODIFIED:20200721T135406Z
UID:10007158-1723312800-1723312800@houstonherald.com
SUMMARY:Roby Fire Department Firefighters meeting & training
DESCRIPTION:Roby Fire Department firefighters meeting and training is at 6:oopm at the Roby station.
URL:https://houstonherald.com/event/roby-fire-department-meeting/2024-08-10/
LOCATION:Roby Fire Dept\, 12248 MO-32\, Roby\, MO\, 65557
END:VEVENT
BEGIN:VEVENT
DTSTART;TZID=America/Chicago:20240803T180000
DTEND;TZID=America/Chicago:20240803T200000
DTSTAMP:20260423T231200
CREATED:20200713T200202Z
LAST-MODIFIED:20200721T135119Z
UID:10009358-1722708000-1722715200@houstonherald.com
SUMMARY:First Responders meeting and training
DESCRIPTION:First Responders meeting and training is 6-8:00pm at the Roby Fire Station.
URL:https://houstonherald.com/event/first-responders-meeting-and-training/2024-08-03/
LOCATION:Roby Fire Dept\, 12248 MO-32\, Roby\, MO\, 65557
END:VEVENT
BEGIN:VEVENT
DTSTART;TZID=America/Chicago:20240713T180000
DTEND;TZID=America/Chicago:20240713T180000
DTSTAMP:20260423T231200
CREATED:20200709T185315Z
LAST-MODIFIED:20200721T135406Z
UID:10007157-1720893600-1720893600@houstonherald.com
SUMMARY:Roby Fire Department Firefighters meeting & training
DESCRIPTION:Roby Fire Department firefighters meeting and training is at 6:oopm at the Roby station.
URL:https://houstonherald.com/event/roby-fire-department-meeting/2024-07-13/
LOCATION:Roby Fire Dept\, 12248 MO-32\, Roby\, MO\, 65557
END:VEVENT
BEGIN:VEVENT
DTSTART;TZID=America/Chicago:20240708T183000
DTEND;TZID=America/Chicago:20240708T183000
DTSTAMP:20260423T231200
CREATED:20200709T193900Z
LAST-MODIFIED:20200721T135150Z
UID:10007668-1720463400-1720463400@houstonherald.com
SUMMARY:Roby Fire Department board meeting
DESCRIPTION:Roby Fire Department board meeting at 6:30pm at the Roby station.
URL:https://houstonherald.com/event/roby-fire-department-board-meeting/2024-07-08/
LOCATION:Roby Fire Dept\, 12248 MO-32\, Roby\, MO\, 65557
END:VEVENT
BEGIN:VEVENT
DTSTART;TZID=America/Chicago:20240706T180000
DTEND;TZID=America/Chicago:20240706T200000
DTSTAMP:20260423T231200
CREATED:20200713T200202Z
LAST-MODIFIED:20200721T135119Z
UID:10009357-1720288800-1720296000@houstonherald.com
SUMMARY:First Responders meeting and training
DESCRIPTION:First Responders meeting and training is 6-8:00pm at the Roby Fire Station.
URL:https://houstonherald.com/event/first-responders-meeting-and-training/2024-07-06/
LOCATION:Roby Fire Dept\, 12248 MO-32\, Roby\, MO\, 65557
END:VEVENT
BEGIN:VEVENT
DTSTART;TZID=America/Chicago:20240610T183000
DTEND;TZID=America/Chicago:20240610T183000
DTSTAMP:20260423T231200
CREATED:20200709T193900Z
LAST-MODIFIED:20200721T135150Z
UID:10007667-1718044200-1718044200@houstonherald.com
SUMMARY:Roby Fire Department board meeting
DESCRIPTION:Roby Fire Department board meeting at 6:30pm at the Roby station.
URL:https://houstonherald.com/event/roby-fire-department-board-meeting/2024-06-10/
LOCATION:Roby Fire Dept\, 12248 MO-32\, Roby\, MO\, 65557
END:VEVENT
BEGIN:VEVENT
DTSTART;TZID=America/Chicago:20240608T180000
DTEND;TZID=America/Chicago:20240608T180000
DTSTAMP:20260423T231200
CREATED:20200709T185315Z
LAST-MODIFIED:20200721T135406Z
UID:10007156-1717869600-1717869600@houstonherald.com
SUMMARY:Roby Fire Department Firefighters meeting & training
DESCRIPTION:Roby Fire Department firefighters meeting and training is at 6:oopm at the Roby station.
URL:https://houstonherald.com/event/roby-fire-department-meeting/2024-06-08/
LOCATION:Roby Fire Dept\, 12248 MO-32\, Roby\, MO\, 65557
END:VEVENT
BEGIN:VEVENT
DTSTART;TZID=America/Chicago:20240601T180000
DTEND;TZID=America/Chicago:20240601T200000
DTSTAMP:20260423T231200
CREATED:20200713T200202Z
LAST-MODIFIED:20200721T135119Z
UID:10009356-1717264800-1717272000@houstonherald.com
SUMMARY:First Responders meeting and training
DESCRIPTION:First Responders meeting and training is 6-8:00pm at the Roby Fire Station.
URL:https://houstonherald.com/event/first-responders-meeting-and-training/2024-06-01/
LOCATION:Roby Fire Dept\, 12248 MO-32\, Roby\, MO\, 65557
END:VEVENT
BEGIN:VEVENT
DTSTART;TZID=America/Chicago:20240513T183000
DTEND;TZID=America/Chicago:20240513T183000
DTSTAMP:20260423T231200
CREATED:20200709T193900Z
LAST-MODIFIED:20200721T135150Z
UID:10007666-1715625000-1715625000@houstonherald.com
SUMMARY:Roby Fire Department board meeting
DESCRIPTION:Roby Fire Department board meeting at 6:30pm at the Roby station.
URL:https://houstonherald.com/event/roby-fire-department-board-meeting/2024-05-13/
LOCATION:Roby Fire Dept\, 12248 MO-32\, Roby\, MO\, 65557
END:VEVENT
BEGIN:VEVENT
DTSTART;TZID=America/Chicago:20240511T180000
DTEND;TZID=America/Chicago:20240511T180000
DTSTAMP:20260423T231200
CREATED:20200709T185315Z
LAST-MODIFIED:20200721T135406Z
UID:10007155-1715450400-1715450400@houstonherald.com
SUMMARY:Roby Fire Department Firefighters meeting & training
DESCRIPTION:Roby Fire Department firefighters meeting and training is at 6:oopm at the Roby station.
URL:https://houstonherald.com/event/roby-fire-department-meeting/2024-05-11/
LOCATION:Roby Fire Dept\, 12248 MO-32\, Roby\, MO\, 65557
END:VEVENT
BEGIN:VEVENT
DTSTART;TZID=America/Chicago:20240504T180000
DTEND;TZID=America/Chicago:20240504T200000
DTSTAMP:20260423T231200
CREATED:20200713T200202Z
LAST-MODIFIED:20200721T135119Z
UID:10009355-1714845600-1714852800@houstonherald.com
SUMMARY:First Responders meeting and training
DESCRIPTION:First Responders meeting and training is 6-8:00pm at the Roby Fire Station.
URL:https://houstonherald.com/event/first-responders-meeting-and-training/2024-05-04/
LOCATION:Roby Fire Dept\, 12248 MO-32\, Roby\, MO\, 65557
END:VEVENT
BEGIN:VEVENT
DTSTART;TZID=America/Chicago:20240413T180000
DTEND;TZID=America/Chicago:20240413T180000
DTSTAMP:20260423T231200
CREATED:20200709T185315Z
LAST-MODIFIED:20200721T135406Z
UID:10007154-1713031200-1713031200@houstonherald.com
SUMMARY:Roby Fire Department Firefighters meeting & training
DESCRIPTION:Roby Fire Department firefighters meeting and training is at 6:oopm at the Roby station.
URL:https://houstonherald.com/event/roby-fire-department-meeting/2024-04-13/
LOCATION:Roby Fire Dept\, 12248 MO-32\, Roby\, MO\, 65557
END:VEVENT
BEGIN:VEVENT
DTSTART;TZID=America/Chicago:20240408T183000
DTEND;TZID=America/Chicago:20240408T183000
DTSTAMP:20260423T231200
CREATED:20200709T193900Z
LAST-MODIFIED:20200721T135150Z
UID:10007665-1712601000-1712601000@houstonherald.com
SUMMARY:Roby Fire Department board meeting
DESCRIPTION:Roby Fire Department board meeting at 6:30pm at the Roby station.
URL:https://houstonherald.com/event/roby-fire-department-board-meeting/2024-04-08/
LOCATION:Roby Fire Dept\, 12248 MO-32\, Roby\, MO\, 65557
END:VEVENT
BEGIN:VEVENT
DTSTART;TZID=America/Chicago:20240406T180000
DTEND;TZID=America/Chicago:20240406T200000
DTSTAMP:20260423T231200
CREATED:20200713T200202Z
LAST-MODIFIED:20200721T135119Z
UID:10009354-1712426400-1712433600@houstonherald.com
SUMMARY:First Responders meeting and training
DESCRIPTION:First Responders meeting and training is 6-8:00pm at the Roby Fire Station.
URL:https://houstonherald.com/event/first-responders-meeting-and-training/2024-04-06/
LOCATION:Roby Fire Dept\, 12248 MO-32\, Roby\, MO\, 65557
END:VEVENT
BEGIN:VEVENT
DTSTART;TZID=America/Chicago:20240311T183000
DTEND;TZID=America/Chicago:20240311T183000
DTSTAMP:20260423T231200
CREATED:20200709T193900Z
LAST-MODIFIED:20200721T135150Z
UID:10007664-1710181800-1710181800@houstonherald.com
SUMMARY:Roby Fire Department board meeting
DESCRIPTION:Roby Fire Department board meeting at 6:30pm at the Roby station.
URL:https://houstonherald.com/event/roby-fire-department-board-meeting/2024-03-11/
LOCATION:Roby Fire Dept\, 12248 MO-32\, Roby\, MO\, 65557
END:VEVENT
BEGIN:VEVENT
DTSTART;TZID=America/Chicago:20240309T180000
DTEND;TZID=America/Chicago:20240309T180000
DTSTAMP:20260423T231200
CREATED:20200709T185315Z
LAST-MODIFIED:20200721T135406Z
UID:10007153-1710007200-1710007200@houstonherald.com
SUMMARY:Roby Fire Department Firefighters meeting & training
DESCRIPTION:Roby Fire Department firefighters meeting and training is at 6:oopm at the Roby station.
URL:https://houstonherald.com/event/roby-fire-department-meeting/2024-03-09/
LOCATION:Roby Fire Dept\, 12248 MO-32\, Roby\, MO\, 65557
END:VEVENT
BEGIN:VEVENT
DTSTART;TZID=America/Chicago:20240302T180000
DTEND;TZID=America/Chicago:20240302T200000
DTSTAMP:20260423T231200
CREATED:20200713T200202Z
LAST-MODIFIED:20200721T135119Z
UID:10009353-1709402400-1709409600@houstonherald.com
SUMMARY:First Responders meeting and training
DESCRIPTION:First Responders meeting and training is 6-8:00pm at the Roby Fire Station.
URL:https://houstonherald.com/event/first-responders-meeting-and-training/2024-03-02/
LOCATION:Roby Fire Dept\, 12248 MO-32\, Roby\, MO\, 65557
END:VEVENT
END:VCALENDAR