BEGIN:VCALENDAR
VERSION:2.0
PRODID:-//Houston Herald - ECPv6.15.20//NONSGML v1.0//EN
CALSCALE:GREGORIAN
METHOD:PUBLISH
X-WR-CALNAME:Houston Herald
X-ORIGINAL-URL:https://houstonherald.com
X-WR-CALDESC:Events for Houston Herald
REFRESH-INTERVAL;VALUE=DURATION:PT1H
X-Robots-Tag:noindex
X-PUBLISHED-TTL:PT1H
BEGIN:VTIMEZONE
TZID:America/Chicago
BEGIN:DAYLIGHT
TZOFFSETFROM:-0600
TZOFFSETTO:-0500
TZNAME:CDT
DTSTART:20200308T080000
END:DAYLIGHT
BEGIN:STANDARD
TZOFFSETFROM:-0500
TZOFFSETTO:-0600
TZNAME:CST
DTSTART:20201101T070000
END:STANDARD
BEGIN:DAYLIGHT
TZOFFSETFROM:-0600
TZOFFSETTO:-0500
TZNAME:CDT
DTSTART:20210314T080000
END:DAYLIGHT
BEGIN:STANDARD
TZOFFSETFROM:-0500
TZOFFSETTO:-0600
TZNAME:CST
DTSTART:20211107T070000
END:STANDARD
BEGIN:DAYLIGHT
TZOFFSETFROM:-0600
TZOFFSETTO:-0500
TZNAME:CDT
DTSTART:20220313T080000
END:DAYLIGHT
BEGIN:STANDARD
TZOFFSETFROM:-0500
TZOFFSETTO:-0600
TZNAME:CST
DTSTART:20221106T070000
END:STANDARD
BEGIN:DAYLIGHT
TZOFFSETFROM:-0600
TZOFFSETTO:-0500
TZNAME:CDT
DTSTART:20230312T080000
END:DAYLIGHT
BEGIN:STANDARD
TZOFFSETFROM:-0500
TZOFFSETTO:-0600
TZNAME:CST
DTSTART:20231105T070000
END:STANDARD
END:VTIMEZONE
BEGIN:VEVENT
DTSTART;TZID=America/Chicago:20220315T173000
DTEND;TZID=America/Chicago:20220315T190000
DTSTAMP:20260425T210702
CREATED:20220225T211643Z
LAST-MODIFIED:20220225T211643Z
UID:10006743-1647365400-1647370800@houstonherald.com
SUMMARY:Texas County Democratic Central Committee
DESCRIPTION:The March meeting of the Texas County Democratic Central Committee is Tuesday\, March 15\, in the meeting room of the lower level of the Texas County Administrative Center with pizza at 5:30 p.m. and the meeting starting at 6.
URL:https://houstonherald.com/event/texas-county-democratic-central-committee/
LOCATION:Texas County Administrative Center\, 519 N. Grand Ave.\, Houston\, MO\, 65483\, United States
END:VEVENT
BEGIN:VEVENT
DTSTART;TZID=America/Chicago:20211021T173000
DTEND;TZID=America/Chicago:20211021T173000
DTSTAMP:20260425T210702
CREATED:20211006T141054Z
LAST-MODIFIED:20211006T140559Z
UID:10006684-1634837400-1634837400@houstonherald.com
SUMMARY:Texas County Democratic Central Committee Meeting
DESCRIPTION:The monthly meeting of the Texas County Democratic Central Committee is Thursday\, Oct. 21\, starting with pizza at 5:30 and the meeting starting at 6 in the small meeting room on the lower level of the Texas County Administrative Center (across from the collector/treasurer office).
URL:https://houstonherald.com/event/texas-county-democratic-central-committee-meeting-2/
LOCATION:Texas County Administrative Center\, 519 N. Grand Ave.\, Houston\, MO\, 65483\, United States
ATTACH;FMTTYPE=image/jpeg:https://houstonherald.com/wp-content/uploads/2008/07/7cd07e58cc54c00fecd2780fc580d230-1.jpg
END:VEVENT
BEGIN:VEVENT
DTSTART;TZID=America/Chicago:20210812T173000
DTEND;TZID=America/Chicago:20210812T190000
DTSTAMP:20260425T210702
CREATED:20210804T194226Z
LAST-MODIFIED:20210804T194226Z
UID:10006682-1628789400-1628794800@houstonherald.com
SUMMARY:Texas County Democratic Central Committee Meeting
DESCRIPTION:The monthly meeting of the Texas County Democratic Central Committee is Thursday\, Aug. 12\, in the meeting room on the lower level of the Texas County Administrative Center on Grand Avenue in Houston.  Pizza will be served at 5:30 p.m.\, the meeting starts at 6.
URL:https://houstonherald.com/event/texas-county-democratic-central-committee-meeting/
LOCATION:Texas County Administrative Center\, 519 N. Grand Ave.\, Houston\, MO\, 65483\, United States
ATTACH;FMTTYPE=image/jpeg:https://houstonherald.com/wp-content/uploads/2021/08/dnc.jpg
END:VEVENT
END:VCALENDAR